Workbook

Sheet Установка скидки
M1: FALSE | N1: Цены в местной валюте
L2: Для отражения цен в местной валюте, установите галочку и укажите курс и НДС
L3: 1 руб. | M3: = | N3: 5.23 | O3: ед. мест. валюты | P3: НДС | Q3: 0.12
E6: от | F6: 46260
B7: В прайсе указаны рекомендованные розничные цены (РРЦ).
B8: =IF('Всп лист'!A2="без НДС","Цены указаны без НДС","Цены указаны с НДС") -> Цены указаны с НДС
B9: Установите согласованный размер скидки от РРЦ и получите цену закупки по вашим условиям
B11: Установить размер скидки | G11: 0

Sheet Всп лист
A2: с НДС | B2: =IF(A2="С НДС",1,IF(A2="без НДС",1.22)) -> 1
A3: =IF(A2="С НДС","С НДС в местной валюте","Без НДС в местной валюте") -> С НДС в местной валюте | B3: =IF(A2="С НДС",1+'Установка скидки'!Q3,1) -> 1.12 | C3: 1.22
B4: ='Установка скидки'!$N$3 -> 5.23
A7: =IF($A$2="С НДС","Цены указаны в руб. с НДС","Цены указаны в руб. без НДС") -> Цены указаны в руб. с НДС
A8: =IF($A$2="С НДС","Цены указазаны в местной валюте с НДС","Цены указазаны в местной валюте без НДС") -> Цены указазаны в местной валюте с НДС

Sheet Медь и аксессуары для бани
E1: Размер скидки | F1: ='Установка скидки'!$G$11 -> 0 | H1: =IF('Установка скидки'!$M$1=FALSE,'Всп лист'!$A$7,'Всп лист'!$A$8) -> Цены указаны в руб. с НДС
A7: Наименование | B7: Цена с НДС, руб./ шт. | E7: Наименование | F7: Цена с НДС, руб./шт.
A8: Черпак медный 0,3 л | B8: 4950 | E8: Черпак медный 0,3 л | F8: =IFERROR(IF('Установка скидки'!$M$1=FALSE,B8*(1-$F$1)/'Всп лист'!$B$2,ROUNDUP(B8*(1-$F$1)/'Всп лист'!$C$3*'Всп лист'!$B$3*'Всп лист'!$B$4,0)),"-") -> 4950
A9: Ковш медный 1,5 л | B9: 6650 | E9: Ковш медный 1,5 л | F9: =IFERROR(IF('Установка скидки'!$M$1=FALSE,B9*(1-$F$1)/'Всп лист'!$B$2,ROUNDUP(B9*(1-$F$1)/'Всп лист'!$C$3*'Всп лист'!$B$3*'Всп лист'!$B$4,0)),"-") -> 6650
A10: Ушат медный 5 л | B10: 12950 | E10: Ушат медный 5 л | F10: =IFERROR(IF('Установка скидки'!$M$1=FALSE,B10*(1-$F$1)/'Всп лист'!$B$2,ROUNDUP(B10*(1-$F$1)/'Всп лист'!$C$3*'Всп лист'!$B$3*'Всп лист'!$B$4,0)),"-") -> 12950
A11: Таз медный 12 л | B11: 19950 | E11: Таз медный 12 л | F11: =IFERROR(IF('Установка скидки'!$M$1=FALSE,B11*(1-$F$1)/'Всп лист'!$B$2,ROUNDUP(B11*(1-$F$1)/'Всп лист'!$C$3*'Всп лист'!$B$3*'Всп лист'!$B$4,0)),"-") -> 19950
A12: Шишки из нержавеющей стали для каменки | B12: 2500 | E12: Шишки из нержавеющей стали для каменки | F12: =IFERROR(IF('Установка скидки'!$M$1=FALSE,B12*(1-$F$1)/'Всп лист'!$B$2,ROUNDUP(B12*(1-$F$1)/'Всп лист'!$C$3*'Всп лист'!$B$3*'Всп лист'!$B$4,0)),"-") -> 2500
A13: Запарник для веников и трав для пароперегревателя ППШ | B13: 16500 | E13: Запарник для веников и трав для пароперегревателя ППШ | F13: =IFERROR(IF('Установка скидки'!$M$1=FALSE,B13*(1-$F$1)/'Всп лист'!$B$2,ROUNDUP(B13*(1-$F$1)/'Всп лист'!$C$3*'Всп лист'!$B$3*'Всп лист'!$B$4,0)),"-") -> 16500
A14: Веер для бани и сауны "ПаРус" | B14: 5400 | E14: Веер для бани и сауны "ПаРус" | F14: =IFERROR(IF('Установка скидки'!$M$1=FALSE,B14*(1-$F$1)/'Всп лист'!$B$2,ROUNDUP(B14*(1-$F$1)/'Всп лист'!$C$3*'Всп лист'!$B$3*'Всп лист'!$B$4,0)),"-") -> 5400

Sheet Адаптеры
AG1: Размер скидки | AH1: ='Установка скидки'!$G$11 -> 0 | AP1: =IF('Установка скидки'!$M$1=FALSE,'Всп лист'!$A$7,'Всп лист'!$A$8) -> Цены указаны в руб. с НДС
A5: Элемент дымохода: Адаптеры | AG5: Элемент дымохода: Адаптеры
A7: Наименование / Диаметр | B7: 80 | C7: 100 | D7: 110 | E7: 115 | F7: 120 | G7: 125 | H7: 130 | I7: 135 | J7: 150 | K7: 160 | L7: 180 | M7: 200 | N7: 250 | AG7: Наименование / Диаметр | AH7: 80 | AI7: 100 | AJ7: 110 | AK7: 115 | AL7: 120 | AM7: 125 | AN7: 130 | AO7: 135 | AP7: 150 | AQ7: 160 | AR7: 180 | AS7: 200 | AT7: 250
A8: Адаптер Моно М-М (430-0.5) | B8: 185 | C8: 220 | D8: - | E8: - | F8: - | G8: - | H8: - | I8: - | J8: - | K8: - | L8: - | M8: - | N8: - | AG8: Адаптер Моно М-М (430-0.5) | AH8: =IFERROR(IF('Установка скидки'!$M$1=FALSE,B8*(1-$AH$1)/'Всп лист'!$B$2,ROUNDUP(B8*(1-$AH$1)/'Всп лист'!$C$3*'Всп лист'!$B$3*'Всп лист'!$B$4,0)),"-") -> 185 | AI8: =IFERROR(IF('Установка скидки'!$M$1=FALSE,C8*(1-$AH$1)/'Всп лист'!$B$2,ROUNDUP(C8*(1-$AH$1)/'Всп лист'!$C$3*'Всп лист'!$B$3*'Всп лист'!$B$4,0)),"-") -> 220 | AJ8: =IFERROR(IF('Установка скидки'!$M$1=FALSE,D8*(1-$AH$1)/'Всп лист'!$B$2,ROUNDUP(D8*(1-$AH$1)/'Всп лист'!$C$3*'Всп лист'!$B$3*'Всп лист'!$B$4,0)),"-") -> - | AK8: =IFERROR(IF('Установка скидки'!$M$1=FALSE,E8*(1-$AH$1)/'Всп лист'!$B$2,ROUNDUP(E8*(1-$AH$1)/'Всп лист'!$C$3*'Всп лист'!$B$3*'Всп лист'!$B$4,0)),"-") -> - | AL8: =IFERROR(IF('Установка скидки'!$M$1=FALSE,F8*(1-$AH$1)/'Всп лист'!$B$2,ROUNDUP(F8*(1-$AH$1)/'Всп лист'!$C$3*'Всп лист'!$B$3*'Всп лист'!$B$4,0)),"-") -> - | AM8: =IFERROR(IF('Установка скидки'!$M$1=FALSE,G8*(1-$AH$1)/'Всп лист'!$B$2,ROUNDUP(G8*(1-$AH$1)/'Всп лист'!$C$3*'Всп лист'!$B$3*'Всп лист'!$B$4,0)),"-") -> - | AN8: =IFERROR(IF('Установка скидки'!$M$1=FALSE,H8*(1-$AH$1)/'Всп лист'!$B$2,ROUNDUP(H8*(1-$AH$1)/'Всп лист'!$C$3*'Всп лист'!$B$3*'Всп лист'!$B$4,0)),"-") -> - | AO8: =IFERROR(IF('Установка скидки'!$M$1=FALSE,I8*(1-$AH$1)/'Всп лист'!$B$2,ROUNDUP(I8*(1-$AH$1)/'Всп лист'!$C$3*'Всп лист'!$B$3*'Всп лист'!$B$4,0)),"-") -> - | ... AT8: =IFERROR(IF('Установка скидки'!$M$1=FALSE,N8*(1-$AH$1)/'Всп лист'!$B$2,ROUNDUP(N8*(1-$AH$1)/'Всп лист'!$C$3*'Всп лист'!$B$3*'Всп лист'!$B$4,0)),"-") -> -
A9: Адаптер Моно М-М (430-0.8) | B9: - | C9: - | D9: 334 | E9: 334 | F9: 348 | G9: 376 | H9: 376 | I9: 421 | J9: 421 | K9: 450 | L9: 500 | M9: 554 | N9: 669 | AG9: Адаптер Моно М-М (430-0.8) | AH9: =IFERROR(IF('Установка скидки'!$M$1=FALSE,B9*(1-$AH$1)/'Всп лист'!$B$2,ROUNDUP(B9*(1-$AH$1)/'Всп лист'!$C$3*'Всп лист'!$B$3*'Всп лист'!$B$4,0)),"-") -> - | AI9: =IFERROR(IF('Установка скидки'!$M$1=FALSE,C9*(1-$AH$1)/'Всп лист'!$B$2,ROUNDUP(C9*(1-$AH$1)/'Всп лист'!$C$3*'Всп лист'!$B$3*'Всп лист'!$B$4,0)),"-") -> - | AJ9: =IFERROR(IF('Установка скидки'!$M$1=FALSE,D9*(1-$AH$1)/'Всп лист'!$B$2,ROUNDUP(D9*(1-$AH$1)/'Всп лист'!$C$3*'Всп лист'!$B$3*'Всп лист'!$B$4,0)),"-") -> 334 | AK9: =IFERROR(IF('Установка скидки'!$M$1=FALSE,E9*(1-$AH$1)/'Всп лист'!$B$2,ROUNDUP(E9*(1-$AH$1)/'Всп лист'!$C$3*'Всп лист'!$B$3*'Всп лист'!$B$4,0)),"-") -> 334 | AL9: =IFERROR(IF('Установка скидки'!$M$1=FALSE,F9*(1-$AH$1)/'Всп лист'!$B$2,ROUNDUP(F9*(1-$AH$1)/'Всп лист'!$C$3*'Всп лист'!$B$3*'Всп лист'!$B$4,0)),"-") -> 348 | AM9: =IFERROR(IF('Установка скидки'!$M$1=FALSE,G9*(1-$AH$1)/'Всп лист'!$B$2,ROUNDUP(G9*(1-$AH$1)/'Всп лист'!$C$3*'Всп лист'!$B$3*'Всп лист'!$B$4,0)),"-") -> 376 | AN9: =IFERROR(IF('Установка скидки'!$M$1=FALSE,H9*(1-$AH$1)/'Всп лист'!$B$2,ROUNDUP(H9*(1-$AH$1)/'Всп лист'!$C$3*'Всп лист'!$B$3*'Всп лист'!$B$4,0)),"-") -> 376 | AO9: =IFERROR(IF('Установка скидки'!$M$1=FALSE,I9*(1-$AH$1)/'Всп лист'!$B$2,ROUNDUP(I9*(1-$AH$1)/'Всп лист'!$C$3*'Всп лист'!$B$3*'Всп лист'!$B$4,0)),"-") -> 421 | ... AT9: =IFERROR(IF('Установка скидки'!$M$1=FALSE,N9*(1-$AH$1)/'Всп лист'!$B$2,ROUNDUP(N9*(1-$AH$1)/'Всп лист'!$C$3*'Всп лист'!$B$3*'Всп лист'!$B$4,0)),"-") -> 669
A10: Адаптер Моно М-М (430-1.0) | B10: - | C10: - | D10: - | E10: 414 | F10: - | G10: - | H10: - | I10: - | J10: - | K10: - | L10: - | M10: - | N10: - | AG10: Адаптер Моно М-М (430-1.0) | AH10: =IFERROR(IF('Установка скидки'!$M$1=FALSE,B10*(1-$AH$1)/'Всп лист'!$B$2,ROUNDUP(B10*(1-$AH$1)/'Всп лист'!$C$3*'Всп лист'!$B$3*'Всп лист'!$B$4,0)),"-") -> - | AI10: =IFERROR(IF('Установка скидки'!$M$1=FALSE,C10*(1-$AH$1)/'Всп лист'!$B$2,ROUNDUP(C10*(1-$AH$1)/'Всп лист'!$C$3*'Всп лист'!$B$3*'Всп лист'!$B$4,0)),"-") -> - | AJ10: =IFERROR(IF('Установка скидки'!$M$1=FALSE,D10*(1-$AH$1)/'Всп лист'!$B$2,ROUNDUP(D10*(1-$AH$1)/'Всп лист'!$C$3*'Всп лист'!$B$3*'Всп лист'!$B$4,0)),"-") -> - | AK10: =IFERROR(IF('Установка скидки'!$M$1=FALSE,E10*(1-$AH$1)/'Всп лист'!$B$2,ROUNDUP(E10*(1-$AH$1)/'Всп лист'!$C$3*'Всп лист'!$B$3*'Всп лист'!$B$4,0)),"-") -> 414 | AL10: =IFERROR(IF('Установка скидки'!$M$1=FALSE,F10*(1-$AH$1)/'Всп лист'!$B$2,ROUNDUP(F10*(1-$AH$1)/'Всп лист'!$C$3*'Всп лист'!$B$3*'Всп лист'!$B$4,0)),"-") -> - | AM10: =IFERROR(IF('Установка скидки'!$M$1=FALSE,G10*(1-$AH$1)/'Всп лист'!$B$2,ROUNDUP(G10*(1-$AH$1)/'Всп лист'!$C$3*'Всп лист'!$B$3*'Всп лист'!$B$4,0)),"-") -> - | AN10: =IFERROR(IF('Установка скидки'!$M$1=FALSE,H10*(1-$AH$1)/'Всп лист'!$B$2,ROUNDUP(H10*(1-$AH$1)/'Всп лист'!$C$3*'Всп лист'!$B$3*'Всп лист'!$B$4,0)),"-") -> - | AO10: =IFERROR(IF('Установка скидки'!$M$1=FALSE,I10*(1-$AH$1)/'Всп лист'!$B$2,ROUNDUP(I10*(1-$AH$1)/'Всп лист'!$C$3*'Всп лист'!$B$3*'Всп лист'!$B$4,0)),"-") -> - | ... AT10: =IFERROR(IF('Установка скидки'!$M$1=FALSE,N10*(1-$AH$1)/'Всп лист'!$B$2,ROUNDUP(N10*(1-$AH$1)/'Всп лист'!$C$3*'Всп лист'!$B$3*'Всп лист'!$B$4,0)),"-") -> -
A11: Адаптер Моно М-М (304-0.5) | B11: 421 | C11: - | D11: - | E11: - | F11: - | G11: - | H11: - | I11: - | J11: - | K11: - | L11: - | M11: - | N11: - | AG11: Адаптер Моно М-М (304-0.5) | AH11: =IFERROR(IF('Установка скидки'!$M$1=FALSE,B11*(1-$AH$1)/'Всп лист'!$B$2,ROUNDUP(B11*(1-$AH$1)/'Всп лист'!$C$3*'Всп лист'!$B$3*'Всп лист'!$B$4,0)),"-") -> 421 | AI11: =IFERROR(IF('Установка скидки'!$M$1=FALSE,C11*(1-$AH$1)/'Всп лист'!$B$2,ROUNDUP(C11*(1-$AH$1)/'Всп лист'!$C$3*'Всп лист'!$B$3*'Всп лист'!$B$4,0)),"-") -> - | AJ11: =IFERROR(IF('Установка скидки'!$M$1=FALSE,D11*(1-$AH$1)/'Всп лист'!$B$2,ROUNDUP(D11*(1-$AH$1)/'Всп лист'!$C$3*'Всп лист'!$B$3*'Всп лист'!$B$4,0)),"-") -> - | AK11: =IFERROR(IF('Установка скидки'!$M$1=FALSE,E11*(1-$AH$1)/'Всп лист'!$B$2,ROUNDUP(E11*(1-$AH$1)/'Всп лист'!$C$3*'Всп лист'!$B$3*'Всп лист'!$B$4,0)),"-") -> - | AL11: =IFERROR(IF('Установка скидки'!$M$1=FALSE,F11*(1-$AH$1)/'Всп лист'!$B$2,ROUNDUP(F11*(1-$AH$1)/'Всп лист'!$C$3*'Всп лист'!$B$3*'Всп лист'!$B$4,0)),"-") -> - | AM11: =IFERROR(IF('Установка скидки'!$M$1=FALSE,G11*(1-$AH$1)/'Всп лист'!$B$2,ROUNDUP(G11*(1-$AH$1)/'Всп лист'!$C$3*'Всп лист'!$B$3*'Всп лист'!$B$4,0)),"-") -> - | AN11: =IFERROR(IF('Установка скидки'!$M$1=FALSE,H11*(1-$AH$1)/'Всп лист'!$B$2,ROUNDUP(H11*(1-$AH$1)/'Всп лист'!$C$3*'Всп лист'!$B$3*'Всп лист'!$B$4,0)),"-") -> - | AO11: =IFERROR(IF('Установка скидки'!$M$1=FALSE,I11*(1-$AH$1)/'Всп лист'!$B$2,ROUNDUP(I11*(1-$AH$1)/'Всп лист'!$C$3*'Всп лист'!$B$3*'Всп лист'!$B$4,0)),"-") -> - | ... AT11: =IFERROR(IF('Установка скидки'!$M$1=FALSE,N11*(1-$AH$1)/'Всп лист'!$B$2,ROUNDUP(N11*(1-$AH$1)/'Всп лист'!$C$3*'Всп лист'!$B$3*'Всп лист'!$B$4,0)),"-") -> -
A12: Адаптер Моно М-М (304-0.8) | B12: - | C12: - | D12: 550 | E12: 572 | F12: 595 | G12: - | H12: 639 | I12: - | J12: 727 | K12: - | L12: 792 | M12: 836 | N12: 945 | AG12: Адаптер Моно М-М (304-0.8) | AH12: =IFERROR(IF('Установка скидки'!$M$1=FALSE,B12*(1-$AH$1)/'Всп лист'!$B$2,ROUNDUP(B12*(1-$AH$1)/'Всп лист'!$C$3*'Всп лист'!$B$3*'Всп лист'!$B$4,0)),"-") -> - | AI12: =IFERROR(IF('Установка скидки'!$M$1=FALSE,C12*(1-$AH$1)/'Всп лист'!$B$2,ROUNDUP(C12*(1-$AH$1)/'Всп лист'!$C$3*'Всп лист'!$B$3*'Всп лист'!$B$4,0)),"-") -> - | AJ12: =IFERROR(IF('Установка скидки'!$M$1=FALSE,D12*(1-$AH$1)/'Всп лист'!$B$2,ROUNDUP(D12*(1-$AH$1)/'Всп лист'!$C$3*'Всп лист'!$B$3*'Всп лист'!$B$4,0)),"-") -> 550 | AK12: =IFERROR(IF('Установка скидки'!$M$1=FALSE,E12*(1-$AH$1)/'Всп лист'!$B$2,ROUNDUP(E12*(1-$AH$1)/'Всп лист'!$C$3*'Всп лист'!$B$3*'Всп лист'!$B$4,0)),"-") -> 572 | AL12: =IFERROR(IF('Установка скидки'!$M$1=FALSE,F12*(1-$AH$1)/'Всп лист'!$B$2,ROUNDUP(F12*(1-$AH$1)/'Всп лист'!$C$3*'Всп лист'!$B$3*'Всп лист'!$B$4,0)),"-") -> 595 | AM12: =IFERROR(IF('Установка скидки'!$M$1=FALSE,G12*(1-$AH$1)/'Всп лист'!$B$2,ROUNDUP(G12*(1-$AH$1)/'Всп лист'!$C$3*'Всп лист'!$B$3*'Всп лист'!$B$4,0)),"-") -> - | AN12: =IFERROR(IF('Установка скидки'!$M$1=FALSE,H12*(1-$AH$1)/'Всп лист'!$B$2,ROUNDUP(H12*(1-$AH$1)/'Всп лист'!$C$3*'Всп лист'!$B$3*'Всп лист'!$B$4,0)),"-") -> 639 | AO12: =IFERROR(IF('Установка скидки'!$M$1=FALSE,I12*(1-$AH$1)/'Всп лист'!$B$2,ROUNDUP(I12*(1-$AH$1)/'Всп лист'!$C$3*'Всп лист'!$B$3*'Всп лист'!$B$4,0)),"-") -> - | ... AT12: =IFERROR(IF('Установка скидки'!$M$1=FALSE,N12*(1-$AH$1)/'Всп лист'!$B$2,ROUNDUP(N12*(1-$AH$1)/'Всп лист'!$C$3*'Всп лист'!$B$3*'Всп лист'!$B$4,0)),"-") -> 945
A13: Адаптер Моно М-М (316-0.5) | B13: 557 | C13: 627 | D13: - | E13: - | F13: - | G13: - | H13: - | I13: - | J13: - | K13: - | L13: - | M13: - | N13: - | AG13: Адаптер Моно М-М (316-0.5) | AH13: =IFERROR(IF('Установка скидки'!$M$1=FALSE,B13*(1-$AH$1)/'Всп лист'!$B$2,ROUNDUP(B13*(1-$AH$1)/'Всп лист'!$C$3*'Всп лист'!$B$3*'Всп лист'!$B$4,0)),"-") -> 557 | AI13: =IFERROR(IF('Установка скидки'!$M$1=FALSE,C13*(1-$AH$1)/'Всп лист'!$B$2,ROUNDUP(C13*(1-$AH$1)/'Всп лист'!$C$3*'Всп лист'!$B$3*'Всп лист'!$B$4,0)),"-") -> 627 | AJ13: =IFERROR(IF('Установка скидки'!$M$1=FALSE,D13*(1-$AH$1)/'Всп лист'!$B$2,ROUNDUP(D13*(1-$AH$1)/'Всп лист'!$C$3*'Всп лист'!$B$3*'Всп лист'!$B$4,0)),"-") -> - | AK13: =IFERROR(IF('Установка скидки'!$M$1=FALSE,E13*(1-$AH$1)/'Всп лист'!$B$2,ROUNDUP(E13*(1-$AH$1)/'Всп лист'!$C$3*'Всп лист'!$B$3*'Всп лист'!$B$4,0)),"-") -> - | AL13: =IFERROR(IF('Установка скидки'!$M$1=FALSE,F13*(1-$AH$1)/'Всп лист'!$B$2,ROUNDUP(F13*(1-$AH$1)/'Всп лист'!$C$3*'Всп лист'!$B$3*'Всп лист'!$B$4,0)),"-") -> - | AM13: =IFERROR(IF('Установка скидки'!$M$1=FALSE,G13*(1-$AH$1)/'Всп лист'!$B$2,ROUNDUP(G13*(1-$AH$1)/'Всп лист'!$C$3*'Всп лист'!$B$3*'Всп лист'!$B$4,0)),"-") -> - | AN13: =IFERROR(IF('Установка скидки'!$M$1=FALSE,H13*(1-$AH$1)/'Всп лист'!$B$2,ROUNDUP(H13*(1-$AH$1)/'Всп лист'!$C$3*'Всп лист'!$B$3*'Всп лист'!$B$4,0)),"-") -> - | AO13: =IFERROR(IF('Установка скидки'!$M$1=FALSE,I13*(1-$AH$1)/'Всп лист'!$B$2,ROUNDUP(I13*(1-$AH$1)/'Всп лист'!$C$3*'Всп лист'!$B$3*'Всп лист'!$B$4,0)),"-") -> - | ... AT13: =IFERROR(IF('Установка скидки'!$M$1=FALSE,N13*(1-$AH$1)/'Всп лист'!$B$2,ROUNDUP(N13*(1-$AH$1)/'Всп лист'!$C$3*'Всп лист'!$B$3*'Всп лист'!$B$4,0)),"-") -> -
A14: Адаптер Моно М-М (316-0.8) | B14: - | C14: - | D14: 930 | E14: - | F14: 1014 | G14: - | H14: 1094 | I14: - | J14: 1255 | K14: - | L14: 1496 | M14: 1657 | N14: 2052 | AG14: Адаптер Моно М-М (316-0.8) | AH14: =IFERROR(IF('Установка скидки'!$M$1=FALSE,B14*(1-$AH$1)/'Всп лист'!$B$2,ROUNDUP(B14*(1-$AH$1)/'Всп лист'!$C$3*'Всп лист'!$B$3*'Всп лист'!$B$4,0)),"-") -> - | AI14: =IFERROR(IF('Установка скидки'!$M$1=FALSE,C14*(1-$AH$1)/'Всп лист'!$B$2,ROUNDUP(C14*(1-$AH$1)/'Всп лист'!$C$3*'Всп лист'!$B$3*'Всп лист'!$B$4,0)),"-") -> - | AJ14: =IFERROR(IF('Установка скидки'!$M$1=FALSE,D14*(1-$AH$1)/'Всп лист'!$B$2,ROUNDUP(D14*(1-$AH$1)/'Всп лист'!$C$3*'Всп лист'!$B$3*'Всп лист'!$B$4,0)),"-") -> 930 | AK14: =IFERROR(IF('Установка скидки'!$M$1=FALSE,E14*(1-$AH$1)/'Всп лист'!$B$2,ROUNDUP(E14*(1-$AH$1)/'Всп лист'!$C$3*'Всп лист'!$B$3*'Всп лист'!$B$4,0)),"-") -> - | AL14: =IFERROR(IF('Установка скидки'!$M$1=FALSE,F14*(1-$AH$1)/'Всп лист'!$B$2,ROUNDUP(F14*(1-$AH$1)/'Всп лист'!$C$3*'Всп лист'!$B$3*'Всп лист'!$B$4,0)),"-") -> 1014 | AM14: =IFERROR(IF('Установка скидки'!$M$1=FALSE,G14*(1-$AH$1)/'Всп лист'!$B$2,ROUNDUP(G14*(1-$AH$1)/'Всп лист'!$C$3*'Всп лист'!$B$3*'Всп лист'!$B$4,0)),"-") -> - | AN14: =IFERROR(IF('Установка скидки'!$M$1=FALSE,H14*(1-$AH$1)/'Всп лист'!$B$2,ROUNDUP(H14*(1-$AH$1)/'Всп лист'!$C$3*'Всп лист'!$B$3*'Всп лист'!$B$4,0)),"-") -> 1094 | AO14: =IFERROR(IF('Установка скидки'!$M$1=FALSE,I14*(1-$AH$1)/'Всп лист'!$B$2,ROUNDUP(I14*(1-$AH$1)/'Всп лист'!$C$3*'Всп лист'!$B$3*'Всп лист'!$B$4,0)),"-") -> - | ... AT14: =IFERROR(IF('Установка скидки'!$M$1=FALSE,N14*(1-$AH$1)/'Всп лист'!$B$2,ROUNDUP(N14*(1-$AH$1)/'Всп лист'!$C$3*'Всп лист'!$B$3*'Всп лист'!$B$4,0)),"-") -> 2052
A15: Адаптер Моно М-М (310-0.8) | B15: - | C15: - | D15: - | E15: - | F15: - | G15: - | H15: 1522 | I15: - | J15: 1756 | K15: - | L15: - | M15: 2341 | N15: - | AG15: Адаптер Моно М-М (310-0.8) | AH15: =IFERROR(IF('Установка скидки'!$M$1=FALSE,B15*(1-$AH$1)/'Всп лист'!$B$2,ROUNDUP(B15*(1-$AH$1)/'Всп лист'!$C$3*'Всп лист'!$B$3*'Всп лист'!$B$4,0)),"-") -> - | AI15: =IFERROR(IF('Установка скидки'!$M$1=FALSE,C15*(1-$AH$1)/'Всп лист'!$B$2,ROUNDUP(C15*(1-$AH$1)/'Всп лист'!$C$3*'Всп лист'!$B$3*'Всп лист'!$B$4,0)),"-") -> - | AJ15: =IFERROR(IF('Установка скидки'!$M$1=FALSE,D15*(1-$AH$1)/'Всп лист'!$B$2,ROUNDUP(D15*(1-$AH$1)/'Всп лист'!$C$3*'Всп лист'!$B$3*'Всп лист'!$B$4,0)),"-") -> - | AK15: =IFERROR(IF('Установка скидки'!$M$1=FALSE,E15*(1-$AH$1)/'Всп лист'!$B$2,ROUNDUP(E15*(1-$AH$1)/'Всп лист'!$C$3*'Всп лист'!$B$3*'Всп лист'!$B$4,0)),"-") -> - | AL15: =IFERROR(IF('Установка скидки'!$M$1=FALSE,F15*(1-$AH$1)/'Всп лист'!$B$2,ROUNDUP(F15*(1-$AH$1)/'Всп лист'!$C$3*'Всп лист'!$B$3*'Всп лист'!$B$4,0)),"-") -> - | AM15: =IFERROR(IF('Установка скидки'!$M$1=FALSE,G15*(1-$AH$1)/'Всп лист'!$B$2,ROUNDUP(G15*(1-$AH$1)/'Всп лист'!$C$3*'Всп лист'!$B$3*'Всп лист'!$B$4,0)),"-") -> - | AN15: =IFERROR(IF('Установка скидки'!$M$1=FALSE,H15*(1-$AH$1)/'Всп лист'!$B$2,ROUNDUP(H15*(1-$AH$1)/'Всп лист'!$C$3*'Всп лист'!$B$3*'Всп лист'!$B$4,0)),"-") -> 1522 | AO15: =IFERROR(IF('Установка скидки'!$M$1=FALSE,I15*(1-$AH$1)/'Всп лист'!$B$2,ROUNDUP(I15*(1-$AH$1)/'Всп лист'!$C$3*'Всп лист'!$B$3*'Всп лист'!$B$4,0)),"-") -> - | ... AT15: =IFERROR(IF('Установка скидки'!$M$1=FALSE,N15*(1-$AH$1)/'Всп лист'!$B$2,ROUNDUP(N15*(1-$AH$1)/'Всп лист'!$C$3*'Всп лист'!$B$3*'Всп лист'!$B$4,0)),"-") -> -
A17: Элемент дымохода: Адаптеры-переходы | AG17: Элемент дымохода: Адаптеры-переходы
A19: Наименование / Диаметр | B19: 80/100 | C19: 80/110 | D19: 80/115 | E19: 80/120 | F19: 100/110 | G19: 100/115 | H19: 100/120 | I19: 110/115 | J19: 110/120 | K19: 115/120 | L19: 115/130 | M19: 120/125 | N19: 120/130 | O19: 120/150 | P19: 125/130 | Q19: 130/135 | R19: 130/140 | S19: 130/150 | T19: 135/150 | U19: 140/150 | V19: 150/160 | W19: 150/180 | X19: 150/200 | Y19: 160/180 | Z19: 160/200 | AA19: 180/200 | AB19: 200/220 | AC19: 200/250 | AD19: 220/250 | AE19: 230/250 | AG19: Наименование / Диаметр | AH19: 80/100 | AI19: 80/110 | AJ19: 80/115 | AK19: 80/120 | AL19: 100/110 | AM19: 100/115 | AN19: 100/120 | AO19: 110/115 | AP19: 110/120 | AQ19: 115/120 | AR19: 115/130 | AS19: 120/125 | AT19: 120/130 | AU19: 120/150 | AV19: 125/130
A20: Адаптер переход Моно М-М (430-0.8) | B20: - | C20: - | D20: - | E20: - | F20: 457 | G20: 505 | H20: 505 | I20: 536 | J20: 536 | K20: 561 | L20: - | M20: 577 | N20: 670 | O20: 602 | P20: 635 | Q20: 635 | R20: 658 | S20: 821 | T20: - | U20: 684 | V20: 734 | W20: 839 | X20: 1821 | Y20: 811 | Z20: 1847 | AA20: 1096 | AB20: 1016 | AC20: 2315 | AD20: - | AE20: - | AG20: Адаптер переход Моно М-М (430-0.8) | AH20: =IFERROR(IF('Установка скидки'!$M$1=FALSE,B20*(1-$AH$1)/'Всп лист'!$B$2,ROUNDUP(B20*(1-$AH$1)/'Всп лист'!$C$3*'Всп лист'!$B$3*'Всп лист'!$B$4,0)),"-") -> - | AI20: =IFERROR(IF('Установка скидки'!$M$1=FALSE,C20*(1-$AH$1)/'Всп лист'!$B$2,ROUNDUP(C20*(1-$AH$1)/'Всп лист'!$C$3*'Всп лист'!$B$3*'Всп лист'!$B$4,0)),"-") -> - | AJ20: =IFERROR(IF('Установка скидки'!$M$1=FALSE,D20*(1-$AH$1)/'Всп лист'!$B$2,ROUNDUP(D20*(1-$AH$1)/'Всп лист'!$C$3*'Всп лист'!$B$3*'Всп лист'!$B$4,0)),"-") -> - | AK20: =IFERROR(IF('Установка скидки'!$M$1=FALSE,E20*(1-$AH$1)/'Всп лист'!$B$2,ROUNDUP(E20*(1-$AH$1)/'Всп лист'!$C$3*'Всп лист'!$B$3*'Всп лист'!$B$4,0)),"-") -> - | AL20: =IFERROR(IF('Установка скидки'!$M$1=FALSE,F20*(1-$AH$1)/'Всп лист'!$B$2,ROUNDUP(F20*(1-$AH$1)/'Всп лист'!$C$3*'Всп лист'!$B$3*'Всп лист'!$B$4,0)),"-") -> 457 | AM20: =IFERROR(IF('Установка скидки'!$M$1=FALSE,G20*(1-$AH$1)/'Всп лист'!$B$2,ROUNDUP(G20*(1-$AH$1)/'Всп лист'!$C$3*'Всп лист'!$B$3*'Всп лист'!$B$4,0)),"-") -> 505 | AN20: =IFERROR(IF('Установка скидки'!$M$1=FALSE,H20*(1-$AH$1)/'Всп лист'!$B$2,ROUNDUP(H20*(1-$AH$1)/'Всп лист'!$C$3*'Всп лист'!$B$3*'Всп лист'!$B$4,0)),"-") -> 505 | AO20: =IFERROR(IF('Установка скидки'!$M$1=FALSE,I20*(1-$AH$1)/'Всп лист'!$B$2,ROUNDUP(I20*(1-$AH$1)/'Всп лист'!$C$3*'Всп лист'!$B$3*'Всп лист'!$B$4,0)),"-") -> 536 | ... AV20: =IFERROR(IF('Установка скидки'!$M$1=FALSE,P20*(1-$AH$1)/'Всп лист'!$B$2,ROUNDUP(P20*(1-$AH$1)/'Всп лист'!$C$3*'Всп лист'!$B$3*'Всп лист'!$B$4,0)),"-") -> 635
A21: Адаптер переход Моно М-М (430-0.5) | B21: 779 | C21: 857 | D21: 878 | E21: 888 | F21: - | G21: - | H21: - | I21: - | J21: - | K21: - | L21: - | M21: - | N21: - | O21: - | P21: - | Q21: - | R21: - | S21: - | T21: - | U21: - | V21: - | W21: - | X21: - | Y21: - | Z21: - | AA21: - | AB21: - | AC21: - | AD21: - | AE21: - | AG21: Адаптер переход Моно М-М (430-0.5) | AH21: =IFERROR(IF('Установка скидки'!$M$1=FALSE,B21*(1-$AH$1)/'Всп лист'!$B$2,ROUNDUP(B21*(1-$AH$1)/'Всп лист'!$C$3*'Всп лист'!$B$3*'Всп лист'!$B$4,0)),"-") -> 779 | AI21: =IFERROR(IF('Установка скидки'!$M$1=FALSE,C21*(1-$AH$1)/'Всп лист'!$B$2,ROUNDUP(C21*(1-$AH$1)/'Всп лист'!$C$3*'Всп лист'!$B$3*'Всп лист'!$B$4,0)),"-") -> 857 | AJ21: =IFERROR(IF('Установка скидки'!$M$1=FALSE,D21*(1-$AH$1)/'Всп лист'!$B$2,ROUNDUP(D21*(1-$AH$1)/'Всп лист'!$C$3*'Всп лист'!$B$3*'Всп лист'!$B$4,0)),"-") -> 878 | AK21: =IFERROR(IF('Установка скидки'!$M$1=FALSE,E21*(1-$AH$1)/'Всп лист'!$B$2,ROUNDUP(E21*(1-$AH$1)/'Всп лист'!$C$3*'Всп лист'!$B$3*'Всп лист'!$B$4,0)),"-") -> 888 | AL21: =IFERROR(IF('Установка скидки'!$M$1=FALSE,F21*(1-$AH$1)/'Всп лист'!$B$2,ROUNDUP(F21*(1-$AH$1)/'Всп лист'!$C$3*'Всп лист'!$B$3*'Всп лист'!$B$4,0)),"-") -> - | AM21: =IFERROR(IF('Установка скидки'!$M$1=FALSE,G21*(1-$AH$1)/'Всп лист'!$B$2,ROUNDUP(G21*(1-$AH$1)/'Всп лист'!$C$3*'Всп лист'!$B$3*'Всп лист'!$B$4,0)),"-") -> - | AN21: =IFERROR(IF('Установка скидки'!$M$1=FALSE,H21*(1-$AH$1)/'Всп лист'!$B$2,ROUNDUP(H21*(1-$AH$1)/'Всп лист'!$C$3*'Всп лист'!$B$3*'Всп лист'!$B$4,0)),"-") -> - | AO21: =IFERROR(IF('Установка скидки'!$M$1=FALSE,I21*(1-$AH$1)/'Всп лист'!$B$2,ROUNDUP(I21*(1-$AH$1)/'Всп лист'!$C$3*'Всп лист'!$B$3*'Всп лист'!$B$4,0)),"-") -> - | ... AV21: =IFERROR(IF('Установка скидки'!$M$1=FALSE,P21*(1-$AH$1)/'Всп лист'!$B$2,ROUNDUP(P21*(1-$AH$1)/'Всп лист'!$C$3*'Всп лист'!$B$3*'Всп лист'!$B$4,0)),"-") -> -
A22: Адаптер переход Моно М-М (304-0.8) | B22: - | C22: - | D22: - | E22: - | F22: - | G22: - | H22: 577 | I22: - | J22: 615 | K22: 645 | L22: 669 | M22: - | N22: 664 | O22: - | P22: - | Q22: - | R22: 697 | S22: 761 | T22: - | U22: 792 | V22: 851 | W22: 978 | X22: - | Y22: 945 | Z22: - | AA22: - | AB22: - | AC22: - | AD22: 1277 | AE22: 1374 | AG22: Адаптер переход Моно М-М (304-0.8) | AH22: =IFERROR(IF('Установка скидки'!$M$1=FALSE,B22*(1-$AH$1)/'Всп лист'!$B$2,ROUNDUP(B22*(1-$AH$1)/'Всп лист'!$C$3*'Всп лист'!$B$3*'Всп лист'!$B$4,0)),"-") -> - | AI22: =IFERROR(IF('Установка скидки'!$M$1=FALSE,C22*(1-$AH$1)/'Всп лист'!$B$2,ROUNDUP(C22*(1-$AH$1)/'Всп лист'!$C$3*'Всп лист'!$B$3*'Всп лист'!$B$4,0)),"-") -> - | AJ22: =IFERROR(IF('Установка скидки'!$M$1=FALSE,D22*(1-$AH$1)/'Всп лист'!$B$2,ROUNDUP(D22*(1-$AH$1)/'Всп лист'!$C$3*'Всп лист'!$B$3*'Всп лист'!$B$4,0)),"-") -> - | AK22: =IFERROR(IF('Установка скидки'!$M$1=FALSE,E22*(1-$AH$1)/'Всп лист'!$B$2,ROUNDUP(E22*(1-$AH$1)/'Всп лист'!$C$3*'Всп лист'!$B$3*'Всп лист'!$B$4,0)),"-") -> - | AL22: =IFERROR(IF('Установка скидки'!$M$1=FALSE,F22*(1-$AH$1)/'Всп лист'!$B$2,ROUNDUP(F22*(1-$AH$1)/'Всп лист'!$C$3*'Всп лист'!$B$3*'Всп лист'!$B$4,0)),"-") -> - | AM22: =IFERROR(IF('Установка скидки'!$M$1=FALSE,G22*(1-$AH$1)/'Всп лист'!$B$2,ROUNDUP(G22*(1-$AH$1)/'Всп лист'!$C$3*'Всп лист'!$B$3*'Всп лист'!$B$4,0)),"-") -> - | AN22: =IFERROR(IF('Установка скидки'!$M$1=FALSE,H22*(1-$AH$1)/'Всп лист'!$B$2,ROUNDUP(H22*(1-$AH$1)/'Всп лист'!$C$3*'Всп лист'!$B$3*'Всп лист'!$B$4,0)),"-") -> 577 | AO22: =IFERROR(IF('Установка скидки'!$M$1=FALSE,I22*(1-$AH$1)/'Всп лист'!$B$2,ROUNDUP(I22*(1-$AH$1)/'Всп лист'!$C$3*'Всп лист'!$B$3*'Всп лист'!$B$4,0)),"-") -> - | ... AV22: =IFERROR(IF('Установка скидки'!$M$1=FALSE,P22*(1-$AH$1)/'Всп лист'!$B$2,ROUNDUP(P22*(1-$AH$1)/'Всп лист'!$C$3*'Всп лист'!$B$3*'Всп лист'!$B$4,0)),"-") -> -
A23: Адаптер переход Моно М-М (316-0.8) | B23: - | C23: - | D23: - | E23: - | F23: - | G23: - | H23: 1508 | I23: - | J23: 1553 | K23: 1554 | L23: - | M23: - | N23: 1684 | O23: - | P23: - | Q23: - | R23: 1779 | S23: - | T23: - | U23: 1929 | V23: 2078 | W23: 2399 | X23: - | Y23: 2315 | Z23: - | AA23: 2626 | AB23: 2937 | AC23: - | AD23: 3381 | AE23: 3403 | AG23: Адаптер переход Моно М-М (316-0.8) | AH23: =IFERROR(IF('Установка скидки'!$M$1=FALSE,B23*(1-$AH$1)/'Всп лист'!$B$2,ROUNDUP(B23*(1-$AH$1)/'Всп лист'!$C$3*'Всп лист'!$B$3*'Всп лист'!$B$4,0)),"-") -> - | AI23: =IFERROR(IF('Установка скидки'!$M$1=FALSE,C23*(1-$AH$1)/'Всп лист'!$B$2,ROUNDUP(C23*(1-$AH$1)/'Всп лист'!$C$3*'Всп лист'!$B$3*'Всп лист'!$B$4,0)),"-") -> - | AJ23: =IFERROR(IF('Установка скидки'!$M$1=FALSE,D23*(1-$AH$1)/'Всп лист'!$B$2,ROUNDUP(D23*(1-$AH$1)/'Всп лист'!$C$3*'Всп лист'!$B$3*'Всп лист'!$B$4,0)),"-") -> - | AK23: =IFERROR(IF('Установка скидки'!$M$1=FALSE,E23*(1-$AH$1)/'Всп лист'!$B$2,ROUNDUP(E23*(1-$AH$1)/'Всп лист'!$C$3*'Всп лист'!$B$3*'Всп лист'!$B$4,0)),"-") -> - | AL23: =IFERROR(IF('Установка скидки'!$M$1=FALSE,F23*(1-$AH$1)/'Всп лист'!$B$2,ROUNDUP(F23*(1-$AH$1)/'Всп лист'!$C$3*'Всп лист'!$B$3*'Всп лист'!$B$4,0)),"-") -> - | AM23: =IFERROR(IF('Установка скидки'!$M$1=FALSE,G23*(1-$AH$1)/'Всп лист'!$B$2,ROUNDUP(G23*(1-$AH$1)/'Всп лист'!$C$3*'Всп лист'!$B$3*'Всп лист'!$B$4,0)),"-") -> - | AN23: =IFERROR(IF('Установка скидки'!$M$1=FALSE,H23*(1-$AH$1)/'Всп лист'!$B$2,ROUNDUP(H23*(1-$AH$1)/'Всп лист'!$C$3*'Всп лист'!$B$3*'Всп лист'!$B$4,0)),"-") -> 1508 | AO23: =IFERROR(IF('Установка скидки'!$M$1=FALSE,I23*(1-$AH$1)/'Всп лист'!$B$2,ROUNDUP(I23*(1-$AH$1)/'Всп лист'!$C$3*'Всп лист'!$B$3*'Всп лист'!$B$4,0)),"-") -> - | ... AV23: =IFERROR(IF('Установка скидки'!$M$1=FALSE,P23*(1-$AH$1)/'Всп лист'!$B$2,ROUNDUP(P23*(1-$AH$1)/'Всп лист'!$C$3*'Всп лист'!$B$3*'Всп лист'!$B$4,0)),"-") -> -
A24: Адаптер переход Моно М-М (310-0.8) | B24: - | C24: - | D24: - | E24: - | F24: - | G24: - | H24: - | I24: - | J24: - | K24: 1799 | L24: 1865 | M24: - | N24: 1852 | O24: - | P24: 1895 | Q24: - | R24: - | S24: 2016 | T24: - | U24: - | V24: - | W24: - | X24: - | Y24: - | Z24: - | AA24: 2538 | AB24: - | AC24: - | AD24: - | AE24: - | AG24: Адаптер переход Моно М-М (310-0.8) | AH24: =IFERROR(IF('Установка скидки'!$M$1=FALSE,B24*(1-$AH$1)/'Всп лист'!$B$2,ROUNDUP(B24*(1-$AH$1)/'Всп лист'!$C$3*'Всп лист'!$B$3*'Всп лист'!$B$4,0)),"-") -> - | AI24: =IFERROR(IF('Установка скидки'!$M$1=FALSE,C24*(1-$AH$1)/'Всп лист'!$B$2,ROUNDUP(C24*(1-$AH$1)/'Всп лист'!$C$3*'Всп лист'!$B$3*'Всп лист'!$B$4,0)),"-") -> - | AJ24: =IFERROR(IF('Установка скидки'!$M$1=FALSE,D24*(1-$AH$1)/'Всп лист'!$B$2,ROUNDUP(D24*(1-$AH$1)/'Всп лист'!$C$3*'Всп лист'!$B$3*'Всп лист'!$B$4,0)),"-") -> - | AK24: =IFERROR(IF('Установка скидки'!$M$1=FALSE,E24*(1-$AH$1)/'Всп лист'!$B$2,ROUNDUP(E24*(1-$AH$1)/'Всп лист'!$C$3*'Всп лист'!$B$3*'Всп лист'!$B$4,0)),"-") -> - | AL24: =IFERROR(IF('Установка скидки'!$M$1=FALSE,F24*(1-$AH$1)/'Всп лист'!$B$2,ROUNDUP(F24*(1-$AH$1)/'Всп лист'!$C$3*'Всп лист'!$B$3*'Всп лист'!$B$4,0)),"-") -> - | AM24: =IFERROR(IF('Установка скидки'!$M$1=FALSE,G24*(1-$AH$1)/'Всп лист'!$B$2,ROUNDUP(G24*(1-$AH$1)/'Всп лист'!$C$3*'Всп лист'!$B$3*'Всп лист'!$B$4,0)),"-") -> - | AN24: =IFERROR(IF('Установка скидки'!$M$1=FALSE,H24*(1-$AH$1)/'Всп лист'!$B$2,ROUNDUP(H24*(1-$AH$1)/'Всп лист'!$C$3*'Всп лист'!$B$3*'Всп лист'!$B$4,0)),"-") -> - | AO24: =IFERROR(IF('Установка скидки'!$M$1=FALSE,I24*(1-$AH$1)/'Всп лист'!$B$2,ROUNDUP(I24*(1-$AH$1)/'Всп лист'!$C$3*'Всп лист'!$B$3*'Всп лист'!$B$4,0)),"-") -> - | ... AV24: =IFERROR(IF('Установка скидки'!$M$1=FALSE,P24*(1-$AH$1)/'Всп лист'!$B$2,ROUNDUP(P24*(1-$AH$1)/'Всп лист'!$C$3*'Всп лист'!$B$3*'Всп лист'!$B$4,0)),"-") -> 1895
AG25: Наименование / Диаметр | AH25: 130/135 | AI25: 130/140 | AJ25: 130/150 | AK25: 135/150 | AL25: 140/150 | AM25: 150/160 | AN25: 150/180 | AO25: 150/200 | AP25: 160/180 | AQ25: 160/200 | AR25: 180/200 | AS25: 200/220 | AT25: 200/250 | AU25: 220/250 | AV25: 230/250
AG26: Адаптер переход Моно М-М (430-0.8) | AH26: =IFERROR(IF('Установка скидки'!$M$1=FALSE,Q20*(1-$AH$1)/'Всп лист'!$B$2,ROUNDUP(Q20*(1-$AH$1)/'Всп лист'!$C$3*'Всп лист'!$B$3*'Всп лист'!$B$4,0)),"-") -> 635 | AI26: =IFERROR(IF('Установка скидки'!$M$1=FALSE,R20*(1-$AH$1)/'Всп лист'!$B$2,ROUNDUP(R20*(1-$AH$1)/'Всп лист'!$C$3*'Всп лист'!$B$3*'Всп лист'!$B$4,0)),"-") -> 658 | AJ26: =IFERROR(IF('Установка скидки'!$M$1=FALSE,S20*(1-$AH$1)/'Всп лист'!$B$2,ROUNDUP(S20*(1-$AH$1)/'Всп лист'!$C$3*'Всп лист'!$B$3*'Всп лист'!$B$4,0)),"-") -> 821 | AK26: =IFERROR(IF('Установка скидки'!$M$1=FALSE,T20*(1-$AH$1)/'Всп лист'!$B$2,ROUNDUP(T20*(1-$AH$1)/'Всп лист'!$C$3*'Всп лист'!$B$3*'Всп лист'!$B$4,0)),"-") -> - | AL26: =IFERROR(IF('Установка скидки'!$M$1=FALSE,U20*(1-$AH$1)/'Всп лист'!$B$2,ROUNDUP(U20*(1-$AH$1)/'Всп лист'!$C$3*'Всп лист'!$B$3*'Всп лист'!$B$4,0)),"-") -> 684 | AM26: =IFERROR(IF('Установка скидки'!$M$1=FALSE,V20*(1-$AH$1)/'Всп лист'!$B$2,ROUNDUP(V20*(1-$AH$1)/'Всп лист'!$C$3*'Всп лист'!$B$3*'Всп лист'!$B$4,0)),"-") -> 734 | AN26: =IFERROR(IF('Установка скидки'!$M$1=FALSE,W20*(1-$AH$1)/'Всп лист'!$B$2,ROUNDUP(W20*(1-$AH$1)/'Всп лист'!$C$3*'Всп лист'!$B$3*'Всп лист'!$B$4,0)),"-") -> 839 | AO26: =IFERROR(IF('Установка скидки'!$M$1=FALSE,X20*(1-$AH$1)/'Всп лист'!$B$2,ROUNDUP(X20*(1-$AH$1)/'Всп лист'!$C$3*'Всп лист'!$B$3*'Всп лист'!$B$4,0)),"-") -> 1821 | ... AV26: =IFERROR(IF('Установка скидки'!$M$1=FALSE,AE20*(1-$AH$1)/'Всп лист'!$B$2,ROUNDUP(AE20*(1-$AH$1)/'Всп лист'!$C$3*'Всп лист'!$B$3*'Всп лист'!$B$4,0)),"-") -> -
A27: Складская программа (срок отгрузки до 7 дней) | AG27: Адаптер переход Моно М-М (430-0.5) | AH27: =IFERROR(IF('Установка скидки'!$M$1=FALSE,Q21*(1-$AH$1)/'Всп лист'!$B$2,ROUNDUP(Q21*(1-$AH$1)/'Всп лист'!$C$3*'Всп лист'!$B$3*'Всп лист'!$B$4,0)),"-") -> - | AI27: =IFERROR(IF('Установка скидки'!$M$1=FALSE,R21*(1-$AH$1)/'Всп лист'!$B$2,ROUNDUP(R21*(1-$AH$1)/'Всп лист'!$C$3*'Всп лист'!$B$3*'Всп лист'!$B$4,0)),"-") -> - | AJ27: =IFERROR(IF('Установка скидки'!$M$1=FALSE,S21*(1-$AH$1)/'Всп лист'!$B$2,ROUNDUP(S21*(1-$AH$1)/'Всп лист'!$C$3*'Всп лист'!$B$3*'Всп лист'!$B$4,0)),"-") -> - | AK27: =IFERROR(IF('Установка скидки'!$M$1=FALSE,T21*(1-$AH$1)/'Всп лист'!$B$2,ROUNDUP(T21*(1-$AH$1)/'Всп лист'!$C$3*'Всп лист'!$B$3*'Всп лист'!$B$4,0)),"-") -> - | AL27: =IFERROR(IF('Установка скидки'!$M$1=FALSE,U21*(1-$AH$1)/'Всп лист'!$B$2,ROUNDUP(U21*(1-$AH$1)/'Всп лист'!$C$3*'Всп лист'!$B$3*'Всп лист'!$B$4,0)),"-") -> - | AM27: =IFERROR(IF('Установка скидки'!$M$1=FALSE,V21*(1-$AH$1)/'Всп лист'!$B$2,ROUNDUP(V21*(1-$AH$1)/'Всп лист'!$C$3*'Всп лист'!$B$3*'Всп лист'!$B$4,0)),"-") -> - | AN27: =IFERROR(IF('Установка скидки'!$M$1=FALSE,W21*(1-$AH$1)/'Всп лист'!$B$2,ROUNDUP(W21*(1-$AH$1)/'Всп лист'!$C$3*'Всп лист'!$B$3*'Всп лист'!$B$4,0)),"-") -> - | AO27: =IFERROR(IF('Установка скидки'!$M$1=FALSE,X21*(1-$AH$1)/'Всп лист'!$B$2,ROUNDUP(X21*(1-$AH$1)/'Всп лист'!$C$3*'Всп лист'!$B$3*'Всп лист'!$B$4,0)),"-") -> - | ... AV27: =IFERROR(IF('Установка скидки'!$M$1=FALSE,AE21*(1-$AH$1)/'Всп лист'!$B$2,ROUNDUP(AE21*(1-$AH$1)/'Всп лист'!$C$3*'Всп лист'!$B$3*'Всп лист'!$B$4,0)),"-") -> -
A28: Выделенным цветом изделия являются распродажными (выбирать только при наличии на складе) | AG28: Адаптер переход Моно М-М (304-0.8) | AH28: =IFERROR(IF('Установка скидки'!$M$1=FALSE,Q22*(1-$AH$1)/'Всп лист'!$B$2,ROUNDUP(Q22*(1-$AH$1)/'Всп лист'!$C$3*'Всп лист'!$B$3*'Всп лист'!$B$4,0)),"-") -> - | AI28: =IFERROR(IF('Установка скидки'!$M$1=FALSE,R22*(1-$AH$1)/'Всп лист'!$B$2,ROUNDUP(R22*(1-$AH$1)/'Всп лист'!$C$3*'Всп лист'!$B$3*'Всп лист'!$B$4,0)),"-") -> 697 | AJ28: =IFERROR(IF('Установка скидки'!$M$1=FALSE,S22*(1-$AH$1)/'Всп лист'!$B$2,ROUNDUP(S22*(1-$AH$1)/'Всп лист'!$C$3*'Всп лист'!$B$3*'Всп лист'!$B$4,0)),"-") -> 761 | AK28: =IFERROR(IF('Установка скидки'!$M$1=FALSE,T22*(1-$AH$1)/'Всп лист'!$B$2,ROUNDUP(T22*(1-$AH$1)/'Всп лист'!$C$3*'Всп лист'!$B$3*'Всп лист'!$B$4,0)),"-") -> - | AL28: =IFERROR(IF('Установка скидки'!$M$1=FALSE,U22*(1-$AH$1)/'Всп лист'!$B$2,ROUNDUP(U22*(1-$AH$1)/'Всп лист'!$C$3*'Всп лист'!$B$3*'Всп лист'!$B$4,0)),"-") -> 792 | AM28: =IFERROR(IF('Установка скидки'!$M$1=FALSE,V22*(1-$AH$1)/'Всп лист'!$B$2,ROUNDUP(V22*(1-$AH$1)/'Всп лист'!$C$3*'Всп лист'!$B$3*'Всп лист'!$B$4,0)),"-") -> 851 | AN28: =IFERROR(IF('Установка скидки'!$M$1=FALSE,W22*(1-$AH$1)/'Всп лист'!$B$2,ROUNDUP(W22*(1-$AH$1)/'Всп лист'!$C$3*'Всп лист'!$B$3*'Всп лист'!$B$4,0)),"-") -> 978 | AO28: =IFERROR(IF('Установка скидки'!$M$1=FALSE,X22*(1-$AH$1)/'Всп лист'!$B$2,ROUNDUP(X22*(1-$AH$1)/'Всп лист'!$C$3*'Всп лист'!$B$3*'Всп лист'!$B$4,0)),"-") -> - | ... AV28: =IFERROR(IF('Установка скидки'!$M$1=FALSE,AE22*(1-$AH$1)/'Всп лист'!$B$2,ROUNDUP(AE22*(1-$AH$1)/'Всп лист'!$C$3*'Всп лист'!$B$3*'Всп лист'!$B$4,0)),"-") -> 1374
AG29: Адаптер переход Моно М-М (316-0.8) | AH29: =IFERROR(IF('Установка скидки'!$M$1=FALSE,Q23*(1-$AH$1)/'Всп лист'!$B$2,ROUNDUP(Q23*(1-$AH$1)/'Всп лист'!$C$3*'Всп лист'!$B$3*'Всп лист'!$B$4,0)),"-") -> - | AI29: =IFERROR(IF('Установка скидки'!$M$1=FALSE,R23*(1-$AH$1)/'Всп лист'!$B$2,ROUNDUP(R23*(1-$AH$1)/'Всп лист'!$C$3*'Всп лист'!$B$3*'Всп лист'!$B$4,0)),"-") -> 1779 | AJ29: =IFERROR(IF('Установка скидки'!$M$1=FALSE,S23*(1-$AH$1)/'Всп лист'!$B$2,ROUNDUP(S23*(1-$AH$1)/'Всп лист'!$C$3*'Всп лист'!$B$3*'Всп лист'!$B$4,0)),"-") -> - | AK29: =IFERROR(IF('Установка скидки'!$M$1=FALSE,T23*(1-$AH$1)/'Всп лист'!$B$2,ROUNDUP(T23*(1-$AH$1)/'Всп лист'!$C$3*'Всп лист'!$B$3*'Всп лист'!$B$4,0)),"-") -> - | AL29: =IFERROR(IF('Установка скидки'!$M$1=FALSE,U23*(1-$AH$1)/'Всп лист'!$B$2,ROUNDUP(U23*(1-$AH$1)/'Всп лист'!$C$3*'Всп лист'!$B$3*'Всп лист'!$B$4,0)),"-") -> 1929 | AM29: =IFERROR(IF('Установка скидки'!$M$1=FALSE,V23*(1-$AH$1)/'Всп лист'!$B$2,ROUNDUP(V23*(1-$AH$1)/'Всп лист'!$C$3*'Всп лист'!$B$3*'Всп лист'!$B$4,0)),"-") -> 2078 | AN29: =IFERROR(IF('Установка скидки'!$M$1=FALSE,W23*(1-$AH$1)/'Всп лист'!$B$2,ROUNDUP(W23*(1-$AH$1)/'Всп лист'!$C$3*'Всп лист'!$B$3*'Всп лист'!$B$4,0)),"-") -> 2399 | AO29: =IFERROR(IF('Установка скидки'!$M$1=FALSE,X23*(1-$AH$1)/'Всп лист'!$B$2,ROUNDUP(X23*(1-$AH$1)/'Всп лист'!$C$3*'Всп лист'!$B$3*'Всп лист'!$B$4,0)),"-") -> - | ... AV29: =IFERROR(IF('Установка скидки'!$M$1=FALSE,AE23*(1-$AH$1)/'Всп лист'!$B$2,ROUNDUP(AE23*(1-$AH$1)/'Всп лист'!$C$3*'Всп лист'!$B$3*'Всп лист'!$B$4,0)),"-") -> 3403
A30: Продукция сертифицирована | AG30: Адаптер переход Моно М-М (310-0.8) | AH30: =IFERROR(IF('Установка скидки'!$M$1=FALSE,Q24*(1-$AH$1)/'Всп лист'!$B$2,ROUNDUP(Q24*(1-$AH$1)/'Всп лист'!$C$3*'Всп лист'!$B$3*'Всп лист'!$B$4,0)),"-") -> - | AI30: =IFERROR(IF('Установка скидки'!$M$1=FALSE,R24*(1-$AH$1)/'Всп лист'!$B$2,ROUNDUP(R24*(1-$AH$1)/'Всп лист'!$C$3*'Всп лист'!$B$3*'Всп лист'!$B$4,0)),"-") -> - | AJ30: =IFERROR(IF('Установка скидки'!$M$1=FALSE,S24*(1-$AH$1)/'Всп лист'!$B$2,ROUNDUP(S24*(1-$AH$1)/'Всп лист'!$C$3*'Всп лист'!$B$3*'Всп лист'!$B$4,0)),"-") -> 2016 | AK30: =IFERROR(IF('Установка скидки'!$M$1=FALSE,T24*(1-$AH$1)/'Всп лист'!$B$2,ROUNDUP(T24*(1-$AH$1)/'Всп лист'!$C$3*'Всп лист'!$B$3*'Всп лист'!$B$4,0)),"-") -> - | AL30: =IFERROR(IF('Установка скидки'!$M$1=FALSE,U24*(1-$AH$1)/'Всп лист'!$B$2,ROUNDUP(U24*(1-$AH$1)/'Всп лист'!$C$3*'Всп лист'!$B$3*'Всп лист'!$B$4,0)),"-") -> - | AM30: =IFERROR(IF('Установка скидки'!$M$1=FALSE,V24*(1-$AH$1)/'Всп лист'!$B$2,ROUNDUP(V24*(1-$AH$1)/'Всп лист'!$C$3*'Всп лист'!$B$3*'Всп лист'!$B$4,0)),"-") -> - | AN30: =IFERROR(IF('Установка скидки'!$M$1=FALSE,W24*(1-$AH$1)/'Всп лист'!$B$2,ROUNDUP(W24*(1-$AH$1)/'Всп лист'!$C$3*'Всп лист'!$B$3*'Всп лист'!$B$4,0)),"-") -> - | AO30: =IFERROR(IF('Установка скидки'!$M$1=FALSE,X24*(1-$AH$1)/'Всп лист'!$B$2,ROUNDUP(X24*(1-$AH$1)/'Всп лист'!$C$3*'Всп лист'!$B$3*'Всп лист'!$B$4,0)),"-") -> - | ... AV30: =IFERROR(IF('Установка скидки'!$M$1=FALSE,AE24*(1-$AH$1)/'Всп лист'!$B$2,ROUNDUP(AE24*(1-$AH$1)/'Всп лист'!$C$3*'Всп лист'!$B$3*'Всп лист'!$B$4,0)),"-") -> -
A31: Пож.серт. (обязательная сертификация) № С-.RU.ПБ 37.В.00073

Sheet Переходы
AI1: Размер скидки | AJ1: ='Установка скидки'!$G$11 -> 0 | BB1: =IF('Установка скидки'!$M$1=FALSE,'Всп лист'!$A$7,'Всп лист'!$A$8) -> Цены указаны в руб. с НДС
A5: Элемент дымохода: Переходы Моно | AI5: Элемент дымохода: Переходы Моно
A7: Наименование / Диаметр | B7: 80/100 | C7: 80/110 | D7: 100/110 | E7: 100/115 | F7: 100/120 | G7: 110/115 | H7: 110/120 | I7: 110/130 | J7: 115/100 | K7: 115/110 | L7: 115/115 | M7: 115/120 | N7: 115/130 | O7: 120/115 | P7: 120/115 TS | Q7: 120/120 | R7: 120/130 | S7: 120/150 | T7: 130/130 | U7: 130/140 | V7: 130/150 | W7: 140/150 | X7: 150/140 | Y7: 150/150 | Z7: 150/160 | AA7: 150/180 | AB7: 150/200 | AC7: 160/180 | AD7: 180/180 | AE7: 180/200 | AF7: 200/200 | AG7: 200/250 | AI7: Наименование / Диаметр | AJ7: 80/100 | AK7: 80/110 | AL7: 100/110 | AM7: 100/115 | AN7: 100/120 | AO7: 110/115 | AP7: 110/120 | AQ7: 110/130 | AR7: 115/100 | AS7: 115/110 | AT7: 115/115 | AU7: 115/120 | AV7: 115/130 | AW7: 120/115 | AX7: 120/115 TS | AY7: 120/120 | AZ7: 120/130
A8: Переход Моно П-П (430-0.8) | B8: - | C8: - | D8: - | E8: - | F8: - | G8: - | H8: - | I8: - | J8: - | K8: - | L8: 334 | M8: - | N8: - | O8: - | P8: 354 | Q8: 351 | R8: - | S8: - | T8: 375 | U8: - | V8: - | W8: - | X8: - | Y8: 421 | Z8: - | AA8: - | AB8: - | AC8: - | AD8: 495 | AE8: - | AF8: 554 | AG8: - | AI8: Переход Моно П-П (430-0.8) | AJ8: =IFERROR(IF('Установка скидки'!$M$1=FALSE,B8*(1-$AJ$1)/'Всп лист'!$B$2,ROUNDUP(B8*(1-$AJ$1)/'Всп лист'!$C$3*'Всп лист'!$B$3*'Всп лист'!$B$4,0)),"-") -> - | AK8: =IFERROR(IF('Установка скидки'!$M$1=FALSE,C8*(1-$AJ$1)/'Всп лист'!$B$2,ROUNDUP(C8*(1-$AJ$1)/'Всп лист'!$C$3*'Всп лист'!$B$3*'Всп лист'!$B$4,0)),"-") -> - | AL8: =IFERROR(IF('Установка скидки'!$M$1=FALSE,D8*(1-$AJ$1)/'Всп лист'!$B$2,ROUNDUP(D8*(1-$AJ$1)/'Всп лист'!$C$3*'Всп лист'!$B$3*'Всп лист'!$B$4,0)),"-") -> - | AM8: =IFERROR(IF('Установка скидки'!$M$1=FALSE,E8*(1-$AJ$1)/'Всп лист'!$B$2,ROUNDUP(E8*(1-$AJ$1)/'Всп лист'!$C$3*'Всп лист'!$B$3*'Всп лист'!$B$4,0)),"-") -> - | AN8: =IFERROR(IF('Установка скидки'!$M$1=FALSE,F8*(1-$AJ$1)/'Всп лист'!$B$2,ROUNDUP(F8*(1-$AJ$1)/'Всп лист'!$C$3*'Всп лист'!$B$3*'Всп лист'!$B$4,0)),"-") -> - | AO8: =IFERROR(IF('Установка скидки'!$M$1=FALSE,G8*(1-$AJ$1)/'Всп лист'!$B$2,ROUNDUP(G8*(1-$AJ$1)/'Всп лист'!$C$3*'Всп лист'!$B$3*'Всп лист'!$B$4,0)),"-") -> - | AP8: =IFERROR(IF('Установка скидки'!$M$1=FALSE,H8*(1-$AJ$1)/'Всп лист'!$B$2,ROUNDUP(H8*(1-$AJ$1)/'Всп лист'!$C$3*'Всп лист'!$B$3*'Всп лист'!$B$4,0)),"-") -> - | AQ8: =IFERROR(IF('Установка скидки'!$M$1=FALSE,I8*(1-$AJ$1)/'Всп лист'!$B$2,ROUNDUP(I8*(1-$AJ$1)/'Всп лист'!$C$3*'Всп лист'!$B$3*'Всп лист'!$B$4,0)),"-") -> - | ... AZ8: =IFERROR(IF('Установка скидки'!$M$1=FALSE,R8*(1-$AJ$1)/'Всп лист'!$B$2,ROUNDUP(R8*(1-$AJ$1)/'Всп лист'!$C$3*'Всп лист'!$B$3*'Всп лист'!$B$4,0)),"-") -> -
A9: Переход Моно П-М (430-0.8) | B9: - | C9: - | D9: 516 | E9: 516 | F9: 1099 | G9: 516 | H9: 516 | I9: - | J9: 492 | K9: 492 | L9: - | M9: 562 | N9: 562 | O9: 562 | P9: - | Q9: - | R9: - | S9: 1380 | T9: - | U9: 562 | V9: - | W9: 562 | X9: 562 | Y9: - | Z9: 721 | AA9: 1651 | AB9: 1793 | AC9: 865 | AD9: - | AE9: 865 | AF9: - | AG9: - | AI9: Переход Моно П-М (430-0.8) | AJ9: =IFERROR(IF('Установка скидки'!$M$1=FALSE,B9*(1-$AJ$1)/'Всп лист'!$B$2,ROUNDUP(B9*(1-$AJ$1)/'Всп лист'!$C$3*'Всп лист'!$B$3*'Всп лист'!$B$4,0)),"-") -> - | AK9: =IFERROR(IF('Установка скидки'!$M$1=FALSE,C9*(1-$AJ$1)/'Всп лист'!$B$2,ROUNDUP(C9*(1-$AJ$1)/'Всп лист'!$C$3*'Всп лист'!$B$3*'Всп лист'!$B$4,0)),"-") -> - | AL9: =IFERROR(IF('Установка скидки'!$M$1=FALSE,D9*(1-$AJ$1)/'Всп лист'!$B$2,ROUNDUP(D9*(1-$AJ$1)/'Всп лист'!$C$3*'Всп лист'!$B$3*'Всп лист'!$B$4,0)),"-") -> 516 | AM9: =IFERROR(IF('Установка скидки'!$M$1=FALSE,E9*(1-$AJ$1)/'Всп лист'!$B$2,ROUNDUP(E9*(1-$AJ$1)/'Всп лист'!$C$3*'Всп лист'!$B$3*'Всп лист'!$B$4,0)),"-") -> 516 | AN9: =IFERROR(IF('Установка скидки'!$M$1=FALSE,F9*(1-$AJ$1)/'Всп лист'!$B$2,ROUNDUP(F9*(1-$AJ$1)/'Всп лист'!$C$3*'Всп лист'!$B$3*'Всп лист'!$B$4,0)),"-") -> 1099 | AO9: =IFERROR(IF('Установка скидки'!$M$1=FALSE,G9*(1-$AJ$1)/'Всп лист'!$B$2,ROUNDUP(G9*(1-$AJ$1)/'Всп лист'!$C$3*'Всп лист'!$B$3*'Всп лист'!$B$4,0)),"-") -> 516 | AP9: =IFERROR(IF('Установка скидки'!$M$1=FALSE,H9*(1-$AJ$1)/'Всп лист'!$B$2,ROUNDUP(H9*(1-$AJ$1)/'Всп лист'!$C$3*'Всп лист'!$B$3*'Всп лист'!$B$4,0)),"-") -> 516 | AQ9: =IFERROR(IF('Установка скидки'!$M$1=FALSE,I9*(1-$AJ$1)/'Всп лист'!$B$2,ROUNDUP(I9*(1-$AJ$1)/'Всп лист'!$C$3*'Всп лист'!$B$3*'Всп лист'!$B$4,0)),"-") -> - | ... AZ9: =IFERROR(IF('Установка скидки'!$M$1=FALSE,R9*(1-$AJ$1)/'Всп лист'!$B$2,ROUNDUP(R9*(1-$AJ$1)/'Всп лист'!$C$3*'Всп лист'!$B$3*'Всп лист'!$B$4,0)),"-") -> -
A10: Переход Моно П-М (304-0.8) | B10: - | C10: - | D10: 550 | E10: - | F10: - | G10: 550 | H10: 550 | I10: - | J10: - | K10: - | L10: - | M10: 558 | N10: --- | O10: 558 | P10: - | Q10: - | R10: 639 | S10: - | T10: - | U10: - | V10: 872 | W10: 727 | X10: - | Y10: - | Z10: - | AA10: 2277 | AB10: - | AC10: - | AD10: - | AE10: 894 | AF10: - | AG10: 3204 | AI10: Переход Моно П-М (304-0.8) | AJ10: =IFERROR(IF('Установка скидки'!$M$1=FALSE,B10*(1-$AJ$1)/'Всп лист'!$B$2,ROUNDUP(B10*(1-$AJ$1)/'Всп лист'!$C$3*'Всп лист'!$B$3*'Всп лист'!$B$4,0)),"-") -> - | AK10: =IFERROR(IF('Установка скидки'!$M$1=FALSE,C10*(1-$AJ$1)/'Всп лист'!$B$2,ROUNDUP(C10*(1-$AJ$1)/'Всп лист'!$C$3*'Всп лист'!$B$3*'Всп лист'!$B$4,0)),"-") -> - | AL10: =IFERROR(IF('Установка скидки'!$M$1=FALSE,D10*(1-$AJ$1)/'Всп лист'!$B$2,ROUNDUP(D10*(1-$AJ$1)/'Всп лист'!$C$3*'Всп лист'!$B$3*'Всп лист'!$B$4,0)),"-") -> 550 | AM10: =IFERROR(IF('Установка скидки'!$M$1=FALSE,E10*(1-$AJ$1)/'Всп лист'!$B$2,ROUNDUP(E10*(1-$AJ$1)/'Всп лист'!$C$3*'Всп лист'!$B$3*'Всп лист'!$B$4,0)),"-") -> - | AN10: =IFERROR(IF('Установка скидки'!$M$1=FALSE,F10*(1-$AJ$1)/'Всп лист'!$B$2,ROUNDUP(F10*(1-$AJ$1)/'Всп лист'!$C$3*'Всп лист'!$B$3*'Всп лист'!$B$4,0)),"-") -> - | AO10: =IFERROR(IF('Установка скидки'!$M$1=FALSE,G10*(1-$AJ$1)/'Всп лист'!$B$2,ROUNDUP(G10*(1-$AJ$1)/'Всп лист'!$C$3*'Всп лист'!$B$3*'Всп лист'!$B$4,0)),"-") -> 550 | AP10: =IFERROR(IF('Установка скидки'!$M$1=FALSE,H10*(1-$AJ$1)/'Всп лист'!$B$2,ROUNDUP(H10*(1-$AJ$1)/'Всп лист'!$C$3*'Всп лист'!$B$3*'Всп лист'!$B$4,0)),"-") -> 550 | AQ10: =IFERROR(IF('Установка скидки'!$M$1=FALSE,I10*(1-$AJ$1)/'Всп лист'!$B$2,ROUNDUP(I10*(1-$AJ$1)/'Всп лист'!$C$3*'Всп лист'!$B$3*'Всп лист'!$B$4,0)),"-") -> - | ... AZ10: =IFERROR(IF('Установка скидки'!$M$1=FALSE,R10*(1-$AJ$1)/'Всп лист'!$B$2,ROUNDUP(R10*(1-$AJ$1)/'Всп лист'!$C$3*'Всп лист'!$B$3*'Всп лист'!$B$4,0)),"-") -> 639
A11: Переход Моно П-М (430-0.5) | B11: 630 | C11: 777 | D11: - | E11: - | F11: - | G11: - | H11: - | I11: - | J11: - | K11: - | L11: - | M11: - | N11: - | O11: - | P11: - | Q11: - | R11: - | S11: - | T11: - | U11: - | V11: - | W11: - | X11: - | Y11: - | Z11: - | AA11: - | AB11: - | AC11: - | AD11: - | AE11: - | AF11: - | AG11: - | AI11: Переход Моно П-М (430-0.5) | AJ11: =IFERROR(IF('Установка скидки'!$M$1=FALSE,B11*(1-$AJ$1)/'Всп лист'!$B$2,ROUNDUP(B11*(1-$AJ$1)/'Всп лист'!$C$3*'Всп лист'!$B$3*'Всп лист'!$B$4,0)),"-") -> 630 | AK11: =IFERROR(IF('Установка скидки'!$M$1=FALSE,C11*(1-$AJ$1)/'Всп лист'!$B$2,ROUNDUP(C11*(1-$AJ$1)/'Всп лист'!$C$3*'Всп лист'!$B$3*'Всп лист'!$B$4,0)),"-") -> 777 | AL11: =IFERROR(IF('Установка скидки'!$M$1=FALSE,D11*(1-$AJ$1)/'Всп лист'!$B$2,ROUNDUP(D11*(1-$AJ$1)/'Всп лист'!$C$3*'Всп лист'!$B$3*'Всп лист'!$B$4,0)),"-") -> - | AM11: =IFERROR(IF('Установка скидки'!$M$1=FALSE,E11*(1-$AJ$1)/'Всп лист'!$B$2,ROUNDUP(E11*(1-$AJ$1)/'Всп лист'!$C$3*'Всп лист'!$B$3*'Всп лист'!$B$4,0)),"-") -> - | AN11: =IFERROR(IF('Установка скидки'!$M$1=FALSE,F11*(1-$AJ$1)/'Всп лист'!$B$2,ROUNDUP(F11*(1-$AJ$1)/'Всп лист'!$C$3*'Всп лист'!$B$3*'Всп лист'!$B$4,0)),"-") -> - | AO11: =IFERROR(IF('Установка скидки'!$M$1=FALSE,G11*(1-$AJ$1)/'Всп лист'!$B$2,ROUNDUP(G11*(1-$AJ$1)/'Всп лист'!$C$3*'Всп лист'!$B$3*'Всп лист'!$B$4,0)),"-") -> - | AP11: =IFERROR(IF('Установка скидки'!$M$1=FALSE,H11*(1-$AJ$1)/'Всп лист'!$B$2,ROUNDUP(H11*(1-$AJ$1)/'Всп лист'!$C$3*'Всп лист'!$B$3*'Всп лист'!$B$4,0)),"-") -> - | AQ11: =IFERROR(IF('Установка скидки'!$M$1=FALSE,I11*(1-$AJ$1)/'Всп лист'!$B$2,ROUNDUP(I11*(1-$AJ$1)/'Всп лист'!$C$3*'Всп лист'!$B$3*'Всп лист'!$B$4,0)),"-") -> - | ... AZ11: =IFERROR(IF('Установка скидки'!$M$1=FALSE,R11*(1-$AJ$1)/'Всп лист'!$B$2,ROUNDUP(R11*(1-$AJ$1)/'Всп лист'!$C$3*'Всп лист'!$B$3*'Всп лист'!$B$4,0)),"-") -> -
A12: Переход Моно П-М (310-0.8) | B12: - | C12: - | D12: - | E12: - | F12: - | G12: - | H12: - | I12: 1928 | J12: - | K12: - | L12: - | M12: - | N12: - | O12: - | P12: - | Q12: - | R12: - | S12: - | T12: - | U12: - | V12: - | W12: - | X12: - | Y12: - | Z12: - | AA12: - | AB12: - | AC12: - | AD12: - | AE12: - | AF12: - | AG12: - | AI12: Переход Моно П-М (310-0.8) | AJ12: =IFERROR(IF('Установка скидки'!$M$1=FALSE,B12*(1-$AJ$1)/'Всп лист'!$B$2,ROUNDUP(B12*(1-$AJ$1)/'Всп лист'!$C$3*'Всп лист'!$B$3*'Всп лист'!$B$4,0)),"-") -> - | AK12: =IFERROR(IF('Установка скидки'!$M$1=FALSE,C12*(1-$AJ$1)/'Всп лист'!$B$2,ROUNDUP(C12*(1-$AJ$1)/'Всп лист'!$C$3*'Всп лист'!$B$3*'Всп лист'!$B$4,0)),"-") -> - | AL12: =IFERROR(IF('Установка скидки'!$M$1=FALSE,D12*(1-$AJ$1)/'Всп лист'!$B$2,ROUNDUP(D12*(1-$AJ$1)/'Всп лист'!$C$3*'Всп лист'!$B$3*'Всп лист'!$B$4,0)),"-") -> - | AM12: =IFERROR(IF('Установка скидки'!$M$1=FALSE,E12*(1-$AJ$1)/'Всп лист'!$B$2,ROUNDUP(E12*(1-$AJ$1)/'Всп лист'!$C$3*'Всп лист'!$B$3*'Всп лист'!$B$4,0)),"-") -> - | AN12: =IFERROR(IF('Установка скидки'!$M$1=FALSE,F12*(1-$AJ$1)/'Всп лист'!$B$2,ROUNDUP(F12*(1-$AJ$1)/'Всп лист'!$C$3*'Всп лист'!$B$3*'Всп лист'!$B$4,0)),"-") -> - | AO12: =IFERROR(IF('Установка скидки'!$M$1=FALSE,G12*(1-$AJ$1)/'Всп лист'!$B$2,ROUNDUP(G12*(1-$AJ$1)/'Всп лист'!$C$3*'Всп лист'!$B$3*'Всп лист'!$B$4,0)),"-") -> - | AP12: =IFERROR(IF('Установка скидки'!$M$1=FALSE,H12*(1-$AJ$1)/'Всп лист'!$B$2,ROUNDUP(H12*(1-$AJ$1)/'Всп лист'!$C$3*'Всп лист'!$B$3*'Всп лист'!$B$4,0)),"-") -> - | AQ12: =IFERROR(IF('Установка скидки'!$M$1=FALSE,I12*(1-$AJ$1)/'Всп лист'!$B$2,ROUNDUP(I12*(1-$AJ$1)/'Всп лист'!$C$3*'Всп лист'!$B$3*'Всп лист'!$B$4,0)),"-") -> 1928 | ... AZ12: =IFERROR(IF('Установка скидки'!$M$1=FALSE,R12*(1-$AJ$1)/'Всп лист'!$B$2,ROUNDUP(R12*(1-$AJ$1)/'Всп лист'!$C$3*'Всп лист'!$B$3*'Всп лист'!$B$4,0)),"-") -> -
AI13: Наименование / Диаметр | AJ13: 120/150 | AK13: 130/130 | AL13: 130/140 | AM13: 130/150 | AN13: 140/150 | AO13: 150/140 | AP13: 150/150 | AQ13: 150/160 | AR13: 150/180 | AS13: 150/200 | AV13: 160/180 | AW13: 180/180 | AX13: 180/200 | AY13: 200/200 | AZ13: 200/250
AI14: Переход Моно П-П (430-0.8) | AJ14: =IFERROR(IF('Установка скидки'!$M$1=FALSE,S8*(1-$AJ$1)/'Всп лист'!$B$2,ROUNDUP(S8*(1-$AJ$1)/'Всп лист'!$C$3*'Всп лист'!$B$3*'Всп лист'!$B$4,0)),"-") -> - | AK14: =IFERROR(IF('Установка скидки'!$M$1=FALSE,T8*(1-$AJ$1)/'Всп лист'!$B$2,ROUNDUP(T8*(1-$AJ$1)/'Всп лист'!$C$3*'Всп лист'!$B$3*'Всп лист'!$B$4,0)),"-") -> 375 | AL14: =IFERROR(IF('Установка скидки'!$M$1=FALSE,U8*(1-$AJ$1)/'Всп лист'!$B$2,ROUNDUP(U8*(1-$AJ$1)/'Всп лист'!$C$3*'Всп лист'!$B$3*'Всп лист'!$B$4,0)),"-") -> - | AM14: =IFERROR(IF('Установка скидки'!$M$1=FALSE,V8*(1-$AJ$1)/'Всп лист'!$B$2,ROUNDUP(V8*(1-$AJ$1)/'Всп лист'!$C$3*'Всп лист'!$B$3*'Всп лист'!$B$4,0)),"-") -> - | AN14: =IFERROR(IF('Установка скидки'!$M$1=FALSE,W8*(1-$AJ$1)/'Всп лист'!$B$2,ROUNDUP(W8*(1-$AJ$1)/'Всп лист'!$C$3*'Всп лист'!$B$3*'Всп лист'!$B$4,0)),"-") -> - | AO14: =IFERROR(IF('Установка скидки'!$M$1=FALSE,X8*(1-$AJ$1)/'Всп лист'!$B$2,ROUNDUP(X8*(1-$AJ$1)/'Всп лист'!$C$3*'Всп лист'!$B$3*'Всп лист'!$B$4,0)),"-") -> - | AP14: =IFERROR(IF('Установка скидки'!$M$1=FALSE,Y8*(1-$AJ$1)/'Всп лист'!$B$2,ROUNDUP(Y8*(1-$AJ$1)/'Всп лист'!$C$3*'Всп лист'!$B$3*'Всп лист'!$B$4,0)),"-") -> 421 | AQ14: =IFERROR(IF('Установка скидки'!$M$1=FALSE,Z8*(1-$AJ$1)/'Всп лист'!$B$2,ROUNDUP(Z8*(1-$AJ$1)/'Всп лист'!$C$3*'Всп лист'!$B$3*'Всп лист'!$B$4,0)),"-") -> - | ... AS14: =IFERROR(IF('Установка скидки'!$M$1=FALSE,AB8*(1-$AJ$1)/'Всп лист'!$B$2,ROUNDUP(AB8*(1-$AJ$1)/'Всп лист'!$C$3*'Всп лист'!$B$3*'Всп лист'!$B$4,0)),"-") -> - | AV14: =IFERROR(IF('Установка скидки'!$M$1=FALSE,AC8*(1-$AJ$1)/'Всп лист'!$B$2,ROUNDUP(AC8*(1-$AJ$1)/'Всп лист'!$C$3*'Всп лист'!$B$3*'Всп лист'!$B$4,0)),"-") -> - | AW14: =IFERROR(IF('Установка скидки'!$M$1=FALSE,AD8*(1-$AJ$1)/'Всп лист'!$B$2,ROUNDUP(AD8*(1-$AJ$1)/'Всп лист'!$C$3*'Всп лист'!$B$3*'Всп лист'!$B$4,0)),"-") -> 495 | AX14: =IFERROR(IF('Установка скидки'!$M$1=FALSE,AE8*(1-$AJ$1)/'Всп лист'!$B$2,ROUNDUP(AE8*(1-$AJ$1)/'Всп лист'!$C$3*'Всп лист'!$B$3*'Всп лист'!$B$4,0)),"-") -> - | AY14: =IFERROR(IF('Установка скидки'!$M$1=FALSE,AF8*(1-$AJ$1)/'Всп лист'!$B$2,ROUNDUP(AF8*(1-$AJ$1)/'Всп лист'!$C$3*'Всп лист'!$B$3*'Всп лист'!$B$4,0)),"-") -> 554 | AZ14: =IFERROR(IF('Установка скидки'!$M$1=FALSE,#REF!*(1-$AJ$1)/'Всп лист'!$B$2,ROUNDUP(#REF!*(1-$AJ$1)/'Всп лист'!$C$3*'Всп лист'!$B$3*'Всп лист'!$B$4,0)),"-") -> -
AI15: Переход Моно П-М (430-0.8) | AJ15: =IFERROR(IF('Установка скидки'!$M$1=FALSE,S9*(1-$AJ$1)/'Всп лист'!$B$2,ROUNDUP(S9*(1-$AJ$1)/'Всп лист'!$C$3*'Всп лист'!$B$3*'Всп лист'!$B$4,0)),"-") -> 1380 | AK15: =IFERROR(IF('Установка скидки'!$M$1=FALSE,T9*(1-$AJ$1)/'Всп лист'!$B$2,ROUNDUP(T9*(1-$AJ$1)/'Всп лист'!$C$3*'Всп лист'!$B$3*'Всп лист'!$B$4,0)),"-") -> - | AL15: =IFERROR(IF('Установка скидки'!$M$1=FALSE,U9*(1-$AJ$1)/'Всп лист'!$B$2,ROUNDUP(U9*(1-$AJ$1)/'Всп лист'!$C$3*'Всп лист'!$B$3*'Всп лист'!$B$4,0)),"-") -> 562 | AM15: =IFERROR(IF('Установка скидки'!$M$1=FALSE,V9*(1-$AJ$1)/'Всп лист'!$B$2,ROUNDUP(V9*(1-$AJ$1)/'Всп лист'!$C$3*'Всп лист'!$B$3*'Всп лист'!$B$4,0)),"-") -> - | AN15: =IFERROR(IF('Установка скидки'!$M$1=FALSE,W9*(1-$AJ$1)/'Всп лист'!$B$2,ROUNDUP(W9*(1-$AJ$1)/'Всп лист'!$C$3*'Всп лист'!$B$3*'Всп лист'!$B$4,0)),"-") -> 562 | AO15: =IFERROR(IF('Установка скидки'!$M$1=FALSE,X9*(1-$AJ$1)/'Всп лист'!$B$2,ROUNDUP(X9*(1-$AJ$1)/'Всп лист'!$C$3*'Всп лист'!$B$3*'Всп лист'!$B$4,0)),"-") -> 562 | AP15: =IFERROR(IF('Установка скидки'!$M$1=FALSE,Y9*(1-$AJ$1)/'Всп лист'!$B$2,ROUNDUP(Y9*(1-$AJ$1)/'Всп лист'!$C$3*'Всп лист'!$B$3*'Всп лист'!$B$4,0)),"-") -> - | AQ15: =IFERROR(IF('Установка скидки'!$M$1=FALSE,Z9*(1-$AJ$1)/'Всп лист'!$B$2,ROUNDUP(Z9*(1-$AJ$1)/'Всп лист'!$C$3*'Всп лист'!$B$3*'Всп лист'!$B$4,0)),"-") -> 721 | ... AS15: =IFERROR(IF('Установка скидки'!$M$1=FALSE,AB9*(1-$AJ$1)/'Всп лист'!$B$2,ROUNDUP(AB9*(1-$AJ$1)/'Всп лист'!$C$3*'Всп лист'!$B$3*'Всп лист'!$B$4,0)),"-") -> 1793 | AV15: =IFERROR(IF('Установка скидки'!$M$1=FALSE,AC9*(1-$AJ$1)/'Всп лист'!$B$2,ROUNDUP(AC9*(1-$AJ$1)/'Всп лист'!$C$3*'Всп лист'!$B$3*'Всп лист'!$B$4,0)),"-") -> 865 | AW15: =IFERROR(IF('Установка скидки'!$M$1=FALSE,AD9*(1-$AJ$1)/'Всп лист'!$B$2,ROUNDUP(AD9*(1-$AJ$1)/'Всп лист'!$C$3*'Всп лист'!$B$3*'Всп лист'!$B$4,0)),"-") -> - | AX15: =IFERROR(IF('Установка скидки'!$M$1=FALSE,AE9*(1-$AJ$1)/'Всп лист'!$B$2,ROUNDUP(AE9*(1-$AJ$1)/'Всп лист'!$C$3*'Всп лист'!$B$3*'Всп лист'!$B$4,0)),"-") -> 865 | AY15: =IFERROR(IF('Установка скидки'!$M$1=FALSE,AF9*(1-$AJ$1)/'Всп лист'!$B$2,ROUNDUP(AF9*(1-$AJ$1)/'Всп лист'!$C$3*'Всп лист'!$B$3*'Всп лист'!$B$4,0)),"-") -> - | AZ15: =IFERROR(IF('Установка скидки'!$M$1=FALSE,#REF!*(1-$AJ$1)/'Всп лист'!$B$2,ROUNDUP(#REF!*(1-$AJ$1)/'Всп лист'!$C$3*'Всп лист'!$B$3*'Всп лист'!$B$4,0)),"-") -> -
AI16: Переход Моно П-М (304-0.8) | AJ16: =IFERROR(IF('Установка скидки'!$M$1=FALSE,S10*(1-$AJ$1)/'Всп лист'!$B$2,ROUNDUP(S10*(1-$AJ$1)/'Всп лист'!$C$3*'Всп лист'!$B$3*'Всп лист'!$B$4,0)),"-") -> - | AK16: =IFERROR(IF('Установка скидки'!$M$1=FALSE,T10*(1-$AJ$1)/'Всп лист'!$B$2,ROUNDUP(T10*(1-$AJ$1)/'Всп лист'!$C$3*'Всп лист'!$B$3*'Всп лист'!$B$4,0)),"-") -> - | AL16: =IFERROR(IF('Установка скидки'!$M$1=FALSE,U10*(1-$AJ$1)/'Всп лист'!$B$2,ROUNDUP(U10*(1-$AJ$1)/'Всп лист'!$C$3*'Всп лист'!$B$3*'Всп лист'!$B$4,0)),"-") -> - | AM16: =IFERROR(IF('Установка скидки'!$M$1=FALSE,V10*(1-$AJ$1)/'Всп лист'!$B$2,ROUNDUP(V10*(1-$AJ$1)/'Всп лист'!$C$3*'Всп лист'!$B$3*'Всп лист'!$B$4,0)),"-") -> 872 | AN16: =IFERROR(IF('Установка скидки'!$M$1=FALSE,W10*(1-$AJ$1)/'Всп лист'!$B$2,ROUNDUP(W10*(1-$AJ$1)/'Всп лист'!$C$3*'Всп лист'!$B$3*'Всп лист'!$B$4,0)),"-") -> 727 | AO16: =IFERROR(IF('Установка скидки'!$M$1=FALSE,X10*(1-$AJ$1)/'Всп лист'!$B$2,ROUNDUP(X10*(1-$AJ$1)/'Всп лист'!$C$3*'Всп лист'!$B$3*'Всп лист'!$B$4,0)),"-") -> - | AP16: =IFERROR(IF('Установка скидки'!$M$1=FALSE,Y10*(1-$AJ$1)/'Всп лист'!$B$2,ROUNDUP(Y10*(1-$AJ$1)/'Всп лист'!$C$3*'Всп лист'!$B$3*'Всп лист'!$B$4,0)),"-") -> - | AQ16: =IFERROR(IF('Установка скидки'!$M$1=FALSE,Z10*(1-$AJ$1)/'Всп лист'!$B$2,ROUNDUP(Z10*(1-$AJ$1)/'Всп лист'!$C$3*'Всп лист'!$B$3*'Всп лист'!$B$4,0)),"-") -> - | ... AS16: =IFERROR(IF('Установка скидки'!$M$1=FALSE,AB10*(1-$AJ$1)/'Всп лист'!$B$2,ROUNDUP(AB10*(1-$AJ$1)/'Всп лист'!$C$3*'Всп лист'!$B$3*'Всп лист'!$B$4,0)),"-") -> - | AV16: =IFERROR(IF('Установка скидки'!$M$1=FALSE,AC10*(1-$AJ$1)/'Всп лист'!$B$2,ROUNDUP(AC10*(1-$AJ$1)/'Всп лист'!$C$3*'Всп лист'!$B$3*'Всп лист'!$B$4,0)),"-") -> - | AW16: =IFERROR(IF('Установка скидки'!$M$1=FALSE,AD10*(1-$AJ$1)/'Всп лист'!$B$2,ROUNDUP(AD10*(1-$AJ$1)/'Всп лист'!$C$3*'Всп лист'!$B$3*'Всп лист'!$B$4,0)),"-") -> - | AX16: =IFERROR(IF('Установка скидки'!$M$1=FALSE,AE10*(1-$AJ$1)/'Всп лист'!$B$2,ROUNDUP(AE10*(1-$AJ$1)/'Всп лист'!$C$3*'Всп лист'!$B$3*'Всп лист'!$B$4,0)),"-") -> 894 | AY16: =IFERROR(IF('Установка скидки'!$M$1=FALSE,AF10*(1-$AJ$1)/'Всп лист'!$B$2,ROUNDUP(AF10*(1-$AJ$1)/'Всп лист'!$C$3*'Всп лист'!$B$3*'Всп лист'!$B$4,0)),"-") -> - | AZ16: =IFERROR(IF('Установка скидки'!$M$1=FALSE,AG10*(1-$AJ$1)/'Всп лист'!$B$2,ROUNDUP(AG10*(1-$AJ$1)/'Всп лист'!$C$3*'Всп лист'!$B$3*'Всп лист'!$B$4,0)),"-") -> 3204
AI17: Переход Моно П-М (430-0.5) | AJ17: =IFERROR(IF('Установка скидки'!$M$1=FALSE,S11*(1-$AJ$1)/'Всп лист'!$B$2,ROUNDUP(S11*(1-$AJ$1)/'Всп лист'!$C$3*'Всп лист'!$B$3*'Всп лист'!$B$4,0)),"-") -> - | AK17: =IFERROR(IF('Установка скидки'!$M$1=FALSE,T11*(1-$AJ$1)/'Всп лист'!$B$2,ROUNDUP(T11*(1-$AJ$1)/'Всп лист'!$C$3*'Всп лист'!$B$3*'Всп лист'!$B$4,0)),"-") -> - | AL17: =IFERROR(IF('Установка скидки'!$M$1=FALSE,U11*(1-$AJ$1)/'Всп лист'!$B$2,ROUNDUP(U11*(1-$AJ$1)/'Всп лист'!$C$3*'Всп лист'!$B$3*'Всп лист'!$B$4,0)),"-") -> - | AM17: =IFERROR(IF('Установка скидки'!$M$1=FALSE,V11*(1-$AJ$1)/'Всп лист'!$B$2,ROUNDUP(V11*(1-$AJ$1)/'Всп лист'!$C$3*'Всп лист'!$B$3*'Всп лист'!$B$4,0)),"-") -> - | AN17: =IFERROR(IF('Установка скидки'!$M$1=FALSE,W11*(1-$AJ$1)/'Всп лист'!$B$2,ROUNDUP(W11*(1-$AJ$1)/'Всп лист'!$C$3*'Всп лист'!$B$3*'Всп лист'!$B$4,0)),"-") -> - | AO17: =IFERROR(IF('Установка скидки'!$M$1=FALSE,X11*(1-$AJ$1)/'Всп лист'!$B$2,ROUNDUP(X11*(1-$AJ$1)/'Всп лист'!$C$3*'Всп лист'!$B$3*'Всп лист'!$B$4,0)),"-") -> - | AP17: =IFERROR(IF('Установка скидки'!$M$1=FALSE,Y11*(1-$AJ$1)/'Всп лист'!$B$2,ROUNDUP(Y11*(1-$AJ$1)/'Всп лист'!$C$3*'Всп лист'!$B$3*'Всп лист'!$B$4,0)),"-") -> - | AQ17: =IFERROR(IF('Установка скидки'!$M$1=FALSE,Z11*(1-$AJ$1)/'Всп лист'!$B$2,ROUNDUP(Z11*(1-$AJ$1)/'Всп лист'!$C$3*'Всп лист'!$B$3*'Всп лист'!$B$4,0)),"-") -> - | ... AS17: =IFERROR(IF('Установка скидки'!$M$1=FALSE,AB11*(1-$AJ$1)/'Всп лист'!$B$2,ROUNDUP(AB11*(1-$AJ$1)/'Всп лист'!$C$3*'Всп лист'!$B$3*'Всп лист'!$B$4,0)),"-") -> - | AV17: =IFERROR(IF('Установка скидки'!$M$1=FALSE,AC11*(1-$AJ$1)/'Всп лист'!$B$2,ROUNDUP(AC11*(1-$AJ$1)/'Всп лист'!$C$3*'Всп лист'!$B$3*'Всп лист'!$B$4,0)),"-") -> - | AW17: =IFERROR(IF('Установка скидки'!$M$1=FALSE,AD11*(1-$AJ$1)/'Всп лист'!$B$2,ROUNDUP(AD11*(1-$AJ$1)/'Всп лист'!$C$3*'Всп лист'!$B$3*'Всп лист'!$B$4,0)),"-") -> - | AX17: =IFERROR(IF('Установка скидки'!$M$1=FALSE,AE11*(1-$AJ$1)/'Всп лист'!$B$2,ROUNDUP(AE11*(1-$AJ$1)/'Всп лист'!$C$3*'Всп лист'!$B$3*'Всп лист'!$B$4,0)),"-") -> - | AY17: =IFERROR(IF('Установка скидки'!$M$1=FALSE,AF11*(1-$AJ$1)/'Всп лист'!$B$2,ROUNDUP(AF11*(1-$AJ$1)/'Всп лист'!$C$3*'Всп лист'!$B$3*'Всп лист'!$B$4,0)),"-") -> - | AZ17: =IFERROR(IF('Установка скидки'!$M$1=FALSE,#REF!*(1-$AJ$1)/'Всп лист'!$B$2,ROUNDUP(#REF!*(1-$AJ$1)/'Всп лист'!$C$3*'Всп лист'!$B$3*'Всп лист'!$B$4,0)),"-") -> -
A18: Элемент дымохода: Переходы Моно/Термо | AI18: Элемент дымохода: Переходы Моно/Термо
A20: Наименование / Диаметр | B20: 80/140 | C20: 100/160 | D20: 110/180 | E20: 115/180 | F20: 115/200 | G20: 115/210 | H20: 120/180 | I20: 120/200 | J20: 120/220 | K20: 130/190 | L20: 130/200 | M20: 130/230 | N20: 150/210 | O20: 150/250 | P20: 180/240 | Q20: 180/280 | R20: 200/260 | S20: 200/280 | T20: 200/300 | U20: 250/310 | V20: 250/350 | AI20: Наименование / Диаметр | AJ20: 80/140 | AK20: 100/160 | AL20: 110/180 | AM20: 115/180 | AN20: 115/200 | AO20: 115/215 | AP20: 120/180 | AQ20: 120/200 | AR20: 120/220 | AS20: 130/190 | AT20: 130/200 | AU20: 130/230 | AV20: 150/210 | AW20: 150/250 | AX20: 180/240 | AY20: 180/280 | AZ20: 200/260 | BA20: 200/280 | BB20: 200/300 | BC20: 250/310 | BD20: 250/350
A21: Переход Моно/Термо ПМТ-Р (430-0,5/430) | B21: 1320 | C21: 1224 | D21: - | E21: - | F21: - | G21: - | H21: - | I21: - | J21: - | K21: - | L21: - | M21: - | N21: - | O21: - | P21: - | Q21: - | R21: - | S21: - | T21: - | U21: - | V21: - | AI21: Переход Моно/Термо ПМТ-Р (430-0,5/430) | AJ21: =IFERROR(IF('Установка скидки'!$M$1=FALSE,B21*(1-$AJ$1)/'Всп лист'!$B$2,ROUNDUP(B21*(1-$AJ$1)/'Всп лист'!$C$3*'Всп лист'!$B$3*'Всп лист'!$B$4,0)),"-") -> 1320 | AK21: =IFERROR(IF('Установка скидки'!$M$1=FALSE,C21*(1-$AJ$1)/'Всп лист'!$B$2,ROUNDUP(C21*(1-$AJ$1)/'Всп лист'!$C$3*'Всп лист'!$B$3*'Всп лист'!$B$4,0)),"-") -> 1224 | AL21: =IFERROR(IF('Установка скидки'!$M$1=FALSE,D21*(1-$AJ$1)/'Всп лист'!$B$2,ROUNDUP(D21*(1-$AJ$1)/'Всп лист'!$C$3*'Всп лист'!$B$3*'Всп лист'!$B$4,0)),"-") -> - | AM21: =IFERROR(IF('Установка скидки'!$M$1=FALSE,E21*(1-$AJ$1)/'Всп лист'!$B$2,ROUNDUP(E21*(1-$AJ$1)/'Всп лист'!$C$3*'Всп лист'!$B$3*'Всп лист'!$B$4,0)),"-") -> - | AN21: =IFERROR(IF('Установка скидки'!$M$1=FALSE,F21*(1-$AJ$1)/'Всп лист'!$B$2,ROUNDUP(F21*(1-$AJ$1)/'Всп лист'!$C$3*'Всп лист'!$B$3*'Всп лист'!$B$4,0)),"-") -> - | AO21: =IFERROR(IF('Установка скидки'!$M$1=FALSE,G21*(1-$AJ$1)/'Всп лист'!$B$2,ROUNDUP(G21*(1-$AJ$1)/'Всп лист'!$C$3*'Всп лист'!$B$3*'Всп лист'!$B$4,0)),"-") -> - | AP21: =IFERROR(IF('Установка скидки'!$M$1=FALSE,H21*(1-$AJ$1)/'Всп лист'!$B$2,ROUNDUP(H21*(1-$AJ$1)/'Всп лист'!$C$3*'Всп лист'!$B$3*'Всп лист'!$B$4,0)),"-") -> - | AQ21: =IFERROR(IF('Установка скидки'!$M$1=FALSE,I21*(1-$AJ$1)/'Всп лист'!$B$2,ROUNDUP(I21*(1-$AJ$1)/'Всп лист'!$C$3*'Всп лист'!$B$3*'Всп лист'!$B$4,0)),"-") -> - | ... BD21: =IFERROR(IF('Установка скидки'!$M$1=FALSE,V21*(1-$AJ$1)/'Всп лист'!$B$2,ROUNDUP(V21*(1-$AJ$1)/'Всп лист'!$C$3*'Всп лист'!$B$3*'Всп лист'!$B$4,0)),"-") -> -
A22: Переход Моно/Термо ПМТ-Р (430-0,8/430) | B22: - | C22: - | D22: 1420 | E22: 1445 | F22: 1468 | G22: - | H22: 1467 | I22: 1460 | J22: - | K22: - | L22: 1499 | M22: - | N22: 1608 | O22: --- | P22: 2201 | Q22: - | R22: 2054 | S22: 2189 | T22: - | U22: 2830 | V22: - | AI22: Переход Моно/Термо ПМТ-Р (430-0,8/430) | AJ22: =IFERROR(IF('Установка скидки'!$M$1=FALSE,B22*(1-$AJ$1)/'Всп лист'!$B$2,ROUNDUP(B22*(1-$AJ$1)/'Всп лист'!$C$3*'Всп лист'!$B$3*'Всп лист'!$B$4,0)),"-") -> - | AK22: =IFERROR(IF('Установка скидки'!$M$1=FALSE,C22*(1-$AJ$1)/'Всп лист'!$B$2,ROUNDUP(C22*(1-$AJ$1)/'Всп лист'!$C$3*'Всп лист'!$B$3*'Всп лист'!$B$4,0)),"-") -> - | AL22: =IFERROR(IF('Установка скидки'!$M$1=FALSE,D22*(1-$AJ$1)/'Всп лист'!$B$2,ROUNDUP(D22*(1-$AJ$1)/'Всп лист'!$C$3*'Всп лист'!$B$3*'Всп лист'!$B$4,0)),"-") -> 1420 | AM22: =IFERROR(IF('Установка скидки'!$M$1=FALSE,E22*(1-$AJ$1)/'Всп лист'!$B$2,ROUNDUP(E22*(1-$AJ$1)/'Всп лист'!$C$3*'Всп лист'!$B$3*'Всп лист'!$B$4,0)),"-") -> 1445 | AN22: =IFERROR(IF('Установка скидки'!$M$1=FALSE,F22*(1-$AJ$1)/'Всп лист'!$B$2,ROUNDUP(F22*(1-$AJ$1)/'Всп лист'!$C$3*'Всп лист'!$B$3*'Всп лист'!$B$4,0)),"-") -> 1468 | AO22: =IFERROR(IF('Установка скидки'!$M$1=FALSE,G22*(1-$AJ$1)/'Всп лист'!$B$2,ROUNDUP(G22*(1-$AJ$1)/'Всп лист'!$C$3*'Всп лист'!$B$3*'Всп лист'!$B$4,0)),"-") -> - | AP22: =IFERROR(IF('Установка скидки'!$M$1=FALSE,H22*(1-$AJ$1)/'Всп лист'!$B$2,ROUNDUP(H22*(1-$AJ$1)/'Всп лист'!$C$3*'Всп лист'!$B$3*'Всп лист'!$B$4,0)),"-") -> 1467 | AQ22: =IFERROR(IF('Установка скидки'!$M$1=FALSE,I22*(1-$AJ$1)/'Всп лист'!$B$2,ROUNDUP(I22*(1-$AJ$1)/'Всп лист'!$C$3*'Всп лист'!$B$3*'Всп лист'!$B$4,0)),"-") -> 1460 | ... BD22: =IFERROR(IF('Установка скидки'!$M$1=FALSE,V22*(1-$AJ$1)/'Всп лист'!$B$2,ROUNDUP(V22*(1-$AJ$1)/'Всп лист'!$C$3*'Всп лист'!$B$3*'Всп лист'!$B$4,0)),"-") -> -
