Workbook

Sheet Установка скидки
M1: FALSE | N1: Цены в местной валюте
L2: Для отражения цен в местной валюте, установите галочку и укажите курс и НДС
L3: 1 руб. | M3: = | N3: 5.23 | O3: ед. мест. валюты | P3: НДС | Q3: 0.12
E6: от | F6: 46260
B7: В прайсе указаны рекомендованные розничные цены (РРЦ).
B8: =IF('Всп лист'!A2="без НДС","Цены указаны без НДС","Цены указаны с НДС") -> Цены указаны с НДС
B9: Установите согласованный размер скидки от РРЦ и получите цену закупки по вашим условиям
B11: Установить размер скидки | G11: 0

Sheet Всп лист
A2: с НДС | B2: =IF(A2="С НДС",1,IF(A2="без НДС",1.22)) -> 1
A3: =IF(A2="С НДС","С НДС в местной валюте","Без НДС в местной валюте") -> С НДС в местной валюте | B3: =IF(A2="С НДС",1+'Установка скидки'!Q3,1) -> 1.12 | C3: 1.22
B4: ='Установка скидки'!$N$3 -> 5.23
A7: =IF($A$2="С НДС","Цены указаны в руб. с НДС","Цены указаны в руб. без НДС") -> Цены указаны в руб. с НДС
A8: =IF($A$2="С НДС","Цены указазаны в местной валюте с НДС","Цены указазаны в местной валюте без НДС") -> Цены указазаны в местной валюте с НДС

Sheet Медь и аксессуары для бани
E1: Размер скидки | F1: ='Установка скидки'!$G$11 -> 0 | H1: =IF('Установка скидки'!$M$1=FALSE,'Всп лист'!$A$7,'Всп лист'!$A$8) -> Цены указаны в руб. с НДС
A7: Наименование | B7: Цена с НДС, руб./ шт. | E7: Наименование | F7: Цена с НДС, руб./шт.
A8: Черпак медный 0,3 л | B8: 4950 | E8: Черпак медный 0,3 л | F8: =IFERROR(IF('Установка скидки'!$M$1=FALSE,B8*(1-$F$1)/'Всп лист'!$B$2,ROUNDUP(B8*(1-$F$1)/'Всп лист'!$C$3*'Всп лист'!$B$3*'Всп лист'!$B$4,0)),"-") -> 4950
A9: Ковш медный 1,5 л | B9: 6650 | E9: Ковш медный 1,5 л | F9: =IFERROR(IF('Установка скидки'!$M$1=FALSE,B9*(1-$F$1)/'Всп лист'!$B$2,ROUNDUP(B9*(1-$F$1)/'Всп лист'!$C$3*'Всп лист'!$B$3*'Всп лист'!$B$4,0)),"-") -> 6650
A10: Ушат медный 5 л | B10: 12950 | E10: Ушат медный 5 л | F10: =IFERROR(IF('Установка скидки'!$M$1=FALSE,B10*(1-$F$1)/'Всп лист'!$B$2,ROUNDUP(B10*(1-$F$1)/'Всп лист'!$C$3*'Всп лист'!$B$3*'Всп лист'!$B$4,0)),"-") -> 12950
A11: Таз медный 12 л | B11: 19950 | E11: Таз медный 12 л | F11: =IFERROR(IF('Установка скидки'!$M$1=FALSE,B11*(1-$F$1)/'Всп лист'!$B$2,ROUNDUP(B11*(1-$F$1)/'Всп лист'!$C$3*'Всп лист'!$B$3*'Всп лист'!$B$4,0)),"-") -> 19950
A12: Шишки из нержавеющей стали для каменки | B12: 2500 | E12: Шишки из нержавеющей стали для каменки | F12: =IFERROR(IF('Установка скидки'!$M$1=FALSE,B12*(1-$F$1)/'Всп лист'!$B$2,ROUNDUP(B12*(1-$F$1)/'Всп лист'!$C$3*'Всп лист'!$B$3*'Всп лист'!$B$4,0)),"-") -> 2500
A13: Запарник для веников и трав для пароперегревателя ППШ | B13: 16500 | E13: Запарник для веников и трав для пароперегревателя ППШ | F13: =IFERROR(IF('Установка скидки'!$M$1=FALSE,B13*(1-$F$1)/'Всп лист'!$B$2,ROUNDUP(B13*(1-$F$1)/'Всп лист'!$C$3*'Всп лист'!$B$3*'Всп лист'!$B$4,0)),"-") -> 16500
A14: Веер для бани и сауны "ПаРус" | B14: 5400 | E14: Веер для бани и сауны "ПаРус" | F14: =IFERROR(IF('Установка скидки'!$M$1=FALSE,B14*(1-$F$1)/'Всп лист'!$B$2,ROUNDUP(B14*(1-$F$1)/'Всп лист'!$C$3*'Всп лист'!$B$3*'Всп лист'!$B$4,0)),"-") -> 5400

Sheet Адаптеры
AG1: Размер скидки | AH1: ='Установка скидки'!$G$11 -> 0 | AP1: =IF('Установка скидки'!$M$1=FALSE,'Всп лист'!$A$7,'Всп лист'!$A$8) -> Цены указаны в руб. с НДС
A5: Элемент дымохода: Адаптеры | AG5: Элемент дымохода: Адаптеры
A7: Наименование / Диаметр | B7: 80 | C7: 100 | D7: 110 | E7: 115 | F7: 120 | G7: 125 | H7: 130 | I7: 135 | J7: 150 | K7: 160 | L7: 180 | M7: 200 | N7: 250 | AG7: Наименование / Диаметр | AH7: 80 | AI7: 100 | AJ7: 110 | AK7: 115 | AL7: 120 | AM7: 125 | AN7: 130 | AO7: 135 | AP7: 150 | AQ7: 160 | AR7: 180 | AS7: 200 | AT7: 250
A8: Адаптер Моно М-М (430-0.5) | B8: 185 | C8: 220 | D8: - | E8: - | F8: - | G8: - | H8: - | I8: - | J8: - | K8: - | L8: - | M8: - | N8: - | AG8: Адаптер Моно М-М (430-0.5) | AH8: =IFERROR(IF('Установка скидки'!$M$1=FALSE,B8*(1-$AH$1)/'Всп лист'!$B$2,ROUNDUP(B8*(1-$AH$1)/'Всп лист'!$C$3*'Всп лист'!$B$3*'Всп лист'!$B$4,0)),"-") -> 185 | AI8: =IFERROR(IF('Установка скидки'!$M$1=FALSE,C8*(1-$AH$1)/'Всп лист'!$B$2,ROUNDUP(C8*(1-$AH$1)/'Всп лист'!$C$3*'Всп лист'!$B$3*'Всп лист'!$B$4,0)),"-") -> 220 | AJ8: =IFERROR(IF('Установка скидки'!$M$1=FALSE,D8*(1-$AH$1)/'Всп лист'!$B$2,ROUNDUP(D8*(1-$AH$1)/'Всп лист'!$C$3*'Всп лист'!$B$3*'Всп лист'!$B$4,0)),"-") -> - | AK8: =IFERROR(IF('Установка скидки'!$M$1=FALSE,E8*(1-$AH$1)/'Всп лист'!$B$2,ROUNDUP(E8*(1-$AH$1)/'Всп лист'!$C$3*'Всп лист'!$B$3*'Всп лист'!$B$4,0)),"-") -> - | AL8: =IFERROR(IF('Установка скидки'!$M$1=FALSE,F8*(1-$AH$1)/'Всп лист'!$B$2,ROUNDUP(F8*(1-$AH$1)/'Всп лист'!$C$3*'Всп лист'!$B$3*'Всп лист'!$B$4,0)),"-") -> - | AM8: =IFERROR(IF('Установка скидки'!$M$1=FALSE,G8*(1-$AH$1)/'Всп лист'!$B$2,ROUNDUP(G8*(1-$AH$1)/'Всп лист'!$C$3*'Всп лист'!$B$3*'Всп лист'!$B$4,0)),"-") -> - | AN8: =IFERROR(IF('Установка скидки'!$M$1=FALSE,H8*(1-$AH$1)/'Всп лист'!$B$2,ROUNDUP(H8*(1-$AH$1)/'Всп лист'!$C$3*'Всп лист'!$B$3*'Всп лист'!$B$4,0)),"-") -> - | AO8: =IFERROR(IF('Установка скидки'!$M$1=FALSE,I8*(1-$AH$1)/'Всп лист'!$B$2,ROUNDUP(I8*(1-$AH$1)/'Всп лист'!$C$3*'Всп лист'!$B$3*'Всп лист'!$B$4,0)),"-") -> - | ... AT8: =IFERROR(IF('Установка скидки'!$M$1=FALSE,N8*(1-$AH$1)/'Всп лист'!$B$2,ROUNDUP(N8*(1-$AH$1)/'Всп лист'!$C$3*'Всп лист'!$B$3*'Всп лист'!$B$4,0)),"-") -> -
A9: Адаптер Моно М-М (430-0.8) | B9: - | C9: - | D9: 334 | E9: 334 | F9: 348 | G9: 376 | H9: 376 | I9: 421 | J9: 421 | K9: 450 | L9: 500 | M9: 554 | N9: 669 | AG9: Адаптер Моно М-М (430-0.8) | AH9: =IFERROR(IF('Установка скидки'!$M$1=FALSE,B9*(1-$AH$1)/'Всп лист'!$B$2,ROUNDUP(B9*(1-$AH$1)/'Всп лист'!$C$3*'Всп лист'!$B$3*'Всп лист'!$B$4,0)),"-") -> - | AI9: =IFERROR(IF('Установка скидки'!$M$1=FALSE,C9*(1-$AH$1)/'Всп лист'!$B$2,ROUNDUP(C9*(1-$AH$1)/'Всп лист'!$C$3*'Всп лист'!$B$3*'Всп лист'!$B$4,0)),"-") -> - | AJ9: =IFERROR(IF('Установка скидки'!$M$1=FALSE,D9*(1-$AH$1)/'Всп лист'!$B$2,ROUNDUP(D9*(1-$AH$1)/'Всп лист'!$C$3*'Всп лист'!$B$3*'Всп лист'!$B$4,0)),"-") -> 334 | AK9: =IFERROR(IF('Установка скидки'!$M$1=FALSE,E9*(1-$AH$1)/'Всп лист'!$B$2,ROUNDUP(E9*(1-$AH$1)/'Всп лист'!$C$3*'Всп лист'!$B$3*'Всп лист'!$B$4,0)),"-") -> 334 | AL9: =IFERROR(IF('Установка скидки'!$M$1=FALSE,F9*(1-$AH$1)/'Всп лист'!$B$2,ROUNDUP(F9*(1-$AH$1)/'Всп лист'!$C$3*'Всп лист'!$B$3*'Всп лист'!$B$4,0)),"-") -> 348 | AM9: =IFERROR(IF('Установка скидки'!$M$1=FALSE,G9*(1-$AH$1)/'Всп лист'!$B$2,ROUNDUP(G9*(1-$AH$1)/'Всп лист'!$C$3*'Всп лист'!$B$3*'Всп лист'!$B$4,0)),"-") -> 376 | AN9: =IFERROR(IF('Установка скидки'!$M$1=FALSE,H9*(1-$AH$1)/'Всп лист'!$B$2,ROUNDUP(H9*(1-$AH$1)/'Всп лист'!$C$3*'Всп лист'!$B$3*'Всп лист'!$B$4,0)),"-") -> 376 | AO9: =IFERROR(IF('Установка скидки'!$M$1=FALSE,I9*(1-$AH$1)/'Всп лист'!$B$2,ROUNDUP(I9*(1-$AH$1)/'Всп лист'!$C$3*'Всп лист'!$B$3*'Всп лист'!$B$4,0)),"-") -> 421 | ... AT9: =IFERROR(IF('Установка скидки'!$M$1=FALSE,N9*(1-$AH$1)/'Всп лист'!$B$2,ROUNDUP(N9*(1-$AH$1)/'Всп лист'!$C$3*'Всп лист'!$B$3*'Всп лист'!$B$4,0)),"-") -> 669
A10: Адаптер Моно М-М (430-1.0) | B10: - | C10: - | D10: - | E10: 414 | F10: - | G10: - | H10: - | I10: - | J10: - | K10: - | L10: - | M10: - | N10: - | AG10: Адаптер Моно М-М (430-1.0) | AH10: =IFERROR(IF('Установка скидки'!$M$1=FALSE,B10*(1-$AH$1)/'Всп лист'!$B$2,ROUNDUP(B10*(1-$AH$1)/'Всп лист'!$C$3*'Всп лист'!$B$3*'Всп лист'!$B$4,0)),"-") -> - | AI10: =IFERROR(IF('Установка скидки'!$M$1=FALSE,C10*(1-$AH$1)/'Всп лист'!$B$2,ROUNDUP(C10*(1-$AH$1)/'Всп лист'!$C$3*'Всп лист'!$B$3*'Всп лист'!$B$4,0)),"-") -> - | AJ10: =IFERROR(IF('Установка скидки'!$M$1=FALSE,D10*(1-$AH$1)/'Всп лист'!$B$2,ROUNDUP(D10*(1-$AH$1)/'Всп лист'!$C$3*'Всп лист'!$B$3*'Всп лист'!$B$4,0)),"-") -> - | AK10: =IFERROR(IF('Установка скидки'!$M$1=FALSE,E10*(1-$AH$1)/'Всп лист'!$B$2,ROUNDUP(E10*(1-$AH$1)/'Всп лист'!$C$3*'Всп лист'!$B$3*'Всп лист'!$B$4,0)),"-") -> 414 | AL10: =IFERROR(IF('Установка скидки'!$M$1=FALSE,F10*(1-$AH$1)/'Всп лист'!$B$2,ROUNDUP(F10*(1-$AH$1)/'Всп лист'!$C$3*'Всп лист'!$B$3*'Всп лист'!$B$4,0)),"-") -> - | AM10: =IFERROR(IF('Установка скидки'!$M$1=FALSE,G10*(1-$AH$1)/'Всп лист'!$B$2,ROUNDUP(G10*(1-$AH$1)/'Всп лист'!$C$3*'Всп лист'!$B$3*'Всп лист'!$B$4,0)),"-") -> - | AN10: =IFERROR(IF('Установка скидки'!$M$1=FALSE,H10*(1-$AH$1)/'Всп лист'!$B$2,ROUNDUP(H10*(1-$AH$1)/'Всп лист'!$C$3*'Всп лист'!$B$3*'Всп лист'!$B$4,0)),"-") -> - | AO10: =IFERROR(IF('Установка скидки'!$M$1=FALSE,I10*(1-$AH$1)/'Всп лист'!$B$2,ROUNDUP(I10*(1-$AH$1)/'Всп лист'!$C$3*'Всп лист'!$B$3*'Всп лист'!$B$4,0)),"-") -> - | ... AT10: =IFERROR(IF('Установка скидки'!$M$1=FALSE,N10*(1-$AH$1)/'Всп лист'!$B$2,ROUNDUP(N10*(1-$AH$1)/'Всп лист'!$C$3*'Всп лист'!$B$3*'Всп лист'!$B$4,0)),"-") -> -
A11: Адаптер Моно М-М (304-0.5) | B11: 421 | C11: - | D11: - | E11: - | F11: - | G11: - | H11: - | I11: - | J11: - | K11: - | L11: - | M11: - | N11: - | AG11: Адаптер Моно М-М (304-0.5) | AH11: =IFERROR(IF('Установка скидки'!$M$1=FALSE,B11*(1-$AH$1)/'Всп лист'!$B$2,ROUNDUP(B11*(1-$AH$1)/'Всп лист'!$C$3*'Всп лист'!$B$3*'Всп лист'!$B$4,0)),"-") -> 421 | AI11: =IFERROR(IF('Установка скидки'!$M$1=FALSE,C11*(1-$AH$1)/'Всп лист'!$B$2,ROUNDUP(C11*(1-$AH$1)/'Всп лист'!$C$3*'Всп лист'!$B$3*'Всп лист'!$B$4,0)),"-") -> - | AJ11: =IFERROR(IF('Установка скидки'!$M$1=FALSE,D11*(1-$AH$1)/'Всп лист'!$B$2,ROUNDUP(D11*(1-$AH$1)/'Всп лист'!$C$3*'Всп лист'!$B$3*'Всп лист'!$B$4,0)),"-") -> - | AK11: =IFERROR(IF('Установка скидки'!$M$1=FALSE,E11*(1-$AH$1)/'Всп лист'!$B$2,ROUNDUP(E11*(1-$AH$1)/'Всп лист'!$C$3*'Всп лист'!$B$3*'Всп лист'!$B$4,0)),"-") -> - | AL11: =IFERROR(IF('Установка скидки'!$M$1=FALSE,F11*(1-$AH$1)/'Всп лист'!$B$2,ROUNDUP(F11*(1-$AH$1)/'Всп лист'!$C$3*'Всп лист'!$B$3*'Всп лист'!$B$4,0)),"-") -> - | AM11: =IFERROR(IF('Установка скидки'!$M$1=FALSE,G11*(1-$AH$1)/'Всп лист'!$B$2,ROUNDUP(G11*(1-$AH$1)/'Всп лист'!$C$3*'Всп лист'!$B$3*'Всп лист'!$B$4,0)),"-") -> - | AN11: =IFERROR(IF('Установка скидки'!$M$1=FALSE,H11*(1-$AH$1)/'Всп лист'!$B$2,ROUNDUP(H11*(1-$AH$1)/'Всп лист'!$C$3*'Всп лист'!$B$3*'Всп лист'!$B$4,0)),"-") -> - | AO11: =IFERROR(IF('Установка скидки'!$M$1=FALSE,I11*(1-$AH$1)/'Всп лист'!$B$2,ROUNDUP(I11*(1-$AH$1)/'Всп лист'!$C$3*'Всп лист'!$B$3*'Всп лист'!$B$4,0)),"-") -> - | ... AT11: =IFERROR(IF('Установка скидки'!$M$1=FALSE,N11*(1-$AH$1)/'Всп лист'!$B$2,ROUNDUP(N11*(1-$AH$1)/'Всп лист'!$C$3*'Всп лист'!$B$3*'Всп лист'!$B$4,0)),"-") -> -
A12: Адаптер Моно М-М (304-0.8) | B12: - | C12: - | D12: 550 | E12: 572 | F12: 595 | G12: - | H12: 639 | I12: - | J12: 727 | K12: - | L12: 792 | M12: 836 | N12: 945 | AG12: Адаптер Моно М-М (304-0.8) | AH12: =IFERROR(IF('Установка скидки'!$M$1=FALSE,B12*(1-$AH$1)/'Всп лист'!$B$2,ROUNDUP(B12*(1-$AH$1)/'Всп лист'!$C$3*'Всп лист'!$B$3*'Всп лист'!$B$4,0)),"-") -> - | AI12: =IFERROR(IF('Установка скидки'!$M$1=FALSE,C12*(1-$AH$1)/'Всп лист'!$B$2,ROUNDUP(C12*(1-$AH$1)/'Всп лист'!$C$3*'Всп лист'!$B$3*'Всп лист'!$B$4,0)),"-") -> - | AJ12: =IFERROR(IF('Установка скидки'!$M$1=FALSE,D12*(1-$AH$1)/'Всп лист'!$B$2,ROUNDUP(D12*(1-$AH$1)/'Всп лист'!$C$3*'Всп лист'!$B$3*'Всп лист'!$B$4,0)),"-") -> 550 | AK12: =IFERROR(IF('Установка скидки'!$M$1=FALSE,E12*(1-$AH$1)/'Всп лист'!$B$2,ROUNDUP(E12*(1-$AH$1)/'Всп лист'!$C$3*'Всп лист'!$B$3*'Всп лист'!$B$4,0)),"-") -> 572 | AL12: =IFERROR(IF('Установка скидки'!$M$1=FALSE,F12*(1-$AH$1)/'Всп лист'!$B$2,ROUNDUP(F12*(1-$AH$1)/'Всп лист'!$C$3*'Всп лист'!$B$3*'Всп лист'!$B$4,0)),"-") -> 595 | AM12: =IFERROR(IF('Установка скидки'!$M$1=FALSE,G12*(1-$AH$1)/'Всп лист'!$B$2,ROUNDUP(G12*(1-$AH$1)/'Всп лист'!$C$3*'Всп лист'!$B$3*'Всп лист'!$B$4,0)),"-") -> - | AN12: =IFERROR(IF('Установка скидки'!$M$1=FALSE,H12*(1-$AH$1)/'Всп лист'!$B$2,ROUNDUP(H12*(1-$AH$1)/'Всп лист'!$C$3*'Всп лист'!$B$3*'Всп лист'!$B$4,0)),"-") -> 639 | AO12: =IFERROR(IF('Установка скидки'!$M$1=FALSE,I12*(1-$AH$1)/'Всп лист'!$B$2,ROUNDUP(I12*(1-$AH$1)/'Всп лист'!$C$3*'Всп лист'!$B$3*'Всп лист'!$B$4,0)),"-") -> - | ... AT12: =IFERROR(IF('Установка скидки'!$M$1=FALSE,N12*(1-$AH$1)/'Всп лист'!$B$2,ROUNDUP(N12*(1-$AH$1)/'Всп лист'!$C$3*'Всп лист'!$B$3*'Всп лист'!$B$4,0)),"-") -> 945
A13: Адаптер Моно М-М (316-0.5) | B13: 557 | C13: 627 | D13: - | E13: - | F13: - | G13: - | H13: - | I13: - | J13: - | K13: - | L13: - | M13: - | N13: - | AG13: Адаптер Моно М-М (316-0.5) | AH13: =IFERROR(IF('Установка скидки'!$M$1=FALSE,B13*(1-$AH$1)/'Всп лист'!$B$2,ROUNDUP(B13*(1-$AH$1)/'Всп лист'!$C$3*'Всп лист'!$B$3*'Всп лист'!$B$4,0)),"-") -> 557 | AI13: =IFERROR(IF('Установка скидки'!$M$1=FALSE,C13*(1-$AH$1)/'Всп лист'!$B$2,ROUNDUP(C13*(1-$AH$1)/'Всп лист'!$C$3*'Всп лист'!$B$3*'Всп лист'!$B$4,0)),"-") -> 627 | AJ13: =IFERROR(IF('Установка скидки'!$M$1=FALSE,D13*(1-$AH$1)/'Всп лист'!$B$2,ROUNDUP(D13*(1-$AH$1)/'Всп лист'!$C$3*'Всп лист'!$B$3*'Всп лист'!$B$4,0)),"-") -> - | AK13: =IFERROR(IF('Установка скидки'!$M$1=FALSE,E13*(1-$AH$1)/'Всп лист'!$B$2,ROUNDUP(E13*(1-$AH$1)/'Всп лист'!$C$3*'Всп лист'!$B$3*'Всп лист'!$B$4,0)),"-") -> - | AL13: =IFERROR(IF('Установка скидки'!$M$1=FALSE,F13*(1-$AH$1)/'Всп лист'!$B$2,ROUNDUP(F13*(1-$AH$1)/'Всп лист'!$C$3*'Всп лист'!$B$3*'Всп лист'!$B$4,0)),"-") -> - | AM13: =IFERROR(IF('Установка скидки'!$M$1=FALSE,G13*(1-$AH$1)/'Всп лист'!$B$2,ROUNDUP(G13*(1-$AH$1)/'Всп лист'!$C$3*'Всп лист'!$B$3*'Всп лист'!$B$4,0)),"-") -> - | AN13: =IFERROR(IF('Установка скидки'!$M$1=FALSE,H13*(1-$AH$1)/'Всп лист'!$B$2,ROUNDUP(H13*(1-$AH$1)/'Всп лист'!$C$3*'Всп лист'!$B$3*'Всп лист'!$B$4,0)),"-") -> - | AO13: =IFERROR(IF('Установка скидки'!$M$1=FALSE,I13*(1-$AH$1)/'Всп лист'!$B$2,ROUNDUP(I13*(1-$AH$1)/'Всп лист'!$C$3*'Всп лист'!$B$3*'Всп лист'!$B$4,0)),"-") -> - | ... AT13: =IFERROR(IF('Установка скидки'!$M$1=FALSE,N13*(1-$AH$1)/'Всп лист'!$B$2,ROUNDUP(N13*(1-$AH$1)/'Всп лист'!$C$3*'Всп лист'!$B$3*'Всп лист'!$B$4,0)),"-") -> -
A14: Адаптер Моно М-М (316-0.8) | B14: - | C14: - | D14: 930 | E14: - | F14: 1014 | G14: - | H14: 1094 | I14: - | J14: 1255 | K14: - | L14: 1496 | M14: 1657 | N14: 2052 | AG14: Адаптер Моно М-М (316-0.8) | AH14: =IFERROR(IF('Установка скидки'!$M$1=FALSE,B14*(1-$AH$1)/'Всп лист'!$B$2,ROUNDUP(B14*(1-$AH$1)/'Всп лист'!$C$3*'Всп лист'!$B$3*'Всп лист'!$B$4,0)),"-") -> - | AI14: =IFERROR(IF('Установка скидки'!$M$1=FALSE,C14*(1-$AH$1)/'Всп лист'!$B$2,ROUNDUP(C14*(1-$AH$1)/'Всп лист'!$C$3*'Всп лист'!$B$3*'Всп лист'!$B$4,0)),"-") -> - | AJ14: =IFERROR(IF('Установка скидки'!$M$1=FALSE,D14*(1-$AH$1)/'Всп лист'!$B$2,ROUNDUP(D14*(1-$AH$1)/'Всп лист'!$C$3*'Всп лист'!$B$3*'Всп лист'!$B$4,0)),"-") -> 930 | AK14: =IFERROR(IF('Установка скидки'!$M$1=FALSE,E14*(1-$AH$1)/'Всп лист'!$B$2,ROUNDUP(E14*(1-$AH$1)/'Всп лист'!$C$3*'Всп лист'!$B$3*'Всп лист'!$B$4,0)),"-") -> - | AL14: =IFERROR(IF('Установка скидки'!$M$1=FALSE,F14*(1-$AH$1)/'Всп лист'!$B$2,ROUNDUP(F14*(1-$AH$1)/'Всп лист'!$C$3*'Всп лист'!$B$3*'Всп лист'!$B$4,0)),"-") -> 1014 | AM14: =IFERROR(IF('Установка скидки'!$M$1=FALSE,G14*(1-$AH$1)/'Всп лист'!$B$2,ROUNDUP(G14*(1-$AH$1)/'Всп лист'!$C$3*'Всп лист'!$B$3*'Всп лист'!$B$4,0)),"-") -> - | AN14: =IFERROR(IF('Установка скидки'!$M$1=FALSE,H14*(1-$AH$1)/'Всп лист'!$B$2,ROUNDUP(H14*(1-$AH$1)/'Всп лист'!$C$3*'Всп лист'!$B$3*'Всп лист'!$B$4,0)),"-") -> 1094 | AO14: =IFERROR(IF('Установка скидки'!$M$1=FALSE,I14*(1-$AH$1)/'Всп лист'!$B$2,ROUNDUP(I14*(1-$AH$1)/'Всп лист'!$C$3*'Всп лист'!$B$3*'Всп лист'!$B$4,0)),"-") -> - | ... AT14: =IFERROR(IF('Установка скидки'!$M$1=FALSE,N14*(1-$AH$1)/'Всп лист'!$B$2,ROUNDUP(N14*(1-$AH$1)/'Всп лист'!$C$3*'Всп лист'!$B$3*'Всп лист'!$B$4,0)),"-") -> 2052
A15: Адаптер Моно М-М (310-0.8) | B15: - | C15: - | D15: - | E15: - | F15: - | G15: - | H15: 1522 | I15: - | J15: 1756 | K15: - | L15: - | M15: 2341 | N15: - | AG15: Адаптер Моно М-М (310-0.8) | AH15: =IFERROR(IF('Установка скидки'!$M$1=FALSE,B15*(1-$AH$1)/'Всп лист'!$B$2,ROUNDUP(B15*(1-$AH$1)/'Всп лист'!$C$3*'Всп лист'!$B$3*'Всп лист'!$B$4,0)),"-") -> - | AI15: =IFERROR(IF('Установка скидки'!$M$1=FALSE,C15*(1-$AH$1)/'Всп лист'!$B$2,ROUNDUP(C15*(1-$AH$1)/'Всп лист'!$C$3*'Всп лист'!$B$3*'Всп лист'!$B$4,0)),"-") -> - | AJ15: =IFERROR(IF('Установка скидки'!$M$1=FALSE,D15*(1-$AH$1)/'Всп лист'!$B$2,ROUNDUP(D15*(1-$AH$1)/'Всп лист'!$C$3*'Всп лист'!$B$3*'Всп лист'!$B$4,0)),"-") -> - | AK15: =IFERROR(IF('Установка скидки'!$M$1=FALSE,E15*(1-$AH$1)/'Всп лист'!$B$2,ROUNDUP(E15*(1-$AH$1)/'Всп лист'!$C$3*'Всп лист'!$B$3*'Всп лист'!$B$4,0)),"-") -> - | AL15: =IFERROR(IF('Установка скидки'!$M$1=FALSE,F15*(1-$AH$1)/'Всп лист'!$B$2,ROUNDUP(F15*(1-$AH$1)/'Всп лист'!$C$3*'Всп лист'!$B$3*'Всп лист'!$B$4,0)),"-") -> - | AM15: =IFERROR(IF('Установка скидки'!$M$1=FALSE,G15*(1-$AH$1)/'Всп лист'!$B$2,ROUNDUP(G15*(1-$AH$1)/'Всп лист'!$C$3*'Всп лист'!$B$3*'Всп лист'!$B$4,0)),"-") -> - | AN15: =IFERROR(IF('Установка скидки'!$M$1=FALSE,H15*(1-$AH$1)/'Всп лист'!$B$2,ROUNDUP(H15*(1-$AH$1)/'Всп лист'!$C$3*'Всп лист'!$B$3*'Всп лист'!$B$4,0)),"-") -> 1522 | AO15: =IFERROR(IF('Установка скидки'!$M$1=FALSE,I15*(1-$AH$1)/'Всп лист'!$B$2,ROUNDUP(I15*(1-$AH$1)/'Всп лист'!$C$3*'Всп лист'!$B$3*'Всп лист'!$B$4,0)),"-") -> - | ... AT15: =IFERROR(IF('Установка скидки'!$M$1=FALSE,N15*(1-$AH$1)/'Всп лист'!$B$2,ROUNDUP(N15*(1-$AH$1)/'Всп лист'!$C$3*'Всп лист'!$B$3*'Всп лист'!$B$4,0)),"-") -> -
A17: Элемент дымохода: Адаптеры-переходы | AG17: Элемент дымохода: Адаптеры-переходы
A19: Наименование / Диаметр | B19: 80/100 | C19: 80/110 | D19: 80/115 | E19: 80/120 | F19: 100/110 | G19: 100/115 | H19: 100/120 | I19: 110/115 | J19: 110/120 | K19: 115/120 | L19: 115/130 | M19: 120/125 | N19: 120/130 | O19: 120/150 | P19: 125/130 | Q19: 130/135 | R19: 130/140 | S19: 130/150 | T19: 135/150 | U19: 140/150 | V19: 150/160 | W19: 150/180 | X19: 150/200 | Y19: 160/180 | Z19: 160/200 | AA19: 180/200 | AB19: 200/220 | AC19: 200/250 | AD19: 220/250 | AE19: 230/250 | AG19: Наименование / Диаметр | AH19: 80/100 | AI19: 80/110 | AJ19: 80/115 | AK19: 80/120 | AL19: 100/110 | AM19: 100/115 | AN19: 100/120 | AO19: 110/115 | AP19: 110/120 | AQ19: 115/120 | AR19: 115/130 | AS19: 120/125 | AT19: 120/130 | AU19: 120/150 | AV19: 125/130
A20: Адаптер переход Моно М-М (430-0.8) | B20: - | C20: - | D20: - | E20: - | F20: 457 | G20: 505 | H20: 505 | I20: 536 | J20: 536 | K20: 561 | L20: - | M20: 577 | N20: 670 | O20: 602 | P20: 635 | Q20: 635 | R20: 658 | S20: 821 | T20: - | U20: 684 | V20: 734 | W20: 839 | X20: 1821 | Y20: 811 | Z20: 1847 | AA20: 1096 | AB20: 1016 | AC20: 2315 | AD20: - | AE20: - | AG20: Адаптер переход Моно М-М (430-0.8) | AH20: =IFERROR(IF('Установка скидки'!$M$1=FALSE,B20*(1-$AH$1)/'Всп лист'!$B$2,ROUNDUP(B20*(1-$AH$1)/'Всп лист'!$C$3*'Всп лист'!$B$3*'Всп лист'!$B$4,0)),"-") -> - | AI20: =IFERROR(IF('Установка скидки'!$M$1=FALSE,C20*(1-$AH$1)/'Всп лист'!$B$2,ROUNDUP(C20*(1-$AH$1)/'Всп лист'!$C$3*'Всп лист'!$B$3*'Всп лист'!$B$4,0)),"-") -> - | AJ20: =IFERROR(IF('Установка скидки'!$M$1=FALSE,D20*(1-$AH$1)/'Всп лист'!$B$2,ROUNDUP(D20*(1-$AH$1)/'Всп лист'!$C$3*'Всп лист'!$B$3*'Всп лист'!$B$4,0)),"-") -> - | AK20: =IFERROR(IF('Установка скидки'!$M$1=FALSE,E20*(1-$AH$1)/'Всп лист'!$B$2,ROUNDUP(E20*(1-$AH$1)/'Всп лист'!$C$3*'Всп лист'!$B$3*'Всп лист'!$B$4,0)),"-") -> - | AL20: =IFERROR(IF('Установка скидки'!$M$1=FALSE,F20*(1-$AH$1)/'Всп лист'!$B$2,ROUNDUP(F20*(1-$AH$1)/'Всп лист'!$C$3*'Всп лист'!$B$3*'Всп лист'!$B$4,0)),"-") -> 457 | AM20: =IFERROR(IF('Установка скидки'!$M$1=FALSE,G20*(1-$AH$1)/'Всп лист'!$B$2,ROUNDUP(G20*(1-$AH$1)/'Всп лист'!$C$3*'Всп лист'!$B$3*'Всп лист'!$B$4,0)),"-") -> 505 | AN20: =IFERROR(IF('Установка скидки'!$M$1=FALSE,H20*(1-$AH$1)/'Всп лист'!$B$2,ROUNDUP(H20*(1-$AH$1)/'Всп лист'!$C$3*'Всп лист'!$B$3*'Всп лист'!$B$4,0)),"-") -> 505 | AO20: =IFERROR(IF('Установка скидки'!$M$1=FALSE,I20*(1-$AH$1)/'Всп лист'!$B$2,ROUNDUP(I20*(1-$AH$1)/'Всп лист'!$C$3*'Всп лист'!$B$3*'Всп лист'!$B$4,0)),"-") -> 536 | ... AV20: =IFERROR(IF('Установка скидки'!$M$1=FALSE,P20*(1-$AH$1)/'Всп лист'!$B$2,ROUNDUP(P20*(1-$AH$1)/'Всп лист'!$C$3*'Всп лист'!$B$3*'Всп лист'!$B$4,0)),"-") -> 635
A21: Адаптер переход Моно М-М (430-0.5) | B21: 779 | C21: 857 | D21: 878 | E21: 888 | F21: - | G21: - | H21: - | I21: - | J21: - | K21: - | L21: - | M21: - | N21: - | O21: - | P21: - | Q21: - | R21: - | S21: - | T21: - | U21: - | V21: - | W21: - | X21: - | Y21: - | Z21: - | AA21: - | AB21: - | AC21: - | AD21: - | AE21: - | AG21: Адаптер переход Моно М-М (430-0.5) | AH21: =IFERROR(IF('Установка скидки'!$M$1=FALSE,B21*(1-$AH$1)/'Всп лист'!$B$2,ROUNDUP(B21*(1-$AH$1)/'Всп лист'!$C$3*'Всп лист'!$B$3*'Всп лист'!$B$4,0)),"-") -> 779 | AI21: =IFERROR(IF('Установка скидки'!$M$1=FALSE,C21*(1-$AH$1)/'Всп лист'!$B$2,ROUNDUP(C21*(1-$AH$1)/'Всп лист'!$C$3*'Всп лист'!$B$3*'Всп лист'!$B$4,0)),"-") -> 857 | AJ21: =IFERROR(IF('Установка скидки'!$M$1=FALSE,D21*(1-$AH$1)/'Всп лист'!$B$2,ROUNDUP(D21*(1-$AH$1)/'Всп лист'!$C$3*'Всп лист'!$B$3*'Всп лист'!$B$4,0)),"-") -> 878 | AK21: =IFERROR(IF('Установка скидки'!$M$1=FALSE,E21*(1-$AH$1)/'Всп лист'!$B$2,ROUNDUP(E21*(1-$AH$1)/'Всп лист'!$C$3*'Всп лист'!$B$3*'Всп лист'!$B$4,0)),"-") -> 888 | AL21: =IFERROR(IF('Установка скидки'!$M$1=FALSE,F21*(1-$AH$1)/'Всп лист'!$B$2,ROUNDUP(F21*(1-$AH$1)/'Всп лист'!$C$3*'Всп лист'!$B$3*'Всп лист'!$B$4,0)),"-") -> - | AM21: =IFERROR(IF('Установка скидки'!$M$1=FALSE,G21*(1-$AH$1)/'Всп лист'!$B$2,ROUNDUP(G21*(1-$AH$1)/'Всп лист'!$C$3*'Всп лист'!$B$3*'Всп лист'!$B$4,0)),"-") -> - | AN21: =IFERROR(IF('Установка скидки'!$M$1=FALSE,H21*(1-$AH$1)/'Всп лист'!$B$2,ROUNDUP(H21*(1-$AH$1)/'Всп лист'!$C$3*'Всп лист'!$B$3*'Всп лист'!$B$4,0)),"-") -> - | AO21: =IFERROR(IF('Установка скидки'!$M$1=FALSE,I21*(1-$AH$1)/'Всп лист'!$B$2,ROUNDUP(I21*(1-$AH$1)/'Всп лист'!$C$3*'Всп лист'!$B$3*'Всп лист'!$B$4,0)),"-") -> - | ... AV21: =IFERROR(IF('Установка скидки'!$M$1=FALSE,P21*(1-$AH$1)/'Всп лист'!$B$2,ROUNDUP(P21*(1-$AH$1)/'Всп лист'!$C$3*'Всп лист'!$B$3*'Всп лист'!$B$4,0)),"-") -> -
A22: Адаптер переход Моно М-М (304-0.8) | B22: - | C22: - | D22: - | E22: - | F22: - | G22: - | H22: 577 | I22: - | J22: 615 | K22: 645 | L22: 669 | M22: - | N22: 664 | O22: - | P22: - | Q22: - | R22: 697 | S22: 761 | T22: - | U22: 792 | V22: 851 | W22: 978 | X22: - | Y22: 945 | Z22: - | AA22: - | AB22: - | AC22: - | AD22: 1277 | AE22: 1374 | AG22: Адаптер переход Моно М-М (304-0.8) | AH22: =IFERROR(IF('Установка скидки'!$M$1=FALSE,B22*(1-$AH$1)/'Всп лист'!$B$2,ROUNDUP(B22*(1-$AH$1)/'Всп лист'!$C$3*'Всп лист'!$B$3*'Всп лист'!$B$4,0)),"-") -> - | AI22: =IFERROR(IF('Установка скидки'!$M$1=FALSE,C22*(1-$AH$1)/'Всп лист'!$B$2,ROUNDUP(C22*(1-$AH$1)/'Всп лист'!$C$3*'Всп лист'!$B$3*'Всп лист'!$B$4,0)),"-") -> - | AJ22: =IFERROR(IF('Установка скидки'!$M$1=FALSE,D22*(1-$AH$1)/'Всп лист'!$B$2,ROUNDUP(D22*(1-$AH$1)/'Всп лист'!$C$3*'Всп лист'!$B$3*'Всп лист'!$B$4,0)),"-") -> - | AK22: =IFERROR(IF('Установка скидки'!$M$1=FALSE,E22*(1-$AH$1)/'Всп лист'!$B$2,ROUNDUP(E22*(1-$AH$1)/'Всп лист'!$C$3*'Всп лист'!$B$3*'Всп лист'!$B$4,0)),"-") -> - | AL22: =IFERROR(IF('Установка скидки'!$M$1=FALSE,F22*(1-$AH$1)/'Всп лист'!$B$2,ROUNDUP(F22*(1-$AH$1)/'Всп лист'!$C$3*'Всп лист'!$B$3*'Всп лист'!$B$4,0)),"-") -> - | AM22: =IFERROR(IF('Установка скидки'!$M$1=FALSE,G22*(1-$AH$1)/'Всп лист'!$B$2,ROUNDUP(G22*(1-$AH$1)/'Всп лист'!$C$3*'Всп лист'!$B$3*'Всп лист'!$B$4,0)),"-") -> - | AN22: =IFERROR(IF('Установка скидки'!$M$1=FALSE,H22*(1-$AH$1)/'Всп лист'!$B$2,ROUNDUP(H22*(1-$AH$1)/'Всп лист'!$C$3*'Всп лист'!$B$3*'Всп лист'!$B$4,0)),"-") -> 577 | AO22: =IFERROR(IF('Установка скидки'!$M$1=FALSE,I22*(1-$AH$1)/'Всп лист'!$B$2,ROUNDUP(I22*(1-$AH$1)/'Всп лист'!$C$3*'Всп лист'!$B$3*'Всп лист'!$B$4,0)),"-") -> - | ... AV22: =IFERROR(IF('Установка скидки'!$M$1=FALSE,P22*(1-$AH$1)/'Всп лист'!$B$2,ROUNDUP(P22*(1-$AH$1)/'Всп лист'!$C$3*'Всп лист'!$B$3*'Всп лист'!$B$4,0)),"-") -> -
A23: Адаптер переход Моно М-М (316-0.8) | B23: - | C23: - | D23: - | E23: - | F23: - | G23: - | H23: 1508 | I23: - | J23: 1553 | K23: 1554 | L23: - | M23: - | N23: 1684 | O23: - | P23: - | Q23: - | R23: 1779 | S23: - | T23: - | U23: 1929 | V23: 2078 | W23: 2399 | X23: - | Y23: 2315 | Z23: - | AA23: 2626 | AB23: 2937 | AC23: - | AD23: 3381 | AE23: 3403 | AG23: Адаптер переход Моно М-М (316-0.8) | AH23: =IFERROR(IF('Установка скидки'!$M$1=FALSE,B23*(1-$AH$1)/'Всп лист'!$B$2,ROUNDUP(B23*(1-$AH$1)/'Всп лист'!$C$3*'Всп лист'!$B$3*'Всп лист'!$B$4,0)),"-") -> - | AI23: =IFERROR(IF('Установка скидки'!$M$1=FALSE,C23*(1-$AH$1)/'Всп лист'!$B$2,ROUNDUP(C23*(1-$AH$1)/'Всп лист'!$C$3*'Всп лист'!$B$3*'Всп лист'!$B$4,0)),"-") -> - | AJ23: =IFERROR(IF('Установка скидки'!$M$1=FALSE,D23*(1-$AH$1)/'Всп лист'!$B$2,ROUNDUP(D23*(1-$AH$1)/'Всп лист'!$C$3*'Всп лист'!$B$3*'Всп лист'!$B$4,0)),"-") -> - | AK23: =IFERROR(IF('Установка скидки'!$M$1=FALSE,E23*(1-$AH$1)/'Всп лист'!$B$2,ROUNDUP(E23*(1-$AH$1)/'Всп лист'!$C$3*'Всп лист'!$B$3*'Всп лист'!$B$4,0)),"-") -> - | AL23: =IFERROR(IF('Установка скидки'!$M$1=FALSE,F23*(1-$AH$1)/'Всп лист'!$B$2,ROUNDUP(F23*(1-$AH$1)/'Всп лист'!$C$3*'Всп лист'!$B$3*'Всп лист'!$B$4,0)),"-") -> - | AM23: =IFERROR(IF('Установка скидки'!$M$1=FALSE,G23*(1-$AH$1)/'Всп лист'!$B$2,ROUNDUP(G23*(1-$AH$1)/'Всп лист'!$C$3*'Всп лист'!$B$3*'Всп лист'!$B$4,0)),"-") -> - | AN23: =IFERROR(IF('Установка скидки'!$M$1=FALSE,H23*(1-$AH$1)/'Всп лист'!$B$2,ROUNDUP(H23*(1-$AH$1)/'Всп лист'!$C$3*'Всп лист'!$B$3*'Всп лист'!$B$4,0)),"-") -> 1508 | AO23: =IFERROR(IF('Установка скидки'!$M$1=FALSE,I23*(1-$AH$1)/'Всп лист'!$B$2,ROUNDUP(I23*(1-$AH$1)/'Всп лист'!$C$3*'Всп лист'!$B$3*'Всп лист'!$B$4,0)),"-") -> - | ... AV23: =IFERROR(IF('Установка скидки'!$M$1=FALSE,P23*(1-$AH$1)/'Всп лист'!$B$2,ROUNDUP(P23*(1-$AH$1)/'Всп лист'!$C$3*'Всп лист'!$B$3*'Всп лист'!$B$4,0)),"-") -> -
A24: Адаптер переход Моно М-М (310-0.8) | B24: - | C24: - | D24: - | E24: - | F24: - | G24: - | H24: - | I24: - | J24: - | K24: 1799 | L24: 1865 | M24: - | N24: 1852 | O24: - | P24: 1895 | Q24: - | R24: - | S24: 2016 | T24: - | U24: - | V24: - | W24: - | X24: - | Y24: - | Z24: - | AA24: 2538 | AB24: - | AC24: - | AD24: - | AE24: - | AG24: Адаптер переход Моно М-М (310-0.8) | AH24: =IFERROR(IF('Установка скидки'!$M$1=FALSE,B24*(1-$AH$1)/'Всп лист'!$B$2,ROUNDUP(B24*(1-$AH$1)/'Всп лист'!$C$3*'Всп лист'!$B$3*'Всп лист'!$B$4,0)),"-") -> - | AI24: =IFERROR(IF('Установка скидки'!$M$1=FALSE,C24*(1-$AH$1)/'Всп лист'!$B$2,ROUNDUP(C24*(1-$AH$1)/'Всп лист'!$C$3*'Всп лист'!$B$3*'Всп лист'!$B$4,0)),"-") -> - | AJ24: =IFERROR(IF('Установка скидки'!$M$1=FALSE,D24*(1-$AH$1)/'Всп лист'!$B$2,ROUNDUP(D24*(1-$AH$1)/'Всп лист'!$C$3*'Всп лист'!$B$3*'Всп лист'!$B$4,0)),"-") -> - | AK24: =IFERROR(IF('Установка скидки'!$M$1=FALSE,E24*(1-$AH$1)/'Всп лист'!$B$2,ROUNDUP(E24*(1-$AH$1)/'Всп лист'!$C$3*'Всп лист'!$B$3*'Всп лист'!$B$4,0)),"-") -> - | AL24: =IFERROR(IF('Установка скидки'!$M$1=FALSE,F24*(1-$AH$1)/'Всп лист'!$B$2,ROUNDUP(F24*(1-$AH$1)/'Всп лист'!$C$3*'Всп лист'!$B$3*'Всп лист'!$B$4,0)),"-") -> - | AM24: =IFERROR(IF('Установка скидки'!$M$1=FALSE,G24*(1-$AH$1)/'Всп лист'!$B$2,ROUNDUP(G24*(1-$AH$1)/'Всп лист'!$C$3*'Всп лист'!$B$3*'Всп лист'!$B$4,0)),"-") -> - | AN24: =IFERROR(IF('Установка скидки'!$M$1=FALSE,H24*(1-$AH$1)/'Всп лист'!$B$2,ROUNDUP(H24*(1-$AH$1)/'Всп лист'!$C$3*'Всп лист'!$B$3*'Всп лист'!$B$4,0)),"-") -> - | AO24: =IFERROR(IF('Установка скидки'!$M$1=FALSE,I24*(1-$AH$1)/'Всп лист'!$B$2,ROUNDUP(I24*(1-$AH$1)/'Всп лист'!$C$3*'Всп лист'!$B$3*'Всп лист'!$B$4,0)),"-") -> - | ... AV24: =IFERROR(IF('Установка скидки'!$M$1=FALSE,P24*(1-$AH$1)/'Всп лист'!$B$2,ROUNDUP(P24*(1-$AH$1)/'Всп лист'!$C$3*'Всп лист'!$B$3*'Всп лист'!$B$4,0)),"-") -> 1895
AG25: Наименование / Диаметр | AH25: 130/135 | AI25: 130/140 | AJ25: 130/150 | AK25: 135/150 | AL25: 140/150 | AM25: 150/160 | AN25: 150/180 | AO25: 150/200 | AP25: 160/180 | AQ25: 160/200 | AR25: 180/200 | AS25: 200/220 | AT25: 200/250 | AU25: 220/250 | AV25: 230/250
AG26: Адаптер переход Моно М-М (430-0.8) | AH26: =IFERROR(IF('Установка скидки'!$M$1=FALSE,Q20*(1-$AH$1)/'Всп лист'!$B$2,ROUNDUP(Q20*(1-$AH$1)/'Всп лист'!$C$3*'Всп лист'!$B$3*'Всп лист'!$B$4,0)),"-") -> 635 | AI26: =IFERROR(IF('Установка скидки'!$M$1=FALSE,R20*(1-$AH$1)/'Всп лист'!$B$2,ROUNDUP(R20*(1-$AH$1)/'Всп лист'!$C$3*'Всп лист'!$B$3*'Всп лист'!$B$4,0)),"-") -> 658 | AJ26: =IFERROR(IF('Установка скидки'!$M$1=FALSE,S20*(1-$AH$1)/'Всп лист'!$B$2,ROUNDUP(S20*(1-$AH$1)/'Всп лист'!$C$3*'Всп лист'!$B$3*'Всп лист'!$B$4,0)),"-") -> 821 | AK26: =IFERROR(IF('Установка скидки'!$M$1=FALSE,T20*(1-$AH$1)/'Всп лист'!$B$2,ROUNDUP(T20*(1-$AH$1)/'Всп лист'!$C$3*'Всп лист'!$B$3*'Всп лист'!$B$4,0)),"-") -> - | AL26: =IFERROR(IF('Установка скидки'!$M$1=FALSE,U20*(1-$AH$1)/'Всп лист'!$B$2,ROUNDUP(U20*(1-$AH$1)/'Всп лист'!$C$3*'Всп лист'!$B$3*'Всп лист'!$B$4,0)),"-") -> 684 | AM26: =IFERROR(IF('Установка скидки'!$M$1=FALSE,V20*(1-$AH$1)/'Всп лист'!$B$2,ROUNDUP(V20*(1-$AH$1)/'Всп лист'!$C$3*'Всп лист'!$B$3*'Всп лист'!$B$4,0)),"-") -> 734 | AN26: =IFERROR(IF('Установка скидки'!$M$1=FALSE,W20*(1-$AH$1)/'Всп лист'!$B$2,ROUNDUP(W20*(1-$AH$1)/'Всп лист'!$C$3*'Всп лист'!$B$3*'Всп лист'!$B$4,0)),"-") -> 839 | AO26: =IFERROR(IF('Установка скидки'!$M$1=FALSE,X20*(1-$AH$1)/'Всп лист'!$B$2,ROUNDUP(X20*(1-$AH$1)/'Всп лист'!$C$3*'Всп лист'!$B$3*'Всп лист'!$B$4,0)),"-") -> 1821 | ... AV26: =IFERROR(IF('Установка скидки'!$M$1=FALSE,AE20*(1-$AH$1)/'Всп лист'!$B$2,ROUNDUP(AE20*(1-$AH$1)/'Всп лист'!$C$3*'Всп лист'!$B$3*'Всп лист'!$B$4,0)),"-") -> -
A27: Складская программа (срок отгрузки до 7 дней) | AG27: Адаптер переход Моно М-М (430-0.5) | AH27: =IFERROR(IF('Установка скидки'!$M$1=FALSE,Q21*(1-$AH$1)/'Всп лист'!$B$2,ROUNDUP(Q21*(1-$AH$1)/'Всп лист'!$C$3*'Всп лист'!$B$3*'Всп лист'!$B$4,0)),"-") -> - | AI27: =IFERROR(IF('Установка скидки'!$M$1=FALSE,R21*(1-$AH$1)/'Всп лист'!$B$2,ROUNDUP(R21*(1-$AH$1)/'Всп лист'!$C$3*'Всп лист'!$B$3*'Всп лист'!$B$4,0)),"-") -> - | AJ27: =IFERROR(IF('Установка скидки'!$M$1=FALSE,S21*(1-$AH$1)/'Всп лист'!$B$2,ROUNDUP(S21*(1-$AH$1)/'Всп лист'!$C$3*'Всп лист'!$B$3*'Всп лист'!$B$4,0)),"-") -> - | AK27: =IFERROR(IF('Установка скидки'!$M$1=FALSE,T21*(1-$AH$1)/'Всп лист'!$B$2,ROUNDUP(T21*(1-$AH$1)/'Всп лист'!$C$3*'Всп лист'!$B$3*'Всп лист'!$B$4,0)),"-") -> - | AL27: =IFERROR(IF('Установка скидки'!$M$1=FALSE,U21*(1-$AH$1)/'Всп лист'!$B$2,ROUNDUP(U21*(1-$AH$1)/'Всп лист'!$C$3*'Всп лист'!$B$3*'Всп лист'!$B$4,0)),"-") -> - | AM27: =IFERROR(IF('Установка скидки'!$M$1=FALSE,V21*(1-$AH$1)/'Всп лист'!$B$2,ROUNDUP(V21*(1-$AH$1)/'Всп лист'!$C$3*'Всп лист'!$B$3*'Всп лист'!$B$4,0)),"-") -> - | AN27: =IFERROR(IF('Установка скидки'!$M$1=FALSE,W21*(1-$AH$1)/'Всп лист'!$B$2,ROUNDUP(W21*(1-$AH$1)/'Всп лист'!$C$3*'Всп лист'!$B$3*'Всп лист'!$B$4,0)),"-") -> - | AO27: =IFERROR(IF('Установка скидки'!$M$1=FALSE,X21*(1-$AH$1)/'Всп лист'!$B$2,ROUNDUP(X21*(1-$AH$1)/'Всп лист'!$C$3*'Всп лист'!$B$3*'Всп лист'!$B$4,0)),"-") -> - | ... AV27: =IFERROR(IF('Установка скидки'!$M$1=FALSE,AE21*(1-$AH$1)/'Всп лист'!$B$2,ROUNDUP(AE21*(1-$AH$1)/'Всп лист'!$C$3*'Всп лист'!$B$3*'Всп лист'!$B$4,0)),"-") -> -
A28: Выделенным цветом изделия являются распродажными (выбирать только при наличии на складе) | AG28: Адаптер переход Моно М-М (304-0.8) | AH28: =IFERROR(IF('Установка скидки'!$M$1=FALSE,Q22*(1-$AH$1)/'Всп лист'!$B$2,ROUNDUP(Q22*(1-$AH$1)/'Всп лист'!$C$3*'Всп лист'!$B$3*'Всп лист'!$B$4,0)),"-") -> - | AI28: =IFERROR(IF('Установка скидки'!$M$1=FALSE,R22*(1-$AH$1)/'Всп лист'!$B$2,ROUNDUP(R22*(1-$AH$1)/'Всп лист'!$C$3*'Всп лист'!$B$3*'Всп лист'!$B$4,0)),"-") -> 697 | AJ28: =IFERROR(IF('Установка скидки'!$M$1=FALSE,S22*(1-$AH$1)/'Всп лист'!$B$2,ROUNDUP(S22*(1-$AH$1)/'Всп лист'!$C$3*'Всп лист'!$B$3*'Всп лист'!$B$4,0)),"-") -> 761 | AK28: =IFERROR(IF('Установка скидки'!$M$1=FALSE,T22*(1-$AH$1)/'Всп лист'!$B$2,ROUNDUP(T22*(1-$AH$1)/'Всп лист'!$C$3*'Всп лист'!$B$3*'Всп лист'!$B$4,0)),"-") -> - | AL28: =IFERROR(IF('Установка скидки'!$M$1=FALSE,U22*(1-$AH$1)/'Всп лист'!$B$2,ROUNDUP(U22*(1-$AH$1)/'Всп лист'!$C$3*'Всп лист'!$B$3*'Всп лист'!$B$4,0)),"-") -> 792 | AM28: =IFERROR(IF('Установка скидки'!$M$1=FALSE,V22*(1-$AH$1)/'Всп лист'!$B$2,ROUNDUP(V22*(1-$AH$1)/'Всп лист'!$C$3*'Всп лист'!$B$3*'Всп лист'!$B$4,0)),"-") -> 851 | AN28: =IFERROR(IF('Установка скидки'!$M$1=FALSE,W22*(1-$AH$1)/'Всп лист'!$B$2,ROUNDUP(W22*(1-$AH$1)/'Всп лист'!$C$3*'Всп лист'!$B$3*'Всп лист'!$B$4,0)),"-") -> 978 | AO28: =IFERROR(IF('Установка скидки'!$M$1=FALSE,X22*(1-$AH$1)/'Всп лист'!$B$2,ROUNDUP(X22*(1-$AH$1)/'Всп лист'!$C$3*'Всп лист'!$B$3*'Всп лист'!$B$4,0)),"-") -> - | ... AV28: =IFERROR(IF('Установка скидки'!$M$1=FALSE,AE22*(1-$AH$1)/'Всп лист'!$B$2,ROUNDUP(AE22*(1-$AH$1)/'Всп лист'!$C$3*'Всп лист'!$B$3*'Всп лист'!$B$4,0)),"-") -> 1374
AG29: Адаптер переход Моно М-М (316-0.8) | AH29: =IFERROR(IF('Установка скидки'!$M$1=FALSE,Q23*(1-$AH$1)/'Всп лист'!$B$2,ROUNDUP(Q23*(1-$AH$1)/'Всп лист'!$C$3*'Всп лист'!$B$3*'Всп лист'!$B$4,0)),"-") -> - | AI29: =IFERROR(IF('Установка скидки'!$M$1=FALSE,R23*(1-$AH$1)/'Всп лист'!$B$2,ROUNDUP(R23*(1-$AH$1)/'Всп лист'!$C$3*'Всп лист'!$B$3*'Всп лист'!$B$4,0)),"-") -> 1779 | AJ29: =IFERROR(IF('Установка скидки'!$M$1=FALSE,S23*(1-$AH$1)/'Всп лист'!$B$2,ROUNDUP(S23*(1-$AH$1)/'Всп лист'!$C$3*'Всп лист'!$B$3*'Всп лист'!$B$4,0)),"-") -> - | AK29: =IFERROR(IF('Установка скидки'!$M$1=FALSE,T23*(1-$AH$1)/'Всп лист'!$B$2,ROUNDUP(T23*(1-$AH$1)/'Всп лист'!$C$3*'Всп лист'!$B$3*'Всп лист'!$B$4,0)),"-") -> - | AL29: =IFERROR(IF('Установка скидки'!$M$1=FALSE,U23*(1-$AH$1)/'Всп лист'!$B$2,ROUNDUP(U23*(1-$AH$1)/'Всп лист'!$C$3*'Всп лист'!$B$3*'Всп лист'!$B$4,0)),"-") -> 1929 | AM29: =IFERROR(IF('Установка скидки'!$M$1=FALSE,V23*(1-$AH$1)/'Всп лист'!$B$2,ROUNDUP(V23*(1-$AH$1)/'Всп лист'!$C$3*'Всп лист'!$B$3*'Всп лист'!$B$4,0)),"-") -> 2078 | AN29: =IFERROR(IF('Установка скидки'!$M$1=FALSE,W23*(1-$AH$1)/'Всп лист'!$B$2,ROUNDUP(W23*(1-$AH$1)/'Всп лист'!$C$3*'Всп лист'!$B$3*'Всп лист'!$B$4,0)),"-") -> 2399 | AO29: =IFERROR(IF('Установка скидки'!$M$1=FALSE,X23*(1-$AH$1)/'Всп лист'!$B$2,ROUNDUP(X23*(1-$AH$1)/'Всп лист'!$C$3*'Всп лист'!$B$3*'Всп лист'!$B$4,0)),"-") -> - | ... AV29: =IFERROR(IF('Установка скидки'!$M$1=FALSE,AE23*(1-$AH$1)/'Всп лист'!$B$2,ROUNDUP(AE23*(1-$AH$1)/'Всп лист'!$C$3*'Всп лист'!$B$3*'Всп лист'!$B$4,0)),"-") -> 3403
A30: Продукция сертифицирована | AG30: Адаптер переход Моно М-М (310-0.8) | AH30: =IFERROR(IF('Установка скидки'!$M$1=FALSE,Q24*(1-$AH$1)/'Всп лист'!$B$2,ROUNDUP(Q24*(1-$AH$1)/'Всп лист'!$C$3*'Всп лист'!$B$3*'Всп лист'!$B$4,0)),"-") -> - | AI30: =IFERROR(IF('Установка скидки'!$M$1=FALSE,R24*(1-$AH$1)/'Всп лист'!$B$2,ROUNDUP(R24*(1-$AH$1)/'Всп лист'!$C$3*'Всп лист'!$B$3*'Всп лист'!$B$4,0)),"-") -> - | AJ30: =IFERROR(IF('Установка скидки'!$M$1=FALSE,S24*(1-$AH$1)/'Всп лист'!$B$2,ROUNDUP(S24*(1-$AH$1)/'Всп лист'!$C$3*'Всп лист'!$B$3*'Всп лист'!$B$4,0)),"-") -> 2016 | AK30: =IFERROR(IF('Установка скидки'!$M$1=FALSE,T24*(1-$AH$1)/'Всп лист'!$B$2,ROUNDUP(T24*(1-$AH$1)/'Всп лист'!$C$3*'Всп лист'!$B$3*'Всп лист'!$B$4,0)),"-") -> - | AL30: =IFERROR(IF('Установка скидки'!$M$1=FALSE,U24*(1-$AH$1)/'Всп лист'!$B$2,ROUNDUP(U24*(1-$AH$1)/'Всп лист'!$C$3*'Всп лист'!$B$3*'Всп лист'!$B$4,0)),"-") -> - | AM30: =IFERROR(IF('Установка скидки'!$M$1=FALSE,V24*(1-$AH$1)/'Всп лист'!$B$2,ROUNDUP(V24*(1-$AH$1)/'Всп лист'!$C$3*'Всп лист'!$B$3*'Всп лист'!$B$4,0)),"-") -> - | AN30: =IFERROR(IF('Установка скидки'!$M$1=FALSE,W24*(1-$AH$1)/'Всп лист'!$B$2,ROUNDUP(W24*(1-$AH$1)/'Всп лист'!$C$3*'Всп лист'!$B$3*'Всп лист'!$B$4,0)),"-") -> - | AO30: =IFERROR(IF('Установка скидки'!$M$1=FALSE,X24*(1-$AH$1)/'Всп лист'!$B$2,ROUNDUP(X24*(1-$AH$1)/'Всп лист'!$C$3*'Всп лист'!$B$3*'Всп лист'!$B$4,0)),"-") -> - | ... AV30: =IFERROR(IF('Установка скидки'!$M$1=FALSE,AE24*(1-$AH$1)/'Всп лист'!$B$2,ROUNDUP(AE24*(1-$AH$1)/'Всп лист'!$C$3*'Всп лист'!$B$3*'Всп лист'!$B$4,0)),"-") -> -
A31: Пож.серт. (обязательная сертификация) № С-.RU.ПБ 37.В.00073

Sheet Переходы
AI1: Размер скидки | AJ1: ='Установка скидки'!$G$11 -> 0 | BB1: =IF('Установка скидки'!$M$1=FALSE,'Всп лист'!$A$7,'Всп лист'!$A$8) -> Цены указаны в руб. с НДС
A5: Элемент дымохода: Переходы Моно | AI5: Элемент дымохода: Переходы Моно
A7: Наименование / Диаметр | B7: 80/100 | C7: 80/110 | D7: 100/110 | E7: 100/115 | F7: 100/120 | G7: 110/115 | H7: 110/120 | I7: 110/130 | J7: 115/100 | K7: 115/110 | L7: 115/115 | M7: 115/120 | N7: 115/130 | O7: 120/115 | P7: 120/115 TS | Q7: 120/120 | R7: 120/130 | S7: 120/150 | T7: 130/130 | U7: 130/140 | V7: 130/150 | W7: 140/150 | X7: 150/140 | Y7: 150/150 | Z7: 150/160 | AA7: 150/180 | AB7: 150/200 | AC7: 160/180 | AD7: 180/180 | AE7: 180/200 | AF7: 200/200 | AG7: 200/250 | AI7: Наименование / Диаметр | AJ7: 80/100 | AK7: 80/110 | AL7: 100/110 | AM7: 100/115 | AN7: 100/120 | AO7: 110/115 | AP7: 110/120 | AQ7: 110/130 | AR7: 115/100 | AS7: 115/110 | AT7: 115/115 | AU7: 115/120 | AV7: 115/130 | AW7: 120/115 | AX7: 120/115 TS | AY7: 120/120 | AZ7: 120/130
A8: Переход Моно П-П (430-0.8) | B8: - | C8: - | D8: - | E8: - | F8: - | G8: - | H8: - | I8: - | J8: - | K8: - | L8: 334 | M8: - | N8: - | O8: - | P8: 354 | Q8: 351 | R8: - | S8: - | T8: 375 | U8: - | V8: - | W8: - | X8: - | Y8: 421 | Z8: - | AA8: - | AB8: - | AC8: - | AD8: 495 | AE8: - | AF8: 554 | AG8: - | AI8: Переход Моно П-П (430-0.8) | AJ8: =IFERROR(IF('Установка скидки'!$M$1=FALSE,B8*(1-$AJ$1)/'Всп лист'!$B$2,ROUNDUP(B8*(1-$AJ$1)/'Всп лист'!$C$3*'Всп лист'!$B$3*'Всп лист'!$B$4,0)),"-") -> - | AK8: =IFERROR(IF('Установка скидки'!$M$1=FALSE,C8*(1-$AJ$1)/'Всп лист'!$B$2,ROUNDUP(C8*(1-$AJ$1)/'Всп лист'!$C$3*'Всп лист'!$B$3*'Всп лист'!$B$4,0)),"-") -> - | AL8: =IFERROR(IF('Установка скидки'!$M$1=FALSE,D8*(1-$AJ$1)/'Всп лист'!$B$2,ROUNDUP(D8*(1-$AJ$1)/'Всп лист'!$C$3*'Всп лист'!$B$3*'Всп лист'!$B$4,0)),"-") -> - | AM8: =IFERROR(IF('Установка скидки'!$M$1=FALSE,E8*(1-$AJ$1)/'Всп лист'!$B$2,ROUNDUP(E8*(1-$AJ$1)/'Всп лист'!$C$3*'Всп лист'!$B$3*'Всп лист'!$B$4,0)),"-") -> - | AN8: =IFERROR(IF('Установка скидки'!$M$1=FALSE,F8*(1-$AJ$1)/'Всп лист'!$B$2,ROUNDUP(F8*(1-$AJ$1)/'Всп лист'!$C$3*'Всп лист'!$B$3*'Всп лист'!$B$4,0)),"-") -> - | AO8: =IFERROR(IF('Установка скидки'!$M$1=FALSE,G8*(1-$AJ$1)/'Всп лист'!$B$2,ROUNDUP(G8*(1-$AJ$1)/'Всп лист'!$C$3*'Всп лист'!$B$3*'Всп лист'!$B$4,0)),"-") -> - | AP8: =IFERROR(IF('Установка скидки'!$M$1=FALSE,H8*(1-$AJ$1)/'Всп лист'!$B$2,ROUNDUP(H8*(1-$AJ$1)/'Всп лист'!$C$3*'Всп лист'!$B$3*'Всп лист'!$B$4,0)),"-") -> - | AQ8: =IFERROR(IF('Установка скидки'!$M$1=FALSE,I8*(1-$AJ$1)/'Всп лист'!$B$2,ROUNDUP(I8*(1-$AJ$1)/'Всп лист'!$C$3*'Всп лист'!$B$3*'Всп лист'!$B$4,0)),"-") -> - | ... AZ8: =IFERROR(IF('Установка скидки'!$M$1=FALSE,R8*(1-$AJ$1)/'Всп лист'!$B$2,ROUNDUP(R8*(1-$AJ$1)/'Всп лист'!$C$3*'Всп лист'!$B$3*'Всп лист'!$B$4,0)),"-") -> -
A9: Переход Моно П-М (430-0.8) | B9: - | C9: - | D9: 516 | E9: 516 | F9: 1099 | G9: 516 | H9: 516 | I9: - | J9: 492 | K9: 492 | L9: - | M9: 562 | N9: 562 | O9: 562 | P9: - | Q9: - | R9: - | S9: 1380 | T9: - | U9: 562 | V9: - | W9: 562 | X9: 562 | Y9: - | Z9: 721 | AA9: 1651 | AB9: 1793 | AC9: 865 | AD9: - | AE9: 865 | AF9: - | AG9: - | AI9: Переход Моно П-М (430-0.8) | AJ9: =IFERROR(IF('Установка скидки'!$M$1=FALSE,B9*(1-$AJ$1)/'Всп лист'!$B$2,ROUNDUP(B9*(1-$AJ$1)/'Всп лист'!$C$3*'Всп лист'!$B$3*'Всп лист'!$B$4,0)),"-") -> - | AK9: =IFERROR(IF('Установка скидки'!$M$1=FALSE,C9*(1-$AJ$1)/'Всп лист'!$B$2,ROUNDUP(C9*(1-$AJ$1)/'Всп лист'!$C$3*'Всп лист'!$B$3*'Всп лист'!$B$4,0)),"-") -> - | AL9: =IFERROR(IF('Установка скидки'!$M$1=FALSE,D9*(1-$AJ$1)/'Всп лист'!$B$2,ROUNDUP(D9*(1-$AJ$1)/'Всп лист'!$C$3*'Всп лист'!$B$3*'Всп лист'!$B$4,0)),"-") -> 516 | AM9: =IFERROR(IF('Установка скидки'!$M$1=FALSE,E9*(1-$AJ$1)/'Всп лист'!$B$2,ROUNDUP(E9*(1-$AJ$1)/'Всп лист'!$C$3*'Всп лист'!$B$3*'Всп лист'!$B$4,0)),"-") -> 516 | AN9: =IFERROR(IF('Установка скидки'!$M$1=FALSE,F9*(1-$AJ$1)/'Всп лист'!$B$2,ROUNDUP(F9*(1-$AJ$1)/'Всп лист'!$C$3*'Всп лист'!$B$3*'Всп лист'!$B$4,0)),"-") -> 1099 | AO9: =IFERROR(IF('Установка скидки'!$M$1=FALSE,G9*(1-$AJ$1)/'Всп лист'!$B$2,ROUNDUP(G9*(1-$AJ$1)/'Всп лист'!$C$3*'Всп лист'!$B$3*'Всп лист'!$B$4,0)),"-") -> 516 | AP9: =IFERROR(IF('Установка скидки'!$M$1=FALSE,H9*(1-$AJ$1)/'Всп лист'!$B$2,ROUNDUP(H9*(1-$AJ$1)/'Всп лист'!$C$3*'Всп лист'!$B$3*'Всп лист'!$B$4,0)),"-") -> 516 | AQ9: =IFERROR(IF('Установка скидки'!$M$1=FALSE,I9*(1-$AJ$1)/'Всп лист'!$B$2,ROUNDUP(I9*(1-$AJ$1)/'Всп лист'!$C$3*'Всп лист'!$B$3*'Всп лист'!$B$4,0)),"-") -> - | ... AZ9: =IFERROR(IF('Установка скидки'!$M$1=FALSE,R9*(1-$AJ$1)/'Всп лист'!$B$2,ROUNDUP(R9*(1-$AJ$1)/'Всп лист'!$C$3*'Всп лист'!$B$3*'Всп лист'!$B$4,0)),"-") -> -
A10: Переход Моно П-М (304-0.8) | B10: - | C10: - | D10: 550 | E10: - | F10: - | G10: 550 | H10: 550 | I10: - | J10: - | K10: - | L10: - | M10: 558 | N10: --- | O10: 558 | P10: - | Q10: - | R10: 639 | S10: - | T10: - | U10: - | V10: 872 | W10: 727 | X10: - | Y10: - | Z10: - | AA10: 2277 | AB10: - | AC10: - | AD10: - | AE10: 894 | AF10: - | AG10: 3204 | AI10: Переход Моно П-М (304-0.8) | AJ10: =IFERROR(IF('Установка скидки'!$M$1=FALSE,B10*(1-$AJ$1)/'Всп лист'!$B$2,ROUNDUP(B10*(1-$AJ$1)/'Всп лист'!$C$3*'Всп лист'!$B$3*'Всп лист'!$B$4,0)),"-") -> - | AK10: =IFERROR(IF('Установка скидки'!$M$1=FALSE,C10*(1-$AJ$1)/'Всп лист'!$B$2,ROUNDUP(C10*(1-$AJ$1)/'Всп лист'!$C$3*'Всп лист'!$B$3*'Всп лист'!$B$4,0)),"-") -> - | AL10: =IFERROR(IF('Установка скидки'!$M$1=FALSE,D10*(1-$AJ$1)/'Всп лист'!$B$2,ROUNDUP(D10*(1-$AJ$1)/'Всп лист'!$C$3*'Всп лист'!$B$3*'Всп лист'!$B$4,0)),"-") -> 550 | AM10: =IFERROR(IF('Установка скидки'!$M$1=FALSE,E10*(1-$AJ$1)/'Всп лист'!$B$2,ROUNDUP(E10*(1-$AJ$1)/'Всп лист'!$C$3*'Всп лист'!$B$3*'Всп лист'!$B$4,0)),"-") -> - | AN10: =IFERROR(IF('Установка скидки'!$M$1=FALSE,F10*(1-$AJ$1)/'Всп лист'!$B$2,ROUNDUP(F10*(1-$AJ$1)/'Всп лист'!$C$3*'Всп лист'!$B$3*'Всп лист'!$B$4,0)),"-") -> - | AO10: =IFERROR(IF('Установка скидки'!$M$1=FALSE,G10*(1-$AJ$1)/'Всп лист'!$B$2,ROUNDUP(G10*(1-$AJ$1)/'Всп лист'!$C$3*'Всп лист'!$B$3*'Всп лист'!$B$4,0)),"-") -> 550 | AP10: =IFERROR(IF('Установка скидки'!$M$1=FALSE,H10*(1-$AJ$1)/'Всп лист'!$B$2,ROUNDUP(H10*(1-$AJ$1)/'Всп лист'!$C$3*'Всп лист'!$B$3*'Всп лист'!$B$4,0)),"-") -> 550 | AQ10: =IFERROR(IF('Установка скидки'!$M$1=FALSE,I10*(1-$AJ$1)/'Всп лист'!$B$2,ROUNDUP(I10*(1-$AJ$1)/'Всп лист'!$C$3*'Всп лист'!$B$3*'Всп лист'!$B$4,0)),"-") -> - | ... AZ10: =IFERROR(IF('Установка скидки'!$M$1=FALSE,R10*(1-$AJ$1)/'Всп лист'!$B$2,ROUNDUP(R10*(1-$AJ$1)/'Всп лист'!$C$3*'Всп лист'!$B$3*'Всп лист'!$B$4,0)),"-") -> 639
A11: Переход Моно П-М (430-0.5) | B11: 630 | C11: 777 | D11: - | E11: - | F11: - | G11: - | H11: - | I11: - | J11: - | K11: - | L11: - | M11: - | N11: - | O11: - | P11: - | Q11: - | R11: - | S11: - | T11: - | U11: - | V11: - | W11: - | X11: - | Y11: - | Z11: - | AA11: - | AB11: - | AC11: - | AD11: - | AE11: - | AF11: - | AG11: - | AI11: Переход Моно П-М (430-0.5) | AJ11: =IFERROR(IF('Установка скидки'!$M$1=FALSE,B11*(1-$AJ$1)/'Всп лист'!$B$2,ROUNDUP(B11*(1-$AJ$1)/'Всп лист'!$C$3*'Всп лист'!$B$3*'Всп лист'!$B$4,0)),"-") -> 630 | AK11: =IFERROR(IF('Установка скидки'!$M$1=FALSE,C11*(1-$AJ$1)/'Всп лист'!$B$2,ROUNDUP(C11*(1-$AJ$1)/'Всп лист'!$C$3*'Всп лист'!$B$3*'Всп лист'!$B$4,0)),"-") -> 777 | AL11: =IFERROR(IF('Установка скидки'!$M$1=FALSE,D11*(1-$AJ$1)/'Всп лист'!$B$2,ROUNDUP(D11*(1-$AJ$1)/'Всп лист'!$C$3*'Всп лист'!$B$3*'Всп лист'!$B$4,0)),"-") -> - | AM11: =IFERROR(IF('Установка скидки'!$M$1=FALSE,E11*(1-$AJ$1)/'Всп лист'!$B$2,ROUNDUP(E11*(1-$AJ$1)/'Всп лист'!$C$3*'Всп лист'!$B$3*'Всп лист'!$B$4,0)),"-") -> - | AN11: =IFERROR(IF('Установка скидки'!$M$1=FALSE,F11*(1-$AJ$1)/'Всп лист'!$B$2,ROUNDUP(F11*(1-$AJ$1)/'Всп лист'!$C$3*'Всп лист'!$B$3*'Всп лист'!$B$4,0)),"-") -> - | AO11: =IFERROR(IF('Установка скидки'!$M$1=FALSE,G11*(1-$AJ$1)/'Всп лист'!$B$2,ROUNDUP(G11*(1-$AJ$1)/'Всп лист'!$C$3*'Всп лист'!$B$3*'Всп лист'!$B$4,0)),"-") -> - | AP11: =IFERROR(IF('Установка скидки'!$M$1=FALSE,H11*(1-$AJ$1)/'Всп лист'!$B$2,ROUNDUP(H11*(1-$AJ$1)/'Всп лист'!$C$3*'Всп лист'!$B$3*'Всп лист'!$B$4,0)),"-") -> - | AQ11: =IFERROR(IF('Установка скидки'!$M$1=FALSE,I11*(1-$AJ$1)/'Всп лист'!$B$2,ROUNDUP(I11*(1-$AJ$1)/'Всп лист'!$C$3*'Всп лист'!$B$3*'Всп лист'!$B$4,0)),"-") -> - | ... AZ11: =IFERROR(IF('Установка скидки'!$M$1=FALSE,R11*(1-$AJ$1)/'Всп лист'!$B$2,ROUNDUP(R11*(1-$AJ$1)/'Всп лист'!$C$3*'Всп лист'!$B$3*'Всп лист'!$B$4,0)),"-") -> -
A12: Переход Моно П-М (310-0.8) | B12: - | C12: - | D12: - | E12: - | F12: - | G12: - | H12: - | I12: 1928 | J12: - | K12: - | L12: - | M12: - | N12: - | O12: - | P12: - | Q12: - | R12: - | S12: - | T12: - | U12: - | V12: - | W12: - | X12: - | Y12: - | Z12: - | AA12: - | AB12: - | AC12: - | AD12: - | AE12: - | AF12: - | AG12: - | AI12: Переход Моно П-М (310-0.8) | AJ12: =IFERROR(IF('Установка скидки'!$M$1=FALSE,B12*(1-$AJ$1)/'Всп лист'!$B$2,ROUNDUP(B12*(1-$AJ$1)/'Всп лист'!$C$3*'Всп лист'!$B$3*'Всп лист'!$B$4,0)),"-") -> - | AK12: =IFERROR(IF('Установка скидки'!$M$1=FALSE,C12*(1-$AJ$1)/'Всп лист'!$B$2,ROUNDUP(C12*(1-$AJ$1)/'Всп лист'!$C$3*'Всп лист'!$B$3*'Всп лист'!$B$4,0)),"-") -> - | AL12: =IFERROR(IF('Установка скидки'!$M$1=FALSE,D12*(1-$AJ$1)/'Всп лист'!$B$2,ROUNDUP(D12*(1-$AJ$1)/'Всп лист'!$C$3*'Всп лист'!$B$3*'Всп лист'!$B$4,0)),"-") -> - | AM12: =IFERROR(IF('Установка скидки'!$M$1=FALSE,E12*(1-$AJ$1)/'Всп лист'!$B$2,ROUNDUP(E12*(1-$AJ$1)/'Всп лист'!$C$3*'Всп лист'!$B$3*'Всп лист'!$B$4,0)),"-") -> - | AN12: =IFERROR(IF('Установка скидки'!$M$1=FALSE,F12*(1-$AJ$1)/'Всп лист'!$B$2,ROUNDUP(F12*(1-$AJ$1)/'Всп лист'!$C$3*'Всп лист'!$B$3*'Всп лист'!$B$4,0)),"-") -> - | AO12: =IFERROR(IF('Установка скидки'!$M$1=FALSE,G12*(1-$AJ$1)/'Всп лист'!$B$2,ROUNDUP(G12*(1-$AJ$1)/'Всп лист'!$C$3*'Всп лист'!$B$3*'Всп лист'!$B$4,0)),"-") -> - | AP12: =IFERROR(IF('Установка скидки'!$M$1=FALSE,H12*(1-$AJ$1)/'Всп лист'!$B$2,ROUNDUP(H12*(1-$AJ$1)/'Всп лист'!$C$3*'Всп лист'!$B$3*'Всп лист'!$B$4,0)),"-") -> - | AQ12: =IFERROR(IF('Установка скидки'!$M$1=FALSE,I12*(1-$AJ$1)/'Всп лист'!$B$2,ROUNDUP(I12*(1-$AJ$1)/'Всп лист'!$C$3*'Всп лист'!$B$3*'Всп лист'!$B$4,0)),"-") -> 1928 | ... AZ12: =IFERROR(IF('Установка скидки'!$M$1=FALSE,R12*(1-$AJ$1)/'Всп лист'!$B$2,ROUNDUP(R12*(1-$AJ$1)/'Всп лист'!$C$3*'Всп лист'!$B$3*'Всп лист'!$B$4,0)),"-") -> -
AI13: Наименование / Диаметр | AJ13: 120/150 | AK13: 130/130 | AL13: 130/140 | AM13: 130/150 | AN13: 140/150 | AO13: 150/140 | AP13: 150/150 | AQ13: 150/160 | AR13: 150/180 | AS13: 150/200 | AV13: 160/180 | AW13: 180/180 | AX13: 180/200 | AY13: 200/200 | AZ13: 200/250
AI14: Переход Моно П-П (430-0.8) | AJ14: =IFERROR(IF('Установка скидки'!$M$1=FALSE,S8*(1-$AJ$1)/'Всп лист'!$B$2,ROUNDUP(S8*(1-$AJ$1)/'Всп лист'!$C$3*'Всп лист'!$B$3*'Всп лист'!$B$4,0)),"-") -> - | AK14: =IFERROR(IF('Установка скидки'!$M$1=FALSE,T8*(1-$AJ$1)/'Всп лист'!$B$2,ROUNDUP(T8*(1-$AJ$1)/'Всп лист'!$C$3*'Всп лист'!$B$3*'Всп лист'!$B$4,0)),"-") -> 375 | AL14: =IFERROR(IF('Установка скидки'!$M$1=FALSE,U8*(1-$AJ$1)/'Всп лист'!$B$2,ROUNDUP(U8*(1-$AJ$1)/'Всп лист'!$C$3*'Всп лист'!$B$3*'Всп лист'!$B$4,0)),"-") -> - | AM14: =IFERROR(IF('Установка скидки'!$M$1=FALSE,V8*(1-$AJ$1)/'Всп лист'!$B$2,ROUNDUP(V8*(1-$AJ$1)/'Всп лист'!$C$3*'Всп лист'!$B$3*'Всп лист'!$B$4,0)),"-") -> - | AN14: =IFERROR(IF('Установка скидки'!$M$1=FALSE,W8*(1-$AJ$1)/'Всп лист'!$B$2,ROUNDUP(W8*(1-$AJ$1)/'Всп лист'!$C$3*'Всп лист'!$B$3*'Всп лист'!$B$4,0)),"-") -> - | AO14: =IFERROR(IF('Установка скидки'!$M$1=FALSE,X8*(1-$AJ$1)/'Всп лист'!$B$2,ROUNDUP(X8*(1-$AJ$1)/'Всп лист'!$C$3*'Всп лист'!$B$3*'Всп лист'!$B$4,0)),"-") -> - | AP14: =IFERROR(IF('Установка скидки'!$M$1=FALSE,Y8*(1-$AJ$1)/'Всп лист'!$B$2,ROUNDUP(Y8*(1-$AJ$1)/'Всп лист'!$C$3*'Всп лист'!$B$3*'Всп лист'!$B$4,0)),"-") -> 421 | AQ14: =IFERROR(IF('Установка скидки'!$M$1=FALSE,Z8*(1-$AJ$1)/'Всп лист'!$B$2,ROUNDUP(Z8*(1-$AJ$1)/'Всп лист'!$C$3*'Всп лист'!$B$3*'Всп лист'!$B$4,0)),"-") -> - | ... AS14: =IFERROR(IF('Установка скидки'!$M$1=FALSE,AB8*(1-$AJ$1)/'Всп лист'!$B$2,ROUNDUP(AB8*(1-$AJ$1)/'Всп лист'!$C$3*'Всп лист'!$B$3*'Всп лист'!$B$4,0)),"-") -> - | AV14: =IFERROR(IF('Установка скидки'!$M$1=FALSE,AC8*(1-$AJ$1)/'Всп лист'!$B$2,ROUNDUP(AC8*(1-$AJ$1)/'Всп лист'!$C$3*'Всп лист'!$B$3*'Всп лист'!$B$4,0)),"-") -> - | AW14: =IFERROR(IF('Установка скидки'!$M$1=FALSE,AD8*(1-$AJ$1)/'Всп лист'!$B$2,ROUNDUP(AD8*(1-$AJ$1)/'Всп лист'!$C$3*'Всп лист'!$B$3*'Всп лист'!$B$4,0)),"-") -> 495 | AX14: =IFERROR(IF('Установка скидки'!$M$1=FALSE,AE8*(1-$AJ$1)/'Всп лист'!$B$2,ROUNDUP(AE8*(1-$AJ$1)/'Всп лист'!$C$3*'Всп лист'!$B$3*'Всп лист'!$B$4,0)),"-") -> - | AY14: =IFERROR(IF('Установка скидки'!$M$1=FALSE,AF8*(1-$AJ$1)/'Всп лист'!$B$2,ROUNDUP(AF8*(1-$AJ$1)/'Всп лист'!$C$3*'Всп лист'!$B$3*'Всп лист'!$B$4,0)),"-") -> 554 | AZ14: =IFERROR(IF('Установка скидки'!$M$1=FALSE,#REF!*(1-$AJ$1)/'Всп лист'!$B$2,ROUNDUP(#REF!*(1-$AJ$1)/'Всп лист'!$C$3*'Всп лист'!$B$3*'Всп лист'!$B$4,0)),"-") -> -
AI15: Переход Моно П-М (430-0.8) | AJ15: =IFERROR(IF('Установка скидки'!$M$1=FALSE,S9*(1-$AJ$1)/'Всп лист'!$B$2,ROUNDUP(S9*(1-$AJ$1)/'Всп лист'!$C$3*'Всп лист'!$B$3*'Всп лист'!$B$4,0)),"-") -> 1380 | AK15: =IFERROR(IF('Установка скидки'!$M$1=FALSE,T9*(1-$AJ$1)/'Всп лист'!$B$2,ROUNDUP(T9*(1-$AJ$1)/'Всп лист'!$C$3*'Всп лист'!$B$3*'Всп лист'!$B$4,0)),"-") -> - | AL15: =IFERROR(IF('Установка скидки'!$M$1=FALSE,U9*(1-$AJ$1)/'Всп лист'!$B$2,ROUNDUP(U9*(1-$AJ$1)/'Всп лист'!$C$3*'Всп лист'!$B$3*'Всп лист'!$B$4,0)),"-") -> 562 | AM15: =IFERROR(IF('Установка скидки'!$M$1=FALSE,V9*(1-$AJ$1)/'Всп лист'!$B$2,ROUNDUP(V9*(1-$AJ$1)/'Всп лист'!$C$3*'Всп лист'!$B$3*'Всп лист'!$B$4,0)),"-") -> - | AN15: =IFERROR(IF('Установка скидки'!$M$1=FALSE,W9*(1-$AJ$1)/'Всп лист'!$B$2,ROUNDUP(W9*(1-$AJ$1)/'Всп лист'!$C$3*'Всп лист'!$B$3*'Всп лист'!$B$4,0)),"-") -> 562 | AO15: =IFERROR(IF('Установка скидки'!$M$1=FALSE,X9*(1-$AJ$1)/'Всп лист'!$B$2,ROUNDUP(X9*(1-$AJ$1)/'Всп лист'!$C$3*'Всп лист'!$B$3*'Всп лист'!$B$4,0)),"-") -> 562 | AP15: =IFERROR(IF('Установка скидки'!$M$1=FALSE,Y9*(1-$AJ$1)/'Всп лист'!$B$2,ROUNDUP(Y9*(1-$AJ$1)/'Всп лист'!$C$3*'Всп лист'!$B$3*'Всп лист'!$B$4,0)),"-") -> - | AQ15: =IFERROR(IF('Установка скидки'!$M$1=FALSE,Z9*(1-$AJ$1)/'Всп лист'!$B$2,ROUNDUP(Z9*(1-$AJ$1)/'Всп лист'!$C$3*'Всп лист'!$B$3*'Всп лист'!$B$4,0)),"-") -> 721 | ... AS15: =IFERROR(IF('Установка скидки'!$M$1=FALSE,AB9*(1-$AJ$1)/'Всп лист'!$B$2,ROUNDUP(AB9*(1-$AJ$1)/'Всп лист'!$C$3*'Всп лист'!$B$3*'Всп лист'!$B$4,0)),"-") -> 1793 | AV15: =IFERROR(IF('Установка скидки'!$M$1=FALSE,AC9*(1-$AJ$1)/'Всп лист'!$B$2,ROUNDUP(AC9*(1-$AJ$1)/'Всп лист'!$C$3*'Всп лист'!$B$3*'Всп лист'!$B$4,0)),"-") -> 865 | AW15: =IFERROR(IF('Установка скидки'!$M$1=FALSE,AD9*(1-$AJ$1)/'Всп лист'!$B$2,ROUNDUP(AD9*(1-$AJ$1)/'Всп лист'!$C$3*'Всп лист'!$B$3*'Всп лист'!$B$4,0)),"-") -> - | AX15: =IFERROR(IF('Установка скидки'!$M$1=FALSE,AE9*(1-$AJ$1)/'Всп лист'!$B$2,ROUNDUP(AE9*(1-$AJ$1)/'Всп лист'!$C$3*'Всп лист'!$B$3*'Всп лист'!$B$4,0)),"-") -> 865 | AY15: =IFERROR(IF('Установка скидки'!$M$1=FALSE,AF9*(1-$AJ$1)/'Всп лист'!$B$2,ROUNDUP(AF9*(1-$AJ$1)/'Всп лист'!$C$3*'Всп лист'!$B$3*'Всп лист'!$B$4,0)),"-") -> - | AZ15: =IFERROR(IF('Установка скидки'!$M$1=FALSE,#REF!*(1-$AJ$1)/'Всп лист'!$B$2,ROUNDUP(#REF!*(1-$AJ$1)/'Всп лист'!$C$3*'Всп лист'!$B$3*'Всп лист'!$B$4,0)),"-") -> -
AI16: Переход Моно П-М (304-0.8) | AJ16: =IFERROR(IF('Установка скидки'!$M$1=FALSE,S10*(1-$AJ$1)/'Всп лист'!$B$2,ROUNDUP(S10*(1-$AJ$1)/'Всп лист'!$C$3*'Всп лист'!$B$3*'Всп лист'!$B$4,0)),"-") -> - | AK16: =IFERROR(IF('Установка скидки'!$M$1=FALSE,T10*(1-$AJ$1)/'Всп лист'!$B$2,ROUNDUP(T10*(1-$AJ$1)/'Всп лист'!$C$3*'Всп лист'!$B$3*'Всп лист'!$B$4,0)),"-") -> - | AL16: =IFERROR(IF('Установка скидки'!$M$1=FALSE,U10*(1-$AJ$1)/'Всп лист'!$B$2,ROUNDUP(U10*(1-$AJ$1)/'Всп лист'!$C$3*'Всп лист'!$B$3*'Всп лист'!$B$4,0)),"-") -> - | AM16: =IFERROR(IF('Установка скидки'!$M$1=FALSE,V10*(1-$AJ$1)/'Всп лист'!$B$2,ROUNDUP(V10*(1-$AJ$1)/'Всп лист'!$C$3*'Всп лист'!$B$3*'Всп лист'!$B$4,0)),"-") -> 872 | AN16: =IFERROR(IF('Установка скидки'!$M$1=FALSE,W10*(1-$AJ$1)/'Всп лист'!$B$2,ROUNDUP(W10*(1-$AJ$1)/'Всп лист'!$C$3*'Всп лист'!$B$3*'Всп лист'!$B$4,0)),"-") -> 727 | AO16: =IFERROR(IF('Установка скидки'!$M$1=FALSE,X10*(1-$AJ$1)/'Всп лист'!$B$2,ROUNDUP(X10*(1-$AJ$1)/'Всп лист'!$C$3*'Всп лист'!$B$3*'Всп лист'!$B$4,0)),"-") -> - | AP16: =IFERROR(IF('Установка скидки'!$M$1=FALSE,Y10*(1-$AJ$1)/'Всп лист'!$B$2,ROUNDUP(Y10*(1-$AJ$1)/'Всп лист'!$C$3*'Всп лист'!$B$3*'Всп лист'!$B$4,0)),"-") -> - | AQ16: =IFERROR(IF('Установка скидки'!$M$1=FALSE,Z10*(1-$AJ$1)/'Всп лист'!$B$2,ROUNDUP(Z10*(1-$AJ$1)/'Всп лист'!$C$3*'Всп лист'!$B$3*'Всп лист'!$B$4,0)),"-") -> - | ... AS16: =IFERROR(IF('Установка скидки'!$M$1=FALSE,AB10*(1-$AJ$1)/'Всп лист'!$B$2,ROUNDUP(AB10*(1-$AJ$1)/'Всп лист'!$C$3*'Всп лист'!$B$3*'Всп лист'!$B$4,0)),"-") -> - | AV16: =IFERROR(IF('Установка скидки'!$M$1=FALSE,AC10*(1-$AJ$1)/'Всп лист'!$B$2,ROUNDUP(AC10*(1-$AJ$1)/'Всп лист'!$C$3*'Всп лист'!$B$3*'Всп лист'!$B$4,0)),"-") -> - | AW16: =IFERROR(IF('Установка скидки'!$M$1=FALSE,AD10*(1-$AJ$1)/'Всп лист'!$B$2,ROUNDUP(AD10*(1-$AJ$1)/'Всп лист'!$C$3*'Всп лист'!$B$3*'Всп лист'!$B$4,0)),"-") -> - | AX16: =IFERROR(IF('Установка скидки'!$M$1=FALSE,AE10*(1-$AJ$1)/'Всп лист'!$B$2,ROUNDUP(AE10*(1-$AJ$1)/'Всп лист'!$C$3*'Всп лист'!$B$3*'Всп лист'!$B$4,0)),"-") -> 894 | AY16: =IFERROR(IF('Установка скидки'!$M$1=FALSE,AF10*(1-$AJ$1)/'Всп лист'!$B$2,ROUNDUP(AF10*(1-$AJ$1)/'Всп лист'!$C$3*'Всп лист'!$B$3*'Всп лист'!$B$4,0)),"-") -> - | AZ16: =IFERROR(IF('Установка скидки'!$M$1=FALSE,AG10*(1-$AJ$1)/'Всп лист'!$B$2,ROUNDUP(AG10*(1-$AJ$1)/'Всп лист'!$C$3*'Всп лист'!$B$3*'Всп лист'!$B$4,0)),"-") -> 3204
AI17: Переход Моно П-М (430-0.5) | AJ17: =IFERROR(IF('Установка скидки'!$M$1=FALSE,S11*(1-$AJ$1)/'Всп лист'!$B$2,ROUNDUP(S11*(1-$AJ$1)/'Всп лист'!$C$3*'Всп лист'!$B$3*'Всп лист'!$B$4,0)),"-") -> - | AK17: =IFERROR(IF('Установка скидки'!$M$1=FALSE,T11*(1-$AJ$1)/'Всп лист'!$B$2,ROUNDUP(T11*(1-$AJ$1)/'Всп лист'!$C$3*'Всп лист'!$B$3*'Всп лист'!$B$4,0)),"-") -> - | AL17: =IFERROR(IF('Установка скидки'!$M$1=FALSE,U11*(1-$AJ$1)/'Всп лист'!$B$2,ROUNDUP(U11*(1-$AJ$1)/'Всп лист'!$C$3*'Всп лист'!$B$3*'Всп лист'!$B$4,0)),"-") -> - | AM17: =IFERROR(IF('Установка скидки'!$M$1=FALSE,V11*(1-$AJ$1)/'Всп лист'!$B$2,ROUNDUP(V11*(1-$AJ$1)/'Всп лист'!$C$3*'Всп лист'!$B$3*'Всп лист'!$B$4,0)),"-") -> - | AN17: =IFERROR(IF('Установка скидки'!$M$1=FALSE,W11*(1-$AJ$1)/'Всп лист'!$B$2,ROUNDUP(W11*(1-$AJ$1)/'Всп лист'!$C$3*'Всп лист'!$B$3*'Всп лист'!$B$4,0)),"-") -> - | AO17: =IFERROR(IF('Установка скидки'!$M$1=FALSE,X11*(1-$AJ$1)/'Всп лист'!$B$2,ROUNDUP(X11*(1-$AJ$1)/'Всп лист'!$C$3*'Всп лист'!$B$3*'Всп лист'!$B$4,0)),"-") -> - | AP17: =IFERROR(IF('Установка скидки'!$M$1=FALSE,Y11*(1-$AJ$1)/'Всп лист'!$B$2,ROUNDUP(Y11*(1-$AJ$1)/'Всп лист'!$C$3*'Всп лист'!$B$3*'Всп лист'!$B$4,0)),"-") -> - | AQ17: =IFERROR(IF('Установка скидки'!$M$1=FALSE,Z11*(1-$AJ$1)/'Всп лист'!$B$2,ROUNDUP(Z11*(1-$AJ$1)/'Всп лист'!$C$3*'Всп лист'!$B$3*'Всп лист'!$B$4,0)),"-") -> - | ... AS17: =IFERROR(IF('Установка скидки'!$M$1=FALSE,AB11*(1-$AJ$1)/'Всп лист'!$B$2,ROUNDUP(AB11*(1-$AJ$1)/'Всп лист'!$C$3*'Всп лист'!$B$3*'Всп лист'!$B$4,0)),"-") -> - | AV17: =IFERROR(IF('Установка скидки'!$M$1=FALSE,AC11*(1-$AJ$1)/'Всп лист'!$B$2,ROUNDUP(AC11*(1-$AJ$1)/'Всп лист'!$C$3*'Всп лист'!$B$3*'Всп лист'!$B$4,0)),"-") -> - | AW17: =IFERROR(IF('Установка скидки'!$M$1=FALSE,AD11*(1-$AJ$1)/'Всп лист'!$B$2,ROUNDUP(AD11*(1-$AJ$1)/'Всп лист'!$C$3*'Всп лист'!$B$3*'Всп лист'!$B$4,0)),"-") -> - | AX17: =IFERROR(IF('Установка скидки'!$M$1=FALSE,AE11*(1-$AJ$1)/'Всп лист'!$B$2,ROUNDUP(AE11*(1-$AJ$1)/'Всп лист'!$C$3*'Всп лист'!$B$3*'Всп лист'!$B$4,0)),"-") -> - | AY17: =IFERROR(IF('Установка скидки'!$M$1=FALSE,AF11*(1-$AJ$1)/'Всп лист'!$B$2,ROUNDUP(AF11*(1-$AJ$1)/'Всп лист'!$C$3*'Всп лист'!$B$3*'Всп лист'!$B$4,0)),"-") -> - | AZ17: =IFERROR(IF('Установка скидки'!$M$1=FALSE,#REF!*(1-$AJ$1)/'Всп лист'!$B$2,ROUNDUP(#REF!*(1-$AJ$1)/'Всп лист'!$C$3*'Всп лист'!$B$3*'Всп лист'!$B$4,0)),"-") -> -
A18: Элемент дымохода: Переходы Моно/Термо | AI18: Элемент дымохода: Переходы Моно/Термо
A20: Наименование / Диаметр | B20: 80/140 | C20: 100/160 | D20: 110/180 | E20: 115/180 | F20: 115/200 | G20: 115/210 | H20: 120/180 | I20: 120/200 | J20: 120/220 | K20: 130/190 | L20: 130/200 | M20: 130/230 | N20: 150/210 | O20: 150/250 | P20: 180/240 | Q20: 180/280 | R20: 200/260 | S20: 200/280 | T20: 200/300 | U20: 250/310 | V20: 250/350 | AI20: Наименование / Диаметр | AJ20: 80/140 | AK20: 100/160 | AL20: 110/180 | AM20: 115/180 | AN20: 115/200 | AO20: 115/215 | AP20: 120/180 | AQ20: 120/200 | AR20: 120/220 | AS20: 130/190 | AT20: 130/200 | AU20: 130/230 | AV20: 150/210 | AW20: 150/250 | AX20: 180/240 | AY20: 180/280 | AZ20: 200/260 | BA20: 200/280 | BB20: 200/300 | BC20: 250/310 | BD20: 250/350
A21: Переход Моно/Термо ПМТ-Р (430-0,5/430) | B21: 1320 | C21: 1224 | D21: - | E21: - | F21: - | G21: - | H21: - | I21: - | J21: - | K21: - | L21: - | M21: - | N21: - | O21: - | P21: - | Q21: - | R21: - | S21: - | T21: - | U21: - | V21: - | AI21: Переход Моно/Термо ПМТ-Р (430-0,5/430) | AJ21: =IFERROR(IF('Установка скидки'!$M$1=FALSE,B21*(1-$AJ$1)/'Всп лист'!$B$2,ROUNDUP(B21*(1-$AJ$1)/'Всп лист'!$C$3*'Всп лист'!$B$3*'Всп лист'!$B$4,0)),"-") -> 1320 | AK21: =IFERROR(IF('Установка скидки'!$M$1=FALSE,C21*(1-$AJ$1)/'Всп лист'!$B$2,ROUNDUP(C21*(1-$AJ$1)/'Всп лист'!$C$3*'Всп лист'!$B$3*'Всп лист'!$B$4,0)),"-") -> 1224 | AL21: =IFERROR(IF('Установка скидки'!$M$1=FALSE,D21*(1-$AJ$1)/'Всп лист'!$B$2,ROUNDUP(D21*(1-$AJ$1)/'Всп лист'!$C$3*'Всп лист'!$B$3*'Всп лист'!$B$4,0)),"-") -> - | AM21: =IFERROR(IF('Установка скидки'!$M$1=FALSE,E21*(1-$AJ$1)/'Всп лист'!$B$2,ROUNDUP(E21*(1-$AJ$1)/'Всп лист'!$C$3*'Всп лист'!$B$3*'Всп лист'!$B$4,0)),"-") -> - | AN21: =IFERROR(IF('Установка скидки'!$M$1=FALSE,F21*(1-$AJ$1)/'Всп лист'!$B$2,ROUNDUP(F21*(1-$AJ$1)/'Всп лист'!$C$3*'Всп лист'!$B$3*'Всп лист'!$B$4,0)),"-") -> - | AO21: =IFERROR(IF('Установка скидки'!$M$1=FALSE,G21*(1-$AJ$1)/'Всп лист'!$B$2,ROUNDUP(G21*(1-$AJ$1)/'Всп лист'!$C$3*'Всп лист'!$B$3*'Всп лист'!$B$4,0)),"-") -> - | AP21: =IFERROR(IF('Установка скидки'!$M$1=FALSE,H21*(1-$AJ$1)/'Всп лист'!$B$2,ROUNDUP(H21*(1-$AJ$1)/'Всп лист'!$C$3*'Всп лист'!$B$3*'Всп лист'!$B$4,0)),"-") -> - | AQ21: =IFERROR(IF('Установка скидки'!$M$1=FALSE,I21*(1-$AJ$1)/'Всп лист'!$B$2,ROUNDUP(I21*(1-$AJ$1)/'Всп лист'!$C$3*'Всп лист'!$B$3*'Всп лист'!$B$4,0)),"-") -> - | ... BD21: =IFERROR(IF('Установка скидки'!$M$1=FALSE,V21*(1-$AJ$1)/'Всп лист'!$B$2,ROUNDUP(V21*(1-$AJ$1)/'Всп лист'!$C$3*'Всп лист'!$B$3*'Всп лист'!$B$4,0)),"-") -> -
A22: Переход Моно/Термо ПМТ-Р (430-0,8/430) | B22: - | C22: - | D22: 1420 | E22: 1445 | F22: 1468 | G22: - | H22: 1467 | I22: 1460 | J22: - | K22: - | L22: 1499 | M22: - | N22: 1608 | O22: --- | P22: 2201 | Q22: - | R22: 2054 | S22: 2189 | T22: - | U22: 2830 | V22: - | AI22: Переход Моно/Термо ПМТ-Р (430-0,8/430) | AJ22: =IFERROR(IF('Установка скидки'!$M$1=FALSE,B22*(1-$AJ$1)/'Всп лист'!$B$2,ROUNDUP(B22*(1-$AJ$1)/'Всп лист'!$C$3*'Всп лист'!$B$3*'Всп лист'!$B$4,0)),"-") -> - | AK22: =IFERROR(IF('Установка скидки'!$M$1=FALSE,C22*(1-$AJ$1)/'Всп лист'!$B$2,ROUNDUP(C22*(1-$AJ$1)/'Всп лист'!$C$3*'Всп лист'!$B$3*'Всп лист'!$B$4,0)),"-") -> - | AL22: =IFERROR(IF('Установка скидки'!$M$1=FALSE,D22*(1-$AJ$1)/'Всп лист'!$B$2,ROUNDUP(D22*(1-$AJ$1)/'Всп лист'!$C$3*'Всп лист'!$B$3*'Всп лист'!$B$4,0)),"-") -> 1420 | AM22: =IFERROR(IF('Установка скидки'!$M$1=FALSE,E22*(1-$AJ$1)/'Всп лист'!$B$2,ROUNDUP(E22*(1-$AJ$1)/'Всп лист'!$C$3*'Всп лист'!$B$3*'Всп лист'!$B$4,0)),"-") -> 1445 | AN22: =IFERROR(IF('Установка скидки'!$M$1=FALSE,F22*(1-$AJ$1)/'Всп лист'!$B$2,ROUNDUP(F22*(1-$AJ$1)/'Всп лист'!$C$3*'Всп лист'!$B$3*'Всп лист'!$B$4,0)),"-") -> 1468 | AO22: =IFERROR(IF('Установка скидки'!$M$1=FALSE,G22*(1-$AJ$1)/'Всп лист'!$B$2,ROUNDUP(G22*(1-$AJ$1)/'Всп лист'!$C$3*'Всп лист'!$B$3*'Всп лист'!$B$4,0)),"-") -> - | AP22: =IFERROR(IF('Установка скидки'!$M$1=FALSE,H22*(1-$AJ$1)/'Всп лист'!$B$2,ROUNDUP(H22*(1-$AJ$1)/'Всп лист'!$C$3*'Всп лист'!$B$3*'Всп лист'!$B$4,0)),"-") -> 1467 | AQ22: =IFERROR(IF('Установка скидки'!$M$1=FALSE,I22*(1-$AJ$1)/'Всп лист'!$B$2,ROUNDUP(I22*(1-$AJ$1)/'Всп лист'!$C$3*'Всп лист'!$B$3*'Всп лист'!$B$4,0)),"-") -> 1460 | ... BD22: =IFERROR(IF('Установка скидки'!$M$1=FALSE,V22*(1-$AJ$1)/'Всп лист'!$B$2,ROUNDUP(V22*(1-$AJ$1)/'Всп лист'!$C$3*'Всп лист'!$B$3*'Всп лист'!$B$4,0)),"-") -> -
A23: Переход Моно/Термо ПМТ-Р (по дыму) (430-0,8/430) | B23: - | C23: - | D23: - | E23: - | F23: 1468 | G23: - | H23: - | I23: 1460 | J23: - | K23: - | L23: 1499 | M23: - | N23: 1608 | O23: - | P23: - | Q23: - | R23: - | S23: 2189 | T23: - | U23: - | V23: - | AI23: Переход Моно/Термо ПМТ-Р (по дыму) (430-0,8/430) | AJ23: =IFERROR(IF('Установка скидки'!$M$1=FALSE,B23*(1-$AJ$1)/'Всп лист'!$B$2,ROUNDUP(B23*(1-$AJ$1)/'Всп лист'!$C$3*'Всп лист'!$B$3*'Всп лист'!$B$4,0)),"-") -> - | AK23: =IFERROR(IF('Установка скидки'!$M$1=FALSE,C23*(1-$AJ$1)/'Всп лист'!$B$2,ROUNDUP(C23*(1-$AJ$1)/'Всп лист'!$C$3*'Всп лист'!$B$3*'Всп лист'!$B$4,0)),"-") -> - | AL23: =IFERROR(IF('Установка скидки'!$M$1=FALSE,D23*(1-$AJ$1)/'Всп лист'!$B$2,ROUNDUP(D23*(1-$AJ$1)/'Всп лист'!$C$3*'Всп лист'!$B$3*'Всп лист'!$B$4,0)),"-") -> - | AM23: =IFERROR(IF('Установка скидки'!$M$1=FALSE,E23*(1-$AJ$1)/'Всп лист'!$B$2,ROUNDUP(E23*(1-$AJ$1)/'Всп лист'!$C$3*'Всп лист'!$B$3*'Всп лист'!$B$4,0)),"-") -> - | AN23: =IFERROR(IF('Установка скидки'!$M$1=FALSE,F23*(1-$AJ$1)/'Всп лист'!$B$2,ROUNDUP(F23*(1-$AJ$1)/'Всп лист'!$C$3*'Всп лист'!$B$3*'Всп лист'!$B$4,0)),"-") -> 1468 | AO23: =IFERROR(IF('Установка скидки'!$M$1=FALSE,G23*(1-$AJ$1)/'Всп лист'!$B$2,ROUNDUP(G23*(1-$AJ$1)/'Всп лист'!$C$3*'Всп лист'!$B$3*'Всп лист'!$B$4,0)),"-") -> - | AP23: =IFERROR(IF('Установка скидки'!$M$1=FALSE,H23*(1-$AJ$1)/'Всп лист'!$B$2,ROUNDUP(H23*(1-$AJ$1)/'Всп лист'!$C$3*'Всп лист'!$B$3*'Всп лист'!$B$4,0)),"-") -> - | AQ23: =IFERROR(IF('Установка скидки'!$M$1=FALSE,I23*(1-$AJ$1)/'Всп лист'!$B$2,ROUNDUP(I23*(1-$AJ$1)/'Всп лист'!$C$3*'Всп лист'!$B$3*'Всп лист'!$B$4,0)),"-") -> 1460 | ... BD23: =IFERROR(IF('Установка скидки'!$M$1=FALSE,V23*(1-$AJ$1)/'Всп лист'!$B$2,ROUNDUP(V23*(1-$AJ$1)/'Всп лист'!$C$3*'Всп лист'!$B$3*'Всп лист'!$B$4,0)),"-") -> -
A24: Переход Моно/Термо ПМТ-Р (430-1,0/430) | B24: - | C24: - | D24: - | E24: - | F24: 1659 | G24: - | H24: - | I24: - | J24: - | K24: - | L24: - | M24: - | N24: 1870 | O24: - | P24: - | Q24: - | R24: - | S24: - | T24: - | U24: - | V24: - | AI24: Переход Моно/Термо ПМТ-Р (430-1,0/430) | AJ24: =IFERROR(IF('Установка скидки'!$M$1=FALSE,B24*(1-$AJ$1)/'Всп лист'!$B$2,ROUNDUP(B24*(1-$AJ$1)/'Всп лист'!$C$3*'Всп лист'!$B$3*'Всп лист'!$B$4,0)),"-") -> - | AK24: =IFERROR(IF('Установка скидки'!$M$1=FALSE,C24*(1-$AJ$1)/'Всп лист'!$B$2,ROUNDUP(C24*(1-$AJ$1)/'Всп лист'!$C$3*'Всп лист'!$B$3*'Всп лист'!$B$4,0)),"-") -> - | AL24: =IFERROR(IF('Установка скидки'!$M$1=FALSE,D24*(1-$AJ$1)/'Всп лист'!$B$2,ROUNDUP(D24*(1-$AJ$1)/'Всп лист'!$C$3*'Всп лист'!$B$3*'Всп лист'!$B$4,0)),"-") -> - | AM24: =IFERROR(IF('Установка скидки'!$M$1=FALSE,E24*(1-$AJ$1)/'Всп лист'!$B$2,ROUNDUP(E24*(1-$AJ$1)/'Всп лист'!$C$3*'Всп лист'!$B$3*'Всп лист'!$B$4,0)),"-") -> - | AN24: =IFERROR(IF('Установка скидки'!$M$1=FALSE,F24*(1-$AJ$1)/'Всп лист'!$B$2,ROUNDUP(F24*(1-$AJ$1)/'Всп лист'!$C$3*'Всп лист'!$B$3*'Всп лист'!$B$4,0)),"-") -> 1659 | AO24: =IFERROR(IF('Установка скидки'!$M$1=FALSE,G24*(1-$AJ$1)/'Всп лист'!$B$2,ROUNDUP(G24*(1-$AJ$1)/'Всп лист'!$C$3*'Всп лист'!$B$3*'Всп лист'!$B$4,0)),"-") -> - | AP24: =IFERROR(IF('Установка скидки'!$M$1=FALSE,H24*(1-$AJ$1)/'Всп лист'!$B$2,ROUNDUP(H24*(1-$AJ$1)/'Всп лист'!$C$3*'Всп лист'!$B$3*'Всп лист'!$B$4,0)),"-") -> - | AQ24: =IFERROR(IF('Установка скидки'!$M$1=FALSE,I24*(1-$AJ$1)/'Всп лист'!$B$2,ROUNDUP(I24*(1-$AJ$1)/'Всп лист'!$C$3*'Всп лист'!$B$3*'Всп лист'!$B$4,0)),"-") -> - | ... BD24: =IFERROR(IF('Установка скидки'!$M$1=FALSE,V24*(1-$AJ$1)/'Всп лист'!$B$2,ROUNDUP(V24*(1-$AJ$1)/'Всп лист'!$C$3*'Всп лист'!$B$3*'Всп лист'!$B$4,0)),"-") -> -
A25: Переход Моно/Термо ПМТ-Р (304-0,5/304) | B25: 1184 | C25: - | D25: - | E25: - | F25: - | G25: - | H25: 1637 | I25: - | J25: - | K25: 1751 | L25: - | M25: - | N25: 1964 | O25: - | P25: 2304 | Q25: - | R25: 2519 | S25: - | T25: - | U25: - | V25: - | AI25: Переход Моно/Термо ПМТ-Р (304-0,5/304) | AJ25: =IFERROR(IF('Установка скидки'!$M$1=FALSE,B25*(1-$AJ$1)/'Всп лист'!$B$2,ROUNDUP(B24*(1-$AJ$1)/'Всп лист'!$C$3*'Всп лист'!$B$3*'Всп лист'!$B$4,0)),"-") -> 1184 | AK25: =IFERROR(IF('Установка скидки'!$M$1=FALSE,C25*(1-$AJ$1)/'Всп лист'!$B$2,ROUNDUP(C24*(1-$AJ$1)/'Всп лист'!$C$3*'Всп лист'!$B$3*'Всп лист'!$B$4,0)),"-") -> - | AL25: =IFERROR(IF('Установка скидки'!$M$1=FALSE,D25*(1-$AJ$1)/'Всп лист'!$B$2,ROUNDUP(D24*(1-$AJ$1)/'Всп лист'!$C$3*'Всп лист'!$B$3*'Всп лист'!$B$4,0)),"-") -> - | AM25: =IFERROR(IF('Установка скидки'!$M$1=FALSE,E25*(1-$AJ$1)/'Всп лист'!$B$2,ROUNDUP(E24*(1-$AJ$1)/'Всп лист'!$C$3*'Всп лист'!$B$3*'Всп лист'!$B$4,0)),"-") -> - | AN25: =IFERROR(IF('Установка скидки'!$M$1=FALSE,F25*(1-$AJ$1)/'Всп лист'!$B$2,ROUNDUP(F24*(1-$AJ$1)/'Всп лист'!$C$3*'Всп лист'!$B$3*'Всп лист'!$B$4,0)),"-") -> - | AO25: =IFERROR(IF('Установка скидки'!$M$1=FALSE,G25*(1-$AJ$1)/'Всп лист'!$B$2,ROUNDUP(G24*(1-$AJ$1)/'Всп лист'!$C$3*'Всп лист'!$B$3*'Всп лист'!$B$4,0)),"-") -> - | AP25: =IFERROR(IF('Установка скидки'!$M$1=FALSE,H25*(1-$AJ$1)/'Всп лист'!$B$2,ROUNDUP(H24*(1-$AJ$1)/'Всп лист'!$C$3*'Всп лист'!$B$3*'Всп лист'!$B$4,0)),"-") -> 1637 | AQ25: =IFERROR(IF('Установка скидки'!$M$1=FALSE,I25*(1-$AJ$1)/'Всп лист'!$B$2,ROUNDUP(I24*(1-$AJ$1)/'Всп лист'!$C$3*'Всп лист'!$B$3*'Всп лист'!$B$4,0)),"-") -> - | ... BD25: =IFERROR(IF('Установка скидки'!$M$1=FALSE,V25*(1-$AJ$1)/'Всп лист'!$B$2,ROUNDUP(V24*(1-$AJ$1)/'Всп лист'!$C$3*'Всп лист'!$B$3*'Всп лист'!$B$4,0)),"-") -> -
A26: Переход Моно/Термо ПМТ-Р (304-0,8/304) | B26: - | C26: - | D26: - | E26: - | F26: - | G26: 2622 | H26: - | I26: - | J26: 2602 | K26: - | L26: - | M26: 2894 | N26: - | O26: 3223 | P26: - | Q26: 3726 | R26: - | S26: - | T26: 4060 | U26: - | V26: 4926 | AI26: Переход Моно/Термо ПМТ-Р (304-0,8/304) | AJ26: =IFERROR(IF('Установка скидки'!$M$1=FALSE,B26*(1-$AJ$1)/'Всп лист'!$B$2,ROUNDUP(B25*(1-$AJ$1)/'Всп лист'!$C$3*'Всп лист'!$B$3*'Всп лист'!$B$4,0)),"-") -> - | AK26: =IFERROR(IF('Установка скидки'!$M$1=FALSE,C26*(1-$AJ$1)/'Всп лист'!$B$2,ROUNDUP(C25*(1-$AJ$1)/'Всп лист'!$C$3*'Всп лист'!$B$3*'Всп лист'!$B$4,0)),"-") -> - | AL26: =IFERROR(IF('Установка скидки'!$M$1=FALSE,D26*(1-$AJ$1)/'Всп лист'!$B$2,ROUNDUP(D25*(1-$AJ$1)/'Всп лист'!$C$3*'Всп лист'!$B$3*'Всп лист'!$B$4,0)),"-") -> - | AM26: =IFERROR(IF('Установка скидки'!$M$1=FALSE,E26*(1-$AJ$1)/'Всп лист'!$B$2,ROUNDUP(E25*(1-$AJ$1)/'Всп лист'!$C$3*'Всп лист'!$B$3*'Всп лист'!$B$4,0)),"-") -> - | AN26: =IFERROR(IF('Установка скидки'!$M$1=FALSE,F26*(1-$AJ$1)/'Всп лист'!$B$2,ROUNDUP(F25*(1-$AJ$1)/'Всп лист'!$C$3*'Всп лист'!$B$3*'Всп лист'!$B$4,0)),"-") -> - | AO26: =IFERROR(IF('Установка скидки'!$M$1=FALSE,G26*(1-$AJ$1)/'Всп лист'!$B$2,ROUNDUP(G25*(1-$AJ$1)/'Всп лист'!$C$3*'Всп лист'!$B$3*'Всп лист'!$B$4,0)),"-") -> 2622 | AP26: =IFERROR(IF('Установка скидки'!$M$1=FALSE,H26*(1-$AJ$1)/'Всп лист'!$B$2,ROUNDUP(H25*(1-$AJ$1)/'Всп лист'!$C$3*'Всп лист'!$B$3*'Всп лист'!$B$4,0)),"-") -> - | AQ26: =IFERROR(IF('Установка скидки'!$M$1=FALSE,I26*(1-$AJ$1)/'Всп лист'!$B$2,ROUNDUP(I25*(1-$AJ$1)/'Всп лист'!$C$3*'Всп лист'!$B$3*'Всп лист'!$B$4,0)),"-") -> - | ... BD26: =IFERROR(IF('Установка скидки'!$M$1=FALSE,V26*(1-$AJ$1)/'Всп лист'!$B$2,ROUNDUP(V25*(1-$AJ$1)/'Всп лист'!$C$3*'Всп лист'!$B$3*'Всп лист'!$B$4,0)),"-") -> 4926
A27: Переход Моно/Термо ПМТ-Р (316-0,5/304) | B27: 2078 | C27: 2694 | D27: - | E27: - | F27: - | G27: - | H27: 2850 | I27: - | J27: - | K27: - | L27: - | M27: - | N27: 3500 | O27: - | P27: 4295 | Q27: - | R27: 4606 | S27: - | T27: - | U27: 6480 | V27: - | AI27: Переход Моно/Термо ПМТ-Р (316-0,5/304) | AJ27: =IFERROR(IF('Установка скидки'!$M$1=FALSE,B27*(1-$AJ$1)/'Всп лист'!$B$2,ROUNDUP(B26*(1-$AJ$1)/'Всп лист'!$C$3*'Всп лист'!$B$3*'Всп лист'!$B$4,0)),"-") -> 2078 | AK27: =IFERROR(IF('Установка скидки'!$M$1=FALSE,C27*(1-$AJ$1)/'Всп лист'!$B$2,ROUNDUP(C26*(1-$AJ$1)/'Всп лист'!$C$3*'Всп лист'!$B$3*'Всп лист'!$B$4,0)),"-") -> 2694 | AL27: =IFERROR(IF('Установка скидки'!$M$1=FALSE,D27*(1-$AJ$1)/'Всп лист'!$B$2,ROUNDUP(D26*(1-$AJ$1)/'Всп лист'!$C$3*'Всп лист'!$B$3*'Всп лист'!$B$4,0)),"-") -> - | AM27: =IFERROR(IF('Установка скидки'!$M$1=FALSE,E27*(1-$AJ$1)/'Всп лист'!$B$2,ROUNDUP(E26*(1-$AJ$1)/'Всп лист'!$C$3*'Всп лист'!$B$3*'Всп лист'!$B$4,0)),"-") -> - | AN27: =IFERROR(IF('Установка скидки'!$M$1=FALSE,F27*(1-$AJ$1)/'Всп лист'!$B$2,ROUNDUP(F26*(1-$AJ$1)/'Всп лист'!$C$3*'Всп лист'!$B$3*'Всп лист'!$B$4,0)),"-") -> - | AO27: =IFERROR(IF('Установка скидки'!$M$1=FALSE,G27*(1-$AJ$1)/'Всп лист'!$B$2,ROUNDUP(G26*(1-$AJ$1)/'Всп лист'!$C$3*'Всп лист'!$B$3*'Всп лист'!$B$4,0)),"-") -> - | AP27: =IFERROR(IF('Установка скидки'!$M$1=FALSE,H27*(1-$AJ$1)/'Всп лист'!$B$2,ROUNDUP(H26*(1-$AJ$1)/'Всп лист'!$C$3*'Всп лист'!$B$3*'Всп лист'!$B$4,0)),"-") -> 2850 | AQ27: =IFERROR(IF('Установка скидки'!$M$1=FALSE,I27*(1-$AJ$1)/'Всп лист'!$B$2,ROUNDUP(I26*(1-$AJ$1)/'Всп лист'!$C$3*'Всп лист'!$B$3*'Всп лист'!$B$4,0)),"-") -> - | ... BD27: =IFERROR(IF('Установка скидки'!$M$1=FALSE,V27*(1-$AJ$1)/'Всп лист'!$B$2,ROUNDUP(V26*(1-$AJ$1)/'Всп лист'!$C$3*'Всп лист'!$B$3*'Всп лист'!$B$4,0)),"-") -> -
A28: Переход Моно/Термо ПМТ-Р (316-0,8/304) | B28: - | C28: - | D28: - | E28: - | F28: - | G28: - | H28: - | I28: - | J28: 3986 | K28: - | L28: - | M28: - | N28: - | O28: 4660 | P28: - | Q28: - | R28: - | S28: - | T28: 6122 | U28: - | V28: 9327 | AI28: Переход Моно/Термо ПМТ-Р (316-0,8/304) | AJ28: =IFERROR(IF('Установка скидки'!$M$1=FALSE,B28*(1-$AJ$1)/'Всп лист'!$B$2,ROUNDUP(B27*(1-$AJ$1)/'Всп лист'!$C$3*'Всп лист'!$B$3*'Всп лист'!$B$4,0)),"-") -> - | AK28: =IFERROR(IF('Установка скидки'!$M$1=FALSE,C28*(1-$AJ$1)/'Всп лист'!$B$2,ROUNDUP(C27*(1-$AJ$1)/'Всп лист'!$C$3*'Всп лист'!$B$3*'Всп лист'!$B$4,0)),"-") -> - | AL28: =IFERROR(IF('Установка скидки'!$M$1=FALSE,D28*(1-$AJ$1)/'Всп лист'!$B$2,ROUNDUP(D27*(1-$AJ$1)/'Всп лист'!$C$3*'Всп лист'!$B$3*'Всп лист'!$B$4,0)),"-") -> - | AM28: =IFERROR(IF('Установка скидки'!$M$1=FALSE,E28*(1-$AJ$1)/'Всп лист'!$B$2,ROUNDUP(E27*(1-$AJ$1)/'Всп лист'!$C$3*'Всп лист'!$B$3*'Всп лист'!$B$4,0)),"-") -> - | AN28: =IFERROR(IF('Установка скидки'!$M$1=FALSE,F28*(1-$AJ$1)/'Всп лист'!$B$2,ROUNDUP(F27*(1-$AJ$1)/'Всп лист'!$C$3*'Всп лист'!$B$3*'Всп лист'!$B$4,0)),"-") -> - | AO28: =IFERROR(IF('Установка скидки'!$M$1=FALSE,G28*(1-$AJ$1)/'Всп лист'!$B$2,ROUNDUP(G27*(1-$AJ$1)/'Всп лист'!$C$3*'Всп лист'!$B$3*'Всп лист'!$B$4,0)),"-") -> - | AP28: =IFERROR(IF('Установка скидки'!$M$1=FALSE,H28*(1-$AJ$1)/'Всп лист'!$B$2,ROUNDUP(H27*(1-$AJ$1)/'Всп лист'!$C$3*'Всп лист'!$B$3*'Всп лист'!$B$4,0)),"-") -> - | AQ28: =IFERROR(IF('Установка скидки'!$M$1=FALSE,I28*(1-$AJ$1)/'Всп лист'!$B$2,ROUNDUP(I27*(1-$AJ$1)/'Всп лист'!$C$3*'Всп лист'!$B$3*'Всп лист'!$B$4,0)),"-") -> - | ... BD28: =IFERROR(IF('Установка скидки'!$M$1=FALSE,V28*(1-$AJ$1)/'Всп лист'!$B$2,ROUNDUP(V27*(1-$AJ$1)/'Всп лист'!$C$3*'Всп лист'!$B$3*'Всп лист'!$B$4,0)),"-") -> 9327
A29: Переход Моно/Термо ПМТ-Р (310-0,8/304) | B29: - | C29: - | D29: - | E29: - | F29: - | G29: - | H29: - | I29: - | J29: - | K29: - | L29: - | M29: 4939 | N29: - | O29: 5484 | P29: - | Q29: - | R29: - | S29: - | T29: 6840 | U29: - | V29: - | AI29: Переход Моно/Термо ПМТ-Р (310-0,8/304) | AJ29: =IFERROR(IF('Установка скидки'!$M$1=FALSE,B29*(1-$AJ$1)/'Всп лист'!$B$2,ROUNDUP(B28*(1-$AJ$1)/'Всп лист'!$C$3*'Всп лист'!$B$3*'Всп лист'!$B$4,0)),"-") -> - | AK29: =IFERROR(IF('Установка скидки'!$M$1=FALSE,C29*(1-$AJ$1)/'Всп лист'!$B$2,ROUNDUP(C28*(1-$AJ$1)/'Всп лист'!$C$3*'Всп лист'!$B$3*'Всп лист'!$B$4,0)),"-") -> - | AL29: =IFERROR(IF('Установка скидки'!$M$1=FALSE,D29*(1-$AJ$1)/'Всп лист'!$B$2,ROUNDUP(D28*(1-$AJ$1)/'Всп лист'!$C$3*'Всп лист'!$B$3*'Всп лист'!$B$4,0)),"-") -> - | AM29: =IFERROR(IF('Установка скидки'!$M$1=FALSE,E29*(1-$AJ$1)/'Всп лист'!$B$2,ROUNDUP(E28*(1-$AJ$1)/'Всп лист'!$C$3*'Всп лист'!$B$3*'Всп лист'!$B$4,0)),"-") -> - | AN29: =IFERROR(IF('Установка скидки'!$M$1=FALSE,F29*(1-$AJ$1)/'Всп лист'!$B$2,ROUNDUP(F28*(1-$AJ$1)/'Всп лист'!$C$3*'Всп лист'!$B$3*'Всп лист'!$B$4,0)),"-") -> - | AO29: =IFERROR(IF('Установка скидки'!$M$1=FALSE,G29*(1-$AJ$1)/'Всп лист'!$B$2,ROUNDUP(G28*(1-$AJ$1)/'Всп лист'!$C$3*'Всп лист'!$B$3*'Всп лист'!$B$4,0)),"-") -> - | AP29: =IFERROR(IF('Установка скидки'!$M$1=FALSE,H29*(1-$AJ$1)/'Всп лист'!$B$2,ROUNDUP(H28*(1-$AJ$1)/'Всп лист'!$C$3*'Всп лист'!$B$3*'Всп лист'!$B$4,0)),"-") -> - | AQ29: =IFERROR(IF('Установка скидки'!$M$1=FALSE,I29*(1-$AJ$1)/'Всп лист'!$B$2,ROUNDUP(I28*(1-$AJ$1)/'Всп лист'!$C$3*'Всп лист'!$B$3*'Всп лист'!$B$4,0)),"-") -> - | ... BD29: =IFERROR(IF('Установка скидки'!$M$1=FALSE,V29*(1-$AJ$1)/'Всп лист'!$B$2,ROUNDUP(V28*(1-$AJ$1)/'Всп лист'!$C$3*'Всп лист'!$B$3*'Всп лист'!$B$4,0)),"-") -> -
A30: Элемент дымохода: Переходы с прямоугольника (овала) в диаметр* | AI30: Элемент дымохода: Переходы с прямоугольника в диаметр*
A32: Наименование / Диаметр | B32: 150 | C32: 200 | D32: 250 | AI32: Наименование / Диаметр | AJ32: 150 | AK32: 200 | AL32: 250
A33: Переход с прямоугольника в диаметр ППКМ-Р L 130/130 (304-0.8) | B33: 3221 | C33: - | D33: - | AI33: Переход с прямоугольника в диаметр ППКМ-Р L 130/130 (304-0.8) | AJ33: =IFERROR(B33*(1-$AJ$1),"-") -> 3221 | AK33: =IFERROR(C33*(1-$AJ$1),"-") -> - | AL33: =IFERROR(D33*(1-$AJ$1),"-") -> -
A34: Переход с прямоугольника в диаметр ППКМ-Р L 130/260 (304-0.8) | B34: - | C34: 4130 | D34: - | AI34: Переход с прямоугольника в диаметр ППКМ-Р L 130/260 (304-0.8) | AJ34: =IFERROR(B34*(1-$AJ$1),"-") -> - | AK34: =IFERROR(C34*(1-$AJ$1),"-") -> 4130 | AL34: =IFERROR(D34*(1-$AJ$1),"-") -> -
A35: Переход с прямоугольника в диаметр ППКМ-Р L 260/260 (304-0.8) | B35: - | C35: - | D35: 5891 | AI35: Переход с прямоугольника в диаметр ППКМ-Р L 260/260 (304-0.8) | AJ35: =IFERROR(B35*(1-$AJ$1),"-") -> - | AK35: =IFERROR(C35*(1-$AJ$1),"-") -> - | AL35: =IFERROR(D35*(1-$AJ$1),"-") -> 5891
A36: Переход с прямоугольника в диаметр ППКМ-Р L 130/130 (430-1.0) | B36: 3946 | C36: - | D36: - | AI36: Переход с прямоугольника в диаметр ППКМ-Р L 130/130 (430-0.8) | AJ36: =IFERROR(IF('Установка скидки'!$M$1=FALSE,B36*(1-$AJ$1)/'Всп лист'!$B$2,ROUNDUP(B36*(1-$AJ$1)/'Всп лист'!$C$3*'Всп лист'!$B$3*'Всп лист'!$B$4,0)),"-") -> 3946 | AK36: =IFERROR(IF('Установка скидки'!$M$1=FALSE,C36*(1-$AJ$1)/'Всп лист'!$B$2,ROUNDUP(C36*(1-$AJ$1)/'Всп лист'!$C$3*'Всп лист'!$B$3*'Всп лист'!$B$4,0)),"-") -> - | AL36: =IFERROR(IF('Установка скидки'!$M$1=FALSE,D36*(1-$AJ$1)/'Всп лист'!$B$2,ROUNDUP(D36*(1-$AJ$1)/'Всп лист'!$C$3*'Всп лист'!$B$3*'Всп лист'!$B$4,0)),"-") -> -
A37: Переход с прямоугольника в диаметр ППКМ-Р L 130/260 (430-1.0) | B37: - | C37: 4931 | D37: - | AI37: Переход с прямоугольника в диаметр ППКМ-Р L 130/260 (430-0.8) | AJ37: =IFERROR(IF('Установка скидки'!$M$1=FALSE,B37*(1-$AJ$1)/'Всп лист'!$B$2,ROUNDUP(B37*(1-$AJ$1)/'Всп лист'!$C$3*'Всп лист'!$B$3*'Всп лист'!$B$4,0)),"-") -> - | AK37: =IFERROR(IF('Установка скидки'!$M$1=FALSE,C37*(1-$AJ$1)/'Всп лист'!$B$2,ROUNDUP(C37*(1-$AJ$1)/'Всп лист'!$C$3*'Всп лист'!$B$3*'Всп лист'!$B$4,0)),"-") -> 4931 | AL37: =IFERROR(IF('Установка скидки'!$M$1=FALSE,D37*(1-$AJ$1)/'Всп лист'!$B$2,ROUNDUP(D37*(1-$AJ$1)/'Всп лист'!$C$3*'Всп лист'!$B$3*'Всп лист'!$B$4,0)),"-") -> -
A38: Переход с прямоугольника в диаметр ППКМ-Р L 260/260 (430-1.0) | B38: - | C38: - | D38: 6902 | AI38: Переход с прямоугольника в диаметр ППКМ-Р L 260/260 (430-0.8) | AJ38: =IFERROR(IF('Установка скидки'!$M$1=FALSE,B38*(1-$AJ$1)/'Всп лист'!$B$2,ROUNDUP(B38*(1-$AJ$1)/'Всп лист'!$C$3*'Всп лист'!$B$3*'Всп лист'!$B$4,0)),"-") -> - | AK38: =IFERROR(IF('Установка скидки'!$M$1=FALSE,C38*(1-$AJ$1)/'Всп лист'!$B$2,ROUNDUP(C38*(1-$AJ$1)/'Всп лист'!$C$3*'Всп лист'!$B$3*'Всп лист'!$B$4,0)),"-") -> - | AL38: =IFERROR(IF('Установка скидки'!$M$1=FALSE,D38*(1-$AJ$1)/'Всп лист'!$B$2,ROUNDUP(D38*(1-$AJ$1)/'Всп лист'!$C$3*'Всп лист'!$B$3*'Всп лист'!$B$4,0)),"-") -> 6902
A39: Переход с прямоугольника в диаметр ППКМ-Р L 130/130 (304-1.0) | B39: 4068 | C39: - | D39: - | AI39: Переход с прямоугольника в диаметр ППКМ-Р L 130/130 (304-1.0) | AJ39: =IFERROR(IF('Установка скидки'!$M$1=FALSE,B39*(1-$AJ$1)/'Всп лист'!$B$2,ROUNDUP(B39*(1-$AJ$1)/'Всп лист'!$C$3*'Всп лист'!$B$3*'Всп лист'!$B$4,0)),"-") -> 4068 | AK39: =IFERROR(IF('Установка скидки'!$M$1=FALSE,C39*(1-$AJ$1)/'Всп лист'!$B$2,ROUNDUP(C39*(1-$AJ$1)/'Всп лист'!$C$3*'Всп лист'!$B$3*'Всп лист'!$B$4,0)),"-") -> - | AL39: =IFERROR(IF('Установка скидки'!$M$1=FALSE,D39*(1-$AJ$1)/'Всп лист'!$B$2,ROUNDUP(D39*(1-$AJ$1)/'Всп лист'!$C$3*'Всп лист'!$B$3*'Всп лист'!$B$4,0)),"-") -> -
A40: Переход с прямоугольника в диаметр ППКМ-Р L 130/260 (304-1.0) | B40: - | C40: 5216 | D40: - | AI40: Переход с прямоугольника в диаметр ППКМ-Р L 130/260 (304-1.0) | AJ40: =IFERROR(IF('Установка скидки'!$M$1=FALSE,B40*(1-$AJ$1)/'Всп лист'!$B$2,ROUNDUP(B40*(1-$AJ$1)/'Всп лист'!$C$3*'Всп лист'!$B$3*'Всп лист'!$B$4,0)),"-") -> - | AK40: =IFERROR(IF('Установка скидки'!$M$1=FALSE,C40*(1-$AJ$1)/'Всп лист'!$B$2,ROUNDUP(C40*(1-$AJ$1)/'Всп лист'!$C$3*'Всп лист'!$B$3*'Всп лист'!$B$4,0)),"-") -> 5216 | AL40: =IFERROR(IF('Установка скидки'!$M$1=FALSE,D40*(1-$AJ$1)/'Всп лист'!$B$2,ROUNDUP(D40*(1-$AJ$1)/'Всп лист'!$C$3*'Всп лист'!$B$3*'Всп лист'!$B$4,0)),"-") -> -
A41: Переход с прямоугольника в диаметр ППКМ-Р L 260/260 (304-1.0) | B41: - | C41: - | D41: 7436 | AI41: Переход с прямоугольника в диаметр ППКМ-Р L 260/260 (304-1.0) | AJ41: =IFERROR(IF('Установка скидки'!$M$1=FALSE,B41*(1-$AJ$1)/'Всп лист'!$B$2,ROUNDUP(B41*(1-$AJ$1)/'Всп лист'!$C$3*'Всп лист'!$B$3*'Всп лист'!$B$4,0)),"-") -> - | AK41: =IFERROR(IF('Установка скидки'!$M$1=FALSE,C41*(1-$AJ$1)/'Всп лист'!$B$2,ROUNDUP(C41*(1-$AJ$1)/'Всп лист'!$C$3*'Всп лист'!$B$3*'Всп лист'!$B$4,0)),"-") -> - | AL41: =IFERROR(IF('Установка скидки'!$M$1=FALSE,D41*(1-$AJ$1)/'Всп лист'!$B$2,ROUNDUP(D41*(1-$AJ$1)/'Всп лист'!$C$3*'Всп лист'!$B$3*'Всп лист'!$B$4,0)),"-") -> 7436
A42: Переход с Овала в диаметр (D150 304-0.5; D200 304-0.8) | B42: 2546 | C42: 2896 | D42: - | AI42: Переход с Овала в диаметр (D150 304-0.5; D200 304-0.8) | AJ42: =IFERROR(IF('Установка скидки'!$M$1=FALSE,B42*(1-$AJ$1)/'Всп лист'!$B$2,ROUNDUP(B42*(1-$AJ$1)/'Всп лист'!$C$3*'Всп лист'!$B$3*'Всп лист'!$B$4,0)),"-") -> 2546 | AK42: =IFERROR(IF('Установка скидки'!$M$1=FALSE,C42*(1-$AJ$1)/'Всп лист'!$B$2,ROUNDUP(C42*(1-$AJ$1)/'Всп лист'!$C$3*'Всп лист'!$B$3*'Всп лист'!$B$4,0)),"-") -> 2896 | AL42: =IFERROR(IF('Установка скидки'!$M$1=FALSE,D42*(1-$AJ$1)/'Всп лист'!$B$2,ROUNDUP(D42*(1-$AJ$1)/'Всп лист'!$C$3*'Всп лист'!$B$3*'Всп лист'!$B$4,0)),"-") -> -
A44: *Монтажная длина перехода с прямоугольника в диаметр 200 мм | AI44: *Монтажная длина перехода с прямоугольника в диаметр 200 мм
A46: Складская программа (срок отгрузки до 7 дней) | AI46: Складская программа (срок отгрузки до 7 дней)
A47: Выделенным цветом изделия являются распродажными (выбирать только при наличии на складе) | AI47: Выделенным цветом изделия являются распродажными (выбирать только при наличии на складе)
A49: Продукция сертифицирована | AI49: Продукция сертифицирована
A50: Пож.серт. (обязательная сертификация) № С-.RU.ПБ 37.В.00073 | AI50: Пож.серт. (обязательная сертификация) № С-.RU.ПБ 37.В.00073
A51: Гост Р № РОСС RU.АЮ 31.НО 9761 | AI51: Гост Р № РОСС RU.АЮ 31.НО 9761
A52: ТУ № 5263-001-80115295-2011 | AI52: ТУ № 5263-001-80115295-2011
A53: Ваши предложения и нарекания на качество продукции и обслуживания просьба отправлять на эл почту pk@teplov.ru | AI53: Ваши предложения и нарекания на качество продукции и обслуживания просьба отправлять на эл почту pk@teplov.ru
A54: Производитель гарантирует качественную работу дымохода при правильно выбранной покупателем марке стали, иных параметров изделий, соблюдении требований, правил монтажа и экслуатации дымохода и тепловой установки. См. инструкция по монтажу и эксплуатации дымоходов "Теплов и Сухов" WWW.TEPLOV.RU | AI54: Производитель гарантирует качественную работу дымохода при правильно выбранной покупателем марке стали, иных параметров изделий, соблюдении требований, правил монтажа и экслуатации дымохода и тепловой установки. См. инструкция по монтажу и эксплуатации дымоходов "Теплов и Сухов" WWW.TEPLOV.RU

Sheet Баки
E1: Размер скидки | F1: ='Установка скидки'!$G$11 -> 0 | H1: =IF('Установка скидки'!$M$1=FALSE,'Всп лист'!$A$7,'Всп лист'!$A$8) -> Цены указаны в руб. с НДС
A7: Наименование/ Цена | B7: Цена в руб. с НДС за шт. | E7: Наименование | F7: Цена в руб. с НДС за шт.
A8: Бак-ватерпасс D180 (304) | B8: 2768 | E8: =A8 -> Бак-ватерпасс D180 (304) | F8: =IFERROR(IF('Установка скидки'!$M$1=FALSE,B8*(1-$F$1)/'Всп лист'!$B$2,ROUNDUP(B8*(1-$F$1)/'Всп лист'!$C$3*'Всп лист'!$B$3*'Всп лист'!$B$4,0)),"-" ) -> 2768
A9: ППШ-М Пароперегреватель трубный D115/115 (304) | B9: 10198 | E9: =A9 -> ППШ-М Пароперегреватель трубный D115/115 (304) | F9: =IFERROR(IF('Установка скидки'!$M$1=FALSE,B9*(1-$F$1)/'Всп лист'!$B$2,ROUNDUP(B9*(1-$F$1)/'Всп лист'!$C$3*'Всп лист'!$B$3*'Всп лист'!$B$4,0)),"-" ) -> 10198
A10: ППШ-М Пароперегреватель трубный D130/130 (304) | B10: 10968 | E10: =A10 -> ППШ-М Пароперегреватель трубный D130/130 (304) | F10: =IFERROR(IF('Установка скидки'!$M$1=FALSE,B10*(1-$F$1)/'Всп лист'!$B$2,ROUNDUP(B10*(1-$F$1)/'Всп лист'!$C$3*'Всп лист'!$B$3*'Всп лист'!$B$4,0)),"-" ) -> 10968
A11: ППШ-Б Бак 40л + Пароперегреватель трубный D115 (430) | B11: 16491 | E11: =A11 -> ППШ-Б Бак 40л + Пароперегреватель трубный D115 (430) | F11: =IFERROR(IF('Установка скидки'!$M$1=FALSE,B11*(1-$F$1)/'Всп лист'!$B$2,ROUNDUP(B11*(1-$F$1)/'Всп лист'!$C$3*'Всп лист'!$B$3*'Всп лист'!$B$4,0)),"-" ) -> 16491
A13: Аксессуары для бани к пароперегревателям ППШ | E13: Аксессуары для бани к пароперегревателям ППШ
A15: Наименование/ Цена | B15: Цена в руб. с НДС за шт. | E15: Наименование | F15: Цена в руб. с НДС за шт.
A16: Запарник для веников и трав для пароперегревателя ППШ | B16: 16500 | E16: =A16 -> Запарник для веников и трав для пароперегревателя ППШ | F16: =IFERROR(IF('Установка скидки'!$M$1=FALSE,B16*(1-$F$1)/'Всп лист'!$B$2,ROUNDUP(B16*(1-$F$1)/'Всп лист'!$C$3*'Всп лист'!$B$3*'Всп лист'!$B$4,0)),"-" ) -> 16500
E18: Баки, Теплообменники, Конвекторы
A20: Наименование/ Цена | B20: Цена в руб. с НДС за шт. | E20: Наименование | F20: Цена в руб. с НДС за шт.
A21: Бак навесной ТиС Стандарт 60 вертикальный (201) | B21: 5431 | E21: =A21 -> Бак навесной ТиС Стандарт 60 вертикальный (201) | F21: =IFERROR(IF('Установка скидки'!$M$1=FALSE,B21*(1-$F$1)/'Всп лист'!$B$2,ROUNDUP(B21*(1-$F$1)/'Всп лист'!$C$3*'Всп лист'!$B$3*'Всп лист'!$B$4,0)),"-" ) -> 5431
A22: Бак навесной ТиС Феррит 60 вертикальный (430-0,8) | B22: 8296 | E22: =A22 -> Бак навесной ТиС Феррит 60 вертикальный (430-0,8) | F22: =IFERROR(IF('Установка скидки'!$M$1=FALSE,B22*(1-$F$1)/'Всп лист'!$B$2,ROUNDUP(B22*(1-$F$1)/'Всп лист'!$C$3*'Всп лист'!$B$3*'Всп лист'!$B$4,0)),"-" ) -> 8296
A23: Бак навесной ТиС Стандарт 60 вертикальный (201-0,8) | B23: 10210 | E23: =A23 -> Бак навесной ТиС Стандарт 60 вертикальный (201-0,8) | F23: =IFERROR(IF('Установка скидки'!$M$1=FALSE,B23*(1-$F$1)/'Всп лист'!$B$2,ROUNDUP(B23*(1-$F$1)/'Всп лист'!$C$3*'Всп лист'!$B$3*'Всп лист'!$B$4,0)),"-" ) -> 10210
A24: Бак навесной ТиС Стандарт 80 горизонтальный (201-0,8) | B24: 11382 | E24: =A24 -> Бак навесной ТиС Стандарт 80 горизонтальный (201-0,8) | F24: =IFERROR(IF('Установка скидки'!$M$1=FALSE,B24*(1-$F$1)/'Всп лист'!$B$2,ROUNDUP(B24*(1-$F$1)/'Всп лист'!$C$3*'Всп лист'!$B$3*'Всп лист'!$B$4,0)),"-" ) -> 11382
A25: Бак навесной ТиС Стандарт 100 горизонтальный (201-0,8) | B25: 13452 | E25: =A25 -> Бак навесной ТиС Стандарт 100 горизонтальный (201-0,8) | F25: =IFERROR(IF('Установка скидки'!$M$1=FALSE,B25*(1-$F$1)/'Всп лист'!$B$2,ROUNDUP(B25*(1-$F$1)/'Всп лист'!$C$3*'Всп лист'!$B$3*'Всп лист'!$B$4,0)),"-" ) -> 13452
A26: Бак печной овальный ТиС Феррит 40, D115/115 (430) | B26: 7776 | E26: Бак печной ТиС Феррит 40, D115/115 (430) | F26: =IFERROR(IF('Установка скидки'!$M$1=FALSE,B26*(1-$F$1)/'Всп лист'!$B$2,ROUNDUP(B26*(1-$F$1)/'Всп лист'!$C$3*'Всп лист'!$B$3*'Всп лист'!$B$4,0)),"-" ) -> 7776
A27: Бак печной овальный ТиС Стандарт 40, D115/115 (304) | B27: 11654 | E27: =A27 -> Бак печной овальный ТиС Стандарт 40, D115/115 (304) | F27: =IFERROR(IF('Установка скидки'!$M$1=FALSE,B27*(1-$F$1)/'Всп лист'!$B$2,ROUNDUP(B27*(1-$F$1)/'Всп лист'!$C$3*'Всп лист'!$B$3*'Всп лист'!$B$4,0)),"-" ) -> 11654
A28: Бак печной овальный ТиС Феррит 50, D115/115 (430) | B28: 9342 | E28: =A28 -> Бак печной овальный ТиС Феррит 50, D115/115 (430) | F28: =IFERROR(IF('Установка скидки'!$M$1=FALSE,B28*(1-$F$1)/'Всп лист'!$B$2,ROUNDUP(B28*(1-$F$1)/'Всп лист'!$C$3*'Всп лист'!$B$3*'Всп лист'!$B$4,0)),"-" ) -> 9342
A29: Бак печной овальный ТиС Стандарт 50, D115/115 (304) | B29: 12391 | E29: =A29 -> Бак печной овальный ТиС Стандарт 50, D115/115 (304) | F29: =IFERROR(IF('Установка скидки'!$M$1=FALSE,B29*(1-$F$1)/'Всп лист'!$B$2,ROUNDUP(B29*(1-$F$1)/'Всп лист'!$C$3*'Всп лист'!$B$3*'Всп лист'!$B$4,0)),"-" ) -> 12391
A30: Бак печной овальный ТиС Стандарт 50, D130/130 (304) | B30: 12930 | E30: =A30 -> Бак печной овальный ТиС Стандарт 50, D130/130 (304) | F30: =IFERROR(IF('Установка скидки'!$M$1=FALSE,B30*(1-$F$1)/'Всп лист'!$B$2,ROUNDUP(B30*(1-$F$1)/'Всп лист'!$C$3*'Всп лист'!$B$3*'Всп лист'!$B$4,0)),"-" ) -> 12930
A31: Бак печной овальный ТиС Стандарт 60, D115/115 (304) | B31: 14478 | E31: =A31 -> Бак печной овальный ТиС Стандарт 60, D115/115 (304) | F31: =IFERROR(IF('Установка скидки'!$M$1=FALSE,B31*(1-$F$1)/'Всп лист'!$B$2,ROUNDUP(B31*(1-$F$1)/'Всп лист'!$C$3*'Всп лист'!$B$3*'Всп лист'!$B$4,0)),"-" ) -> 14478
A32: Бак печной овальный ТиС Феррит 70, D115/115 (430) | B32: 11529 | E32: =A32 -> Бак печной овальный ТиС Феррит 70, D115/115 (430) | F32: =IFERROR(IF('Установка скидки'!$M$1=FALSE,B32*(1-$F$1)/'Всп лист'!$B$2,ROUNDUP(B32*(1-$F$1)/'Всп лист'!$C$3*'Всп лист'!$B$3*'Всп лист'!$B$4,0)),"-" ) -> 11529
A33: Бак печной овальный ТиС Стандарт 70, D115/115 (304) | B33: 16417 | E33: =A33 -> Бак печной овальный ТиС Стандарт 70, D115/115 (304) | F33: =IFERROR(IF('Установка скидки'!$M$1=FALSE,B33*(1-$F$1)/'Всп лист'!$B$2,ROUNDUP(B33*(1-$F$1)/'Всп лист'!$C$3*'Всп лист'!$B$3*'Всп лист'!$B$4,0)),"-" ) -> 16417
A34: Бак печной овальный ТиС Стандарт 70, D130/130 (304) | B34: 17206 | E34: =A34 -> Бак печной овальный ТиС Стандарт 70, D130/130 (304) | F34: =IFERROR(IF('Установка скидки'!$M$1=FALSE,B34*(1-$F$1)/'Всп лист'!$B$2,ROUNDUP(B34*(1-$F$1)/'Всп лист'!$C$3*'Всп лист'!$B$3*'Всп лист'!$B$4,0)),"-" ) -> 17206
A35: Конвектор трубный L1000, D120/115(120) (430) | B35: 4666 | E35: =A35 -> Конвектор трубный L1000, D120/115(120) (430) | F35: =IFERROR(IF('Установка скидки'!$M$1=FALSE,B35*(1-$F$1)/'Всп лист'!$B$2,ROUNDUP(B35*(1-$F$1)/'Всп лист'!$C$3*'Всп лист'!$B$3*'Всп лист'!$B$4,0)),"-" ) -> 4666
A36: Конвектор трубный L1000, D150/150 (430) | B36: 5520 | E36: =A36 -> Конвектор трубный L1000, D150/150 (430) | F36: =IFERROR(IF('Установка скидки'!$M$1=FALSE,B36*(1-$F$1)/'Всп лист'!$B$2,ROUNDUP(B36*(1-$F$1)/'Всп лист'!$C$3*'Всп лист'!$B$3*'Всп лист'!$B$4,0)),"-" ) -> 5520
A37: Сетка для камней L500 СДК D300 (430) | B37: 3442 | E37: =A37 -> Сетка для камней L500 СДК D300 (430) | F37: =IFERROR(IF('Установка скидки'!$M$1=FALSE,B37*(1-$F$1)/'Всп лист'!$B$2,ROUNDUP(B37*(1-$F$1)/'Всп лист'!$C$3*'Всп лист'!$B$3*'Всп лист'!$B$4,0)),"-" ) -> 3442
A38: Титан 8 (S -12 дм2), D115/115 (430) | B38: 4261 | E38: =A38 -> Титан 8 (S -12 дм2), D115/115 (430) | F38: =IFERROR(IF('Установка скидки'!$M$1=FALSE,B38*(1-$F$1)/'Всп лист'!$B$2,ROUNDUP(B38*(1-$F$1)/'Всп лист'!$C$3*'Всп лист'!$B$3*'Всп лист'!$B$4,0)),"-" ) -> 4261
... A41: Титан 16, (S -24 дм2), D115/115 (304) | B41: 7267 | E41: =A41 -> Титан 16, (S -24 дм2), D115/115 (304) | F41: =IFERROR(IF('Установка скидки'!$M$1=FALSE,B41*(1-$F$1)/'Всп лист'!$B$2,ROUNDUP(B41*(1-$F$1)/'Всп лист'!$C$3*'Всп лист'!$B$3*'Всп лист'!$B$4,0)),"-" ) -> 7267
E43: Складская программа (срок отгрузки до 7 дней)
E44: Выделенным цветом изделия являются распродажными (выбирать только при наличии на складе)
E46: Повышенная корозионостойкость сварного шва обеспечена TIG сваркой в среде аргона, без доступа кислорода.
E47: Продукция сертифицирована
E48: ТУ № 5263-001-80115295-2011
E49: Ваши предложения и нарекания на качество продукции и обслуживания просьба отправлять на эл почту pk@teplov.ru

Sheet УПШ, ТермоВент, ППУ
F1: Размер скидки | G1: ='Установка скидки'!$G$11 -> 0 | I1: =IF('Установка скидки'!$M$1=FALSE,'Всп лист'!$A$7,'Всп лист'!$A$8) -> Цены указаны в руб. с НДС
A7: Наименование/ Цена | B7: Цена в руб. с НДС за шт. | F7: Наименование | G7: Цена в руб. с НДС за шт.
A8: Комплект вентиляции для бани и сауны ТиС Вент-П (проход через перекрытие/кровлю) | B8: 12100 | F8: =A8 -> Комплект вентиляции для бани и сауны ТиС Вент-П (проход через перекрытие/кровлю) | G8: =IFERROR(IF('Установка скидки'!$M$1=FALSE,B8*(1-$G$1)/'Всп лист'!$B$2,ROUNDUP(B8*(1-$G$1)/'Всп лист'!$C$3*'Всп лист'!$B$3*'Всп лист'!$B$4,0)),"-" ) -> 12100
A9: Комплект вентиляции для бани и сауны ТиС Вент-С (проход через стену) | B9: 11100 | F9: =A9 -> Комплект вентиляции для бани и сауны ТиС Вент-С (проход через стену) | G9: =IFERROR(IF('Установка скидки'!$M$1=FALSE,B9*(1-$G$1)/'Всп лист'!$B$2,ROUNDUP(B9*(1-$G$1)/'Всп лист'!$C$3*'Всп лист'!$B$3*'Всп лист'!$B$4,0)),"-" ) -> 11100
A10: Труба Прямоугольная Моно L 500 430-0.5 50х140 | B10: 2193 | F10: =A10 -> Труба Прямоугольная Моно L 500 430-0.5 50х140 | G10: =IFERROR(IF('Установка скидки'!$M$1=FALSE,B10*(1-$G$1)/'Всп лист'!$B$2,ROUNDUP(B10*(1-$G$1)/'Всп лист'!$C$3*'Всп лист'!$B$3*'Всп лист'!$B$4,0)),"-" ) -> 2193
A11: Клапан для ТиС-Вент 430 0,5 D115 (тисненая липа) | B11: 1127 | F11: Клапан для ТиС-Вент 430 0,5 D115 (тисненая липа) | G11: =IFERROR(IF('Установка скидки'!$M$1=FALSE,B11*(1-$G$1)/'Всп лист'!$B$2,ROUNDUP(B11*(1-$G$1)/'Всп лист'!$C$3*'Всп лист'!$B$3*'Всп лист'!$B$4,0)),"-" ) -> 1127
F13: УПШ, 3-контурный ТермоВент (AISI 304)
A15: Наименование/ Диаметр | B15: 115/150/210 (260) | C15: 130/180/240 (280) | F15: Наименование / Диаметр | G15: 115/150/210 (260) | H15: 130/180/240 (280)
A16: УПШ ТермоВент L1000 304-0,8/430 | B16: 16657 | C16: 18596 | F16: =A16 -> УПШ ТермоВент L1000 304-0,8/430 | G16: =IFERROR(IF('Установка скидки'!$M$1=FALSE,B16*(1-$G$1)/'Всп лист'!$B$2,ROUNDUP(B16*(1-$G$1)/'Всп лист'!$C$3*'Всп лист'!$B$3*'Всп лист'!$B$4,0)),"-" ) -> 16657 | H16: =IFERROR(IF('Установка скидки'!$M$1=FALSE,C16*(1-$G$1)/'Всп лист'!$B$2,ROUNDUP(C16*(1-$G$1)/'Всп лист'!$C$3*'Всп лист'!$B$3*'Всп лист'!$B$4,0)),"-" ) -> 18596
A17: УПШ-Б ТермоВент L1000 304-0,8/430 | B17: 16148 | C17: 19109 | F17: =A17 -> УПШ-Б ТермоВент L1000 304-0,8/430 | G17: =IFERROR(IF('Установка скидки'!$M$1=FALSE,B17*(1-$G$1)/'Всп лист'!$B$2,ROUNDUP(B17*(1-$G$1)/'Всп лист'!$C$3*'Всп лист'!$B$3*'Всп лист'!$B$4,0)),"-" ) -> 16148 | H17: =IFERROR(IF('Установка скидки'!$M$1=FALSE,C17*(1-$G$1)/'Всп лист'!$B$2,ROUNDUP(C17*(1-$G$1)/'Всп лист'!$C$3*'Всп лист'!$B$3*'Всп лист'!$B$4,0)),"-" ) -> 19109
A18: Труба ТермоВент L1000 304-0,8/430 | B18: 8386 | C18: 10917 | F18: =A18 -> Труба ТермоВент L1000 304-0,8/430 | G18: =IFERROR(IF('Установка скидки'!$M$1=FALSE,B18*(1-$G$1)/'Всп лист'!$B$2,ROUNDUP(B18*(1-$G$1)/'Всп лист'!$C$3*'Всп лист'!$B$3*'Всп лист'!$B$4,0)),"-" ) -> 8386 | H18: =IFERROR(IF('Установка скидки'!$M$1=FALSE,C18*(1-$G$1)/'Всп лист'!$B$2,ROUNDUP(C18*(1-$G$1)/'Всп лист'!$C$3*'Всп лист'!$B$3*'Всп лист'!$B$4,0)),"-" ) -> 10917
A19: Труба ТермоВент L500 304-0,8/430 | B19: 4682 | C19: 6001 | F19: =A19 -> Труба ТермоВент L500 304-0,8/430 | G19: =IFERROR(IF('Установка скидки'!$M$1=FALSE,B19*(1-$G$1)/'Всп лист'!$B$2,ROUNDUP(B19*(1-$G$1)/'Всп лист'!$C$3*'Всп лист'!$B$3*'Всп лист'!$B$4,0)),"-" ) -> 4682 | H19: =IFERROR(IF('Установка скидки'!$M$1=FALSE,C19*(1-$G$1)/'Всп лист'!$B$2,ROUNDUP(C19*(1-$G$1)/'Всп лист'!$C$3*'Всп лист'!$B$3*'Всп лист'!$B$4,0)),"-" ) -> 6001
A20: Оголовок ТермоВент 304-0,5/430 | B20: 7369 | C20: 8423 | F20: =A20 -> Оголовок ТермоВент 304-0,5/430 | G20: =IFERROR(IF('Установка скидки'!$M$1=FALSE,B20*(1-$G$1)/'Всп лист'!$B$2,ROUNDUP(B20*(1-$G$1)/'Всп лист'!$C$3*'Всп лист'!$B$3*'Всп лист'!$B$4,0)),"-" ) -> 7369 | H20: =IFERROR(IF('Установка скидки'!$M$1=FALSE,C20*(1-$G$1)/'Всп лист'!$B$2,ROUNDUP(C20*(1-$G$1)/'Всп лист'!$C$3*'Всп лист'!$B$3*'Всп лист'!$B$4,0)),"-" ) -> 8423
A21: Отвод 45* ТермоВент 304-0,8/430 | B21: 5662 | C21: 8440 | F21: =A21 -> Отвод 45* ТермоВент 304-0,8/430 | G21: =IFERROR(IF('Установка скидки'!$M$1=FALSE,B21*(1-$G$1)/'Всп лист'!$B$2,ROUNDUP(B21*(1-$G$1)/'Всп лист'!$C$3*'Всп лист'!$B$3*'Всп лист'!$B$4,0)),"-" ) -> 5662 | H21: =IFERROR(IF('Установка скидки'!$M$1=FALSE,C21*(1-$G$1)/'Всп лист'!$B$2,ROUNDUP(C21*(1-$G$1)/'Всп лист'!$C$3*'Всп лист'!$B$3*'Всп лист'!$B$4,0)),"-" ) -> 8440
A22: Проход перекрытия универсальный утепленный ППУ-У 590х590 (D 220-260, D280-310) | B22: 4903 | C22: 5201 | F22: =A22 -> Проход перекрытия универсальный утепленный ППУ-У 590х590 (D 220-260, D280-310) | G22: =IFERROR(IF('Установка скидки'!$M$1=FALSE,B22*(1-$G$1)/'Всп лист'!$B$2,ROUNDUP(B22*(1-$G$1)/'Всп лист'!$C$3*'Всп лист'!$B$3*'Всп лист'!$B$4,0)),"-" ) -> 4903 | H22: =IFERROR(IF('Установка скидки'!$M$1=FALSE,C22*(1-$G$1)/'Всп лист'!$B$2,ROUNDUP(C22*(1-$G$1)/'Всп лист'!$C$3*'Всп лист'!$B$3*'Всп лист'!$B$4,0)),"-" ) -> 5201
A23: Хомут трубный на болте-ФР (430) (D 210, D240) | B23: 278 | C23: 297 | F23: =A23 -> Хомут трубный на болте-ФР (430) (D 210, D240) | G23: =IFERROR(IF('Установка скидки'!$M$1=FALSE,B23*(1-$G$1)/'Всп лист'!$B$2,ROUNDUP(B23*(1-$G$1)/'Всп лист'!$C$3*'Всп лист'!$B$3*'Всп лист'!$B$4,0)),"-" ) -> 278 | H23: =IFERROR(IF('Установка скидки'!$M$1=FALSE,C23*(1-$G$1)/'Всп лист'!$B$2,ROUNDUP(C23*(1-$G$1)/'Всп лист'!$C$3*'Всп лист'!$B$3*'Всп лист'!$B$4,0)),"-" ) -> 297
A24: Фартук (D 260, D280) | B24: 1239 | C24: 2016 | F24: =A24 -> Фартук (D 260, D280) | G24: =IFERROR(IF('Установка скидки'!$M$1=FALSE,B24*(1-$G$1)/'Всп лист'!$B$2,ROUNDUP(B24*(1-$G$1)/'Всп лист'!$C$3*'Всп лист'!$B$3*'Всп лист'!$B$4,0)),"-" ) -> 1239 | H24: =IFERROR(IF('Установка скидки'!$M$1=FALSE,C24*(1-$G$1)/'Всп лист'!$B$2,ROUNDUP(C24*(1-$G$1)/'Всп лист'!$C$3*'Всп лист'!$B$3*'Всп лист'!$B$4,0)),"-" ) -> 2016
F26: УПШ, 3-контурный ТермоВент (AISI 304 Черный)
A28: Наименование/ Диаметр | B28: 115/150/210 (260) | F28: Наименование/ Диаметр | G28: 115/150/210 (260)
A29: УПШ ТермоВент L1000 304-0,8/430 Чёрный (t < 600°С) | B29: 18022 | F29: УПШ ТермоВент L1000 304-0,8/430 Чёрный (t < 600°С) | G29: =IFERROR(IF('Установка скидки'!$M$1=FALSE,B29*(1-$G$1)/'Всп лист'!$B$2,ROUNDUP(B29*(1-$G$1)/'Всп лист'!$C$3*'Всп лист'!$B$3*'Всп лист'!$B$4,0)),"-" ) -> 18022
A30: УПШ-Б ТермоВент L1000 304-0,8/430 Чёрный (t < 600°С) | B30: 18113 | F30: УПШ-Б ТермоВент L1000 304-0,8/430 Чёрный (t < 600°С) | G30: =IFERROR(IF('Установка скидки'!$M$1=FALSE,B30*(1-$G$1)/'Всп лист'!$B$2,ROUNDUP(B30*(1-$G$1)/'Всп лист'!$C$3*'Всп лист'!$B$3*'Всп лист'!$B$4,0)),"-" ) -> 18113
A31: Труба ТермоВент L1000 304-0,8/430 Чёрный (t < 200°С) | B31: 10365 | F31: Труба ТермоВент L1000 304-0,8/430 Чёрный (t < 200°С) | G31: =IFERROR(IF('Установка скидки'!$M$1=FALSE,B31*(1-$G$1)/'Всп лист'!$B$2,ROUNDUP(B31*(1-$G$1)/'Всп лист'!$C$3*'Всп лист'!$B$3*'Всп лист'!$B$4,0)),"-" ) -> 10365
A32: Труба ТермоВент L500 304-0,8/430 Чёрный (t < 200°С) | B32: 5672 | F32: Труба ТермоВент L500 304-0,8/430 Чёрный (t < 200°С) | G32: =IFERROR(IF('Установка скидки'!$M$1=FALSE,B32*(1-$G$1)/'Всп лист'!$B$2,ROUNDUP(B32*(1-$G$1)/'Всп лист'!$C$3*'Всп лист'!$B$3*'Всп лист'!$B$4,0)),"-" ) -> 5672
A33: Оголовок ТермоВент 304-0,5/430 Чёрный (t < 600°С) | B33: 9249 | F33: Оголовок ТермоВент 304-0,5/430 Чёрный (t < 600°С) | G33: =IFERROR(IF('Установка скидки'!$M$1=FALSE,B33*(1-$G$1)/'Всп лист'!$B$2,ROUNDUP(B33*(1-$G$1)/'Всп лист'!$C$3*'Всп лист'!$B$3*'Всп лист'!$B$4,0)),"-" ) -> 9249
A34: Отвод 45* ТермоВент 304-0,8/430 Чёрный (t < 200°С) | B34: 6133 | F34: Отвод 45* ТермоВент 304-0,8/430 Чёрный (t < 200°С) | G34: =IFERROR(IF('Установка скидки'!$M$1=FALSE,B34*(1-$G$1)/'Всп лист'!$B$2,ROUNDUP(B34*(1-$G$1)/'Всп лист'!$C$3*'Всп лист'!$B$3*'Всп лист'!$B$4,0)),"-" ) -> 6133
A35: Проход перекрытия универсальный утепленный ППУ-У 590х590 (D 220-260) Чёрный (t < 200°С) | B35: 5884 | F35: Проход перекрытия универсальный утепленный ППУ-У 590х590 (D 220-260) Чёрный (t < 200°С) | G35: =IFERROR(IF('Установка скидки'!$M$1=FALSE,B35*(1-$G$1)/'Всп лист'!$B$2,ROUNDUP(B35*(1-$G$1)/'Всп лист'!$C$3*'Всп лист'!$B$3*'Всп лист'!$B$4,0)),"-" ) -> 5884
A36: Хомут трубный на болте-ФР (430) (D 210, D240) Чёрный (t < 200°С) | B36: 491 | F36: Хомут трубный на болте-ФР (430) (D 210, D240) Чёрный (t < 200°С) | G36: =IFERROR(IF('Установка скидки'!$M$1=FALSE,B36*(1-$G$1)/'Всп лист'!$B$2,ROUNDUP(B36*(1-$G$1)/'Всп лист'!$C$3*'Всп лист'!$B$3*'Всп лист'!$B$4,0)),"-" ) -> 491
A37: Фартук (D 260, D280) Чёрный (t < 200°С) | B37: 1726 | F37: Фартук (D 260, D280) Чёрный (t < 200°С) | G37: =IFERROR(IF('Установка скидки'!$M$1=FALSE,B37*(1-$G$1)/'Всп лист'!$B$2,ROUNDUP(B37*(1-$G$1)/'Всп лист'!$C$3*'Всп лист'!$B$3*'Всп лист'!$B$4,0)),"-" ) -> 1726
F39: УПШ, 3-контурный ТермоВент (AISI 430 распродажа, выбирать только при наличии на складе)
A41: Наименование/ Диаметр | B41: 115/150/210 (260) | C41: 130/180/240 (280) | F41: Наименование/ Диаметр | G41: 115/150/210 (260) | H41: 130/180/240 (280)
A42: УПШ ТермоВент L1000 430-0,8/430 | B42: 14950 | C42: 16675 | F42: УПШ ТермоВент L1000 430-0,8/430 | G42: =IFERROR(IF('Установка скидки'!$M$1=FALSE,B42*(1-$G$1)/'Всп лист'!$B$2,ROUNDUP(B42*(1-$G$1)/'Всп лист'!$C$3*'Всп лист'!$B$3*'Всп лист'!$B$4,0)),"-" ) -> 14950 | H42: =IFERROR(IF('Установка скидки'!$M$1=FALSE,C42*(1-$G$1)/'Всп лист'!$B$2,ROUNDUP(C42*(1-$G$1)/'Всп лист'!$C$3*'Всп лист'!$B$3*'Всп лист'!$B$4,0)),"-" ) -> 16675
A43: УПШ ТермоВент L1000 430-0,8/430 Чёрный (t < 600°С) | B43: 16067 | C43: - | F43: УПШ ТермоВент L1000 430-0,8/430 Чёрный (t < 600°С) | G43: =IFERROR(IF('Установка скидки'!$M$1=FALSE,B43*(1-$G$1)/'Всп лист'!$B$2,ROUNDUP(B43*(1-$G$1)/'Всп лист'!$C$3*'Всп лист'!$B$3*'Всп лист'!$B$4,0)),"-" ) -> 16067 | H43: =IFERROR(IF('Установка скидки'!$M$1=FALSE,C43*(1-$G$1)/'Всп лист'!$B$2,ROUNDUP(C43*(1-$G$1)/'Всп лист'!$C$3*'Всп лист'!$B$3*'Всп лист'!$B$4,0)),"-" ) -> -
A44: УПШ-Б ТермоВент L1000 430-0,8/430 | B44: 14375 | C44: 17135 | F44: УПШ-Б ТермоВент L1000 430-0,8/430 | G44: =IFERROR(IF('Установка скидки'!$M$1=FALSE,B44*(1-$G$1)/'Всп лист'!$B$2,ROUNDUP(B44*(1-$G$1)/'Всп лист'!$C$3*'Всп лист'!$B$3*'Всп лист'!$B$4,0)),"-" ) -> 14375 | H44: =IFERROR(IF('Установка скидки'!$M$1=FALSE,C44*(1-$G$1)/'Всп лист'!$B$2,ROUNDUP(C44*(1-$G$1)/'Всп лист'!$C$3*'Всп лист'!$B$3*'Всп лист'!$B$4,0)),"-" ) -> 17135
A45: Труба ТермоВент L1000 430-0,8/430 | B45: 6799 | C45: 8994 | F45: Труба ТермоВент L1000 430-0,8/430 | G45: =IFERROR(IF('Установка скидки'!$M$1=FALSE,B45*(1-$G$1)/'Всп лист'!$B$2,ROUNDUP(B45*(1-$G$1)/'Всп лист'!$C$3*'Всп лист'!$B$3*'Всп лист'!$B$4,0)),"-" ) -> 6799 | H45: =IFERROR(IF('Установка скидки'!$M$1=FALSE,C45*(1-$G$1)/'Всп лист'!$B$2,ROUNDUP(C45*(1-$G$1)/'Всп лист'!$C$3*'Всп лист'!$B$3*'Всп лист'!$B$4,0)),"-" ) -> 8994
A46: Труба ТермоВент L500 430-0,8/430 | B46: 3919 | C46: 5095 | F46: Труба ТермоВент L500 430-0,8/430 | G46: =IFERROR(IF('Установка скидки'!$M$1=FALSE,B46*(1-$G$1)/'Всп лист'!$B$2,ROUNDUP(B46*(1-$G$1)/'Всп лист'!$C$3*'Всп лист'!$B$3*'Всп лист'!$B$4,0)),"-" ) -> 3919 | H46: =IFERROR(IF('Установка скидки'!$M$1=FALSE,C46*(1-$G$1)/'Всп лист'!$B$2,ROUNDUP(C46*(1-$G$1)/'Всп лист'!$C$3*'Всп лист'!$B$3*'Всп лист'!$B$4,0)),"-" ) -> 5095
A47: Оголовок ТермоВент 430-0,5/430 | B47: 7102 | C47: 8121 | F47: Оголовок ТермоВент 430-0,5/430 | G47: =IFERROR(IF('Установка скидки'!$M$1=FALSE,B47*(1-$G$1)/'Всп лист'!$B$2,ROUNDUP(B47*(1-$G$1)/'Всп лист'!$C$3*'Всп лист'!$B$3*'Всп лист'!$B$4,0)),"-" ) -> 7102 | H47: =IFERROR(IF('Установка скидки'!$M$1=FALSE,C47*(1-$G$1)/'Всп лист'!$B$2,ROUNDUP(C47*(1-$G$1)/'Всп лист'!$C$3*'Всп лист'!$B$3*'Всп лист'!$B$4,0)),"-" ) -> 8121
A48: Отвод 45* ТермоВент 430-0,8/430 | B48: 5071 | C48: 5810 | F48: Отвод 45* ТермоВент 430-0,8/430 | G48: =IFERROR(IF('Установка скидки'!$M$1=FALSE,B48*(1-$G$1)/'Всп лист'!$B$2,ROUNDUP(B48*(1-$G$1)/'Всп лист'!$C$3*'Всп лист'!$B$3*'Всп лист'!$B$4,0)),"-" ) -> 5071 | H48: =IFERROR(IF('Установка скидки'!$M$1=FALSE,C48*(1-$G$1)/'Всп лист'!$B$2,ROUNDUP(C48*(1-$G$1)/'Всп лист'!$C$3*'Всп лист'!$B$3*'Всп лист'!$B$4,0)),"-" ) -> 5810
F54: Изделия, выделенные жирным шрифтом, входят в складскую программу
F55: Повышенная корозионостойкость сварного шва обеспечена TIG сваркой в среде аргона, без доступа кислорода.
F56: Продукция сертифицирована
F57: ТУ № 5263-001-80115295-2011
F58: Ваши предложения и нарекания на качество продукции и обслуживания просьба отправлять на эл.почту pk@teplov.ru
F60: Выделенные цветом изделия являются распродажными(выбирать только при наличии на складе)

Sheet Комплектующие и хомуты
AB1: Размер скидки | AC1: ='Установка скидки'!$G$11 -> 0 | AU1: =IF('Установка скидки'!$M$1=FALSE,'Всп лист'!$A$7,'Всп лист'!$A$8) -> Цены указаны в руб. с НДС
A6: Наименование / Диаметр | B6: 80 | C6: 100 | D6: 110 | E6: 115 | F6: 120 | G6: 125 | H6: 130 | I6: 135 | J6: 140 | K6: 150 | L6: 160 | M6: 180 | N6: 190 | O6: 200 | P6: 210 | Q6: 220 | R6: 230 | S6: 240 | T6: 250 | U6: 260 | V6: 280 | W6: 300 | X6: 310 | Y6: 350 | AB6: Наименование / Диаметр | AC6: 80 | AD6: 100 | AE6: 110 | AF6: 115 | AG6: 120 | AH6: 125 | AI6: 130 | AJ6: 135 | AK6: 140 | AL6: 150 | AM6: 160 | AN6: 180 | AO6: 190 | AP6: 200 | AQ6: 210 | AR6: 220 | AS6: 230 | AT6: 240 | AU6: 250 | AV6: 260 | AW6: 280 | AX6: 300 | AY6: 310 | AZ6: 350
A7: Проход перекрытия универсальный ППУ - Р 480х480 | B7: 2441 | G7: - | H7: 2441 | L7: - | M7: 2441 | Q7: 2441 | V7: 2441 | Y7: - | AB7: =A7 -> Проход перекрытия универсальный ППУ - Р 480х480 | AC7: =IFERROR(IF('Установка скидки'!$M$1=FALSE,B7*(1-$AC$1)/'Всп лист'!$B$2,ROUNDUP(B7*(1-$AC$1)/'Всп лист'!$C$3*'Всп лист'!$B$3*'Всп лист'!$B$4,0)),"-" ) -> 2441 | AH7: =IFERROR(IF('Установка скидки'!$M$1=FALSE,G7*(1-$AC$1)/'Всп лист'!$B$2,ROUNDUP(G7*(1-$AC$1)/'Всп лист'!$C$3*'Всп лист'!$B$3*'Всп лист'!$B$4,0)),"-" ) -> - | AI7: =IFERROR(IF('Установка скидки'!$M$1=FALSE,H7*(1-$AC$1)/'Всп лист'!$B$2,ROUNDUP(H7*(1-$AC$1)/'Всп лист'!$C$3*'Всп лист'!$B$3*'Всп лист'!$B$4,0)),"-" ) -> 2441 | AM7: =IFERROR(IF('Установка скидки'!$M$1=FALSE,L7*(1-$AC$1)/'Всп лист'!$B$2,ROUNDUP(L7*(1-$AC$1)/'Всп лист'!$C$3*'Всп лист'!$B$3*'Всп лист'!$B$4,0)),"-" ) -> - | AN7: =IFERROR(IF('Установка скидки'!$M$1=FALSE,M7*(1-$AC$1)/'Всп лист'!$B$2,ROUNDUP(M7*(1-$AC$1)/'Всп лист'!$C$3*'Всп лист'!$B$3*'Всп лист'!$B$4,0)),"-" ) -> 2441 | AR7: =IFERROR(IF('Установка скидки'!$M$1=FALSE,Q7*(1-$AC$1)/'Всп лист'!$B$2,ROUNDUP(Q7*(1-$AC$1)/'Всп лист'!$C$3*'Всп лист'!$B$3*'Всп лист'!$B$4,0)),"-" ) -> 2441 | AW7: =IFERROR(IF('Установка скидки'!$M$1=FALSE,V7*(1-$AC$1)/'Всп лист'!$B$2,ROUNDUP(V7*(1-$AC$1)/'Всп лист'!$C$3*'Всп лист'!$B$3*'Всп лист'!$B$4,0)),"-" ) -> 2441 | AZ7: =IFERROR(IF('Установка скидки'!$M$1=FALSE,Y7*(1-$AC$1)/'Всп лист'!$B$2,ROUNDUP(Y7*(1-$AC$1)/'Всп лист'!$C$3*'Всп лист'!$B$3*'Всп лист'!$B$4,0)),"-" ) -> -
A8: Проход перекрытия универсальный ППУ - Р 480х480 | B8: - | C8: - | D8: - | E8: - | F8: - | G8: - | H8: - | I8: - | J8: - | K8: 2441 | N8: - | O8: - | P8: - | Q8: - | R8: - | S8: - | T8: - | U8: - | V8: - | W8: - | X8: - | Y8: - | AB8: =A8 -> Проход перекрытия универсальный ППУ - Р 480х480 | AC8: =IFERROR(IF('Установка скидки'!$M$1=FALSE,B8*(1-$AC$1)/'Всп лист'!$B$2,ROUNDUP(B8*(1-$AC$1)/'Всп лист'!$C$3*'Всп лист'!$B$3*'Всп лист'!$B$4,0)),"-" ) -> - | AD8: =IFERROR(IF('Установка скидки'!$M$1=FALSE,C8*(1-$AC$1)/'Всп лист'!$B$2,ROUNDUP(C8*(1-$AC$1)/'Всп лист'!$C$3*'Всп лист'!$B$3*'Всп лист'!$B$4,0)),"-" ) -> - | AE8: =IFERROR(IF('Установка скидки'!$M$1=FALSE,D8*(1-$AC$1)/'Всп лист'!$B$2,ROUNDUP(D8*(1-$AC$1)/'Всп лист'!$C$3*'Всп лист'!$B$3*'Всп лист'!$B$4,0)),"-" ) -> - | AF8: =IFERROR(IF('Установка скидки'!$M$1=FALSE,E8*(1-$AC$1)/'Всп лист'!$B$2,ROUNDUP(E8*(1-$AC$1)/'Всп лист'!$C$3*'Всп лист'!$B$3*'Всп лист'!$B$4,0)),"-" ) -> - | AG8: =IFERROR(IF('Установка скидки'!$M$1=FALSE,F8*(1-$AC$1)/'Всп лист'!$B$2,ROUNDUP(F8*(1-$AC$1)/'Всп лист'!$C$3*'Всп лист'!$B$3*'Всп лист'!$B$4,0)),"-" ) -> - | AH8: =IFERROR(IF('Установка скидки'!$M$1=FALSE,G8*(1-$AC$1)/'Всп лист'!$B$2,ROUNDUP(G8*(1-$AC$1)/'Всп лист'!$C$3*'Всп лист'!$B$3*'Всп лист'!$B$4,0)),"-" ) -> - | AI8: =IFERROR(IF('Установка скидки'!$M$1=FALSE,H8*(1-$AC$1)/'Всп лист'!$B$2,ROUNDUP(H8*(1-$AC$1)/'Всп лист'!$C$3*'Всп лист'!$B$3*'Всп лист'!$B$4,0)),"-" ) -> - | AJ8: =IFERROR(IF('Установка скидки'!$M$1=FALSE,I8*(1-$AC$1)/'Всп лист'!$B$2,ROUNDUP(I8*(1-$AC$1)/'Всп лист'!$C$3*'Всп лист'!$B$3*'Всп лист'!$B$4,0)),"-" ) -> - | ... AZ8: =IFERROR(IF('Установка скидки'!$M$1=FALSE,Y8*(1-$AC$1)/'Всп лист'!$B$2,ROUNDUP(Y8*(1-$AC$1)/'Всп лист'!$C$3*'Всп лист'!$B$3*'Всп лист'!$B$4,0)),"-" ) -> -
A9: Проход перекрытия универсальный утепленный ППУ-У (500*500, 590*590) | B9: - | C9: - | D9: - | E9: - | F9: - | G9: - | H9: - | I9: - | J9: 4224 | M9: 4904 | Q9: 4903 | V9: 5201 | Y9: 5201 | AB9: =A9 -> Проход перекрытия универсальный утепленный ППУ-У (500*500, 590*590) | AC9: =IFERROR(IF('Установка скидки'!$M$1=FALSE,B9*(1-$AC$1)/'Всп лист'!$B$2,ROUNDUP(B9*(1-$AC$1)/'Всп лист'!$C$3*'Всп лист'!$B$3*'Всп лист'!$B$4,0)),"-" ) -> - | AD9: =IFERROR(IF('Установка скидки'!$M$1=FALSE,C9*(1-$AC$1)/'Всп лист'!$B$2,ROUNDUP(C9*(1-$AC$1)/'Всп лист'!$C$3*'Всп лист'!$B$3*'Всп лист'!$B$4,0)),"-" ) -> - | AE9: =IFERROR(IF('Установка скидки'!$M$1=FALSE,D9*(1-$AC$1)/'Всп лист'!$B$2,ROUNDUP(D9*(1-$AC$1)/'Всп лист'!$C$3*'Всп лист'!$B$3*'Всп лист'!$B$4,0)),"-" ) -> - | AF9: =IFERROR(IF('Установка скидки'!$M$1=FALSE,E9*(1-$AC$1)/'Всп лист'!$B$2,ROUNDUP(E9*(1-$AC$1)/'Всп лист'!$C$3*'Всп лист'!$B$3*'Всп лист'!$B$4,0)),"-" ) -> - | AG9: =IFERROR(IF('Установка скидки'!$M$1=FALSE,F9*(1-$AC$1)/'Всп лист'!$B$2,ROUNDUP(F9*(1-$AC$1)/'Всп лист'!$C$3*'Всп лист'!$B$3*'Всп лист'!$B$4,0)),"-" ) -> - | AH9: =IFERROR(IF('Установка скидки'!$M$1=FALSE,G9*(1-$AC$1)/'Всп лист'!$B$2,ROUNDUP(G9*(1-$AC$1)/'Всп лист'!$C$3*'Всп лист'!$B$3*'Всп лист'!$B$4,0)),"-" ) -> - | AI9: =IFERROR(IF('Установка скидки'!$M$1=FALSE,H9*(1-$AC$1)/'Всп лист'!$B$2,ROUNDUP(H9*(1-$AC$1)/'Всп лист'!$C$3*'Всп лист'!$B$3*'Всп лист'!$B$4,0)),"-" ) -> - | AJ9: =IFERROR(IF('Установка скидки'!$M$1=FALSE,I9*(1-$AC$1)/'Всп лист'!$B$2,ROUNDUP(I9*(1-$AC$1)/'Всп лист'!$C$3*'Всп лист'!$B$3*'Всп лист'!$B$4,0)),"-" ) -> - | AK9: =IFERROR(IF('Установка скидки'!$M$1=FALSE,J9*(1-$AC$1)/'Всп лист'!$B$2,ROUNDUP(J9*(1-$AC$1)/'Всп лист'!$C$3*'Всп лист'!$B$3*'Всп лист'!$B$4,0)),"-" ) -> 4224 | AL9: =IFERROR(K9*(1-$AC$1),"-") -> 0 | AM9: =IFERROR(L9*(1-$AC$1),"-") -> 0 | AN9: =IFERROR(IF('Установка скидки'!$M$1=FALSE,M9*(1-$AC$1)/'Всп лист'!$B$2,ROUNDUP(M9*(1-$AC$1)/'Всп лист'!$C$3*'Всп лист'!$B$3*'Всп лист'!$B$4,0)),"-" ) -> 4904 | AR9: =IFERROR(IF('Установка скидки'!$M$1=FALSE,Q9*(1-$AC$1)/'Всп лист'!$B$2,ROUNDUP(Q9*(1-$AC$1)/'Всп лист'!$C$3*'Всп лист'!$B$3*'Всп лист'!$B$4,0)),"-" ) -> 4903 | AW9: =IFERROR(IF('Установка скидки'!$M$1=FALSE,V9*(1-$AC$1)/'Всп лист'!$B$2,ROUNDUP(V9*(1-$AC$1)/'Всп лист'!$C$3*'Всп лист'!$B$3*'Всп лист'!$B$4,0)),"-" ) -> 5201 | AZ9: =IFERROR(IF('Установка скидки'!$M$1=FALSE,Y9*(1-$AC$1)/'Всп лист'!$B$2,ROUNDUP(Y9*(1-$AC$1)/'Всп лист'!$C$3*'Всп лист'!$B$3*'Всп лист'!$B$4,0)),"-" ) -> 5201
A10: Комплект теплоизоляционный 80х400 для ППУ - Р 500х500 | B10: 597 | AB10: =A10 -> Комплект теплоизоляционный 80х400 для ППУ - Р 500х500 | AC10: =IFERROR(IF('Установка скидки'!$M$1=FALSE,B10*(1-$AC$1)/'Всп лист'!$B$2,ROUNDUP(B10*(1-$AC$1)/'Всп лист'!$C$3*'Всп лист'!$B$3*'Всп лист'!$B$4,0)),"-" ) -> 597
A11: Проход кровли универсальный 30-45 гр. | B11: 3752 | G11: - | H11: 4481 | L11: - | M11: 5227 | Q11: 7262 | U11: 7205 | X11: - | Y11: - | AB11: =A11 -> Проход кровли универсальный 30-45 гр. | AC11: =IFERROR(IF('Установка скидки'!$M$1=FALSE,B11*(1-$AC$1)/'Всп лист'!$B$2,ROUNDUP(B11*(1-$AC$1)/'Всп лист'!$C$3*'Всп лист'!$B$3*'Всп лист'!$B$4,0)),"-" ) -> 3752 | AH11: =IFERROR(IF('Установка скидки'!$M$1=FALSE,G11*(1-$AC$1)/'Всп лист'!$B$2,ROUNDUP(G11*(1-$AC$1)/'Всп лист'!$C$3*'Всп лист'!$B$3*'Всп лист'!$B$4,0)),"-" ) -> - | AI11: =IFERROR(IF('Установка скидки'!$M$1=FALSE,H11*(1-$AC$1)/'Всп лист'!$B$2,ROUNDUP(H11*(1-$AC$1)/'Всп лист'!$C$3*'Всп лист'!$B$3*'Всп лист'!$B$4,0)),"-" ) -> 4481 | AM11: =IFERROR(IF('Установка скидки'!$M$1=FALSE,L11*(1-$AC$1)/'Всп лист'!$B$2,ROUNDUP(L11*(1-$AC$1)/'Всп лист'!$C$3*'Всп лист'!$B$3*'Всп лист'!$B$4,0)),"-" ) -> - | AN11: =IFERROR(IF('Установка скидки'!$M$1=FALSE,M11*(1-$AC$1)/'Всп лист'!$B$2,ROUNDUP(M11*(1-$AC$1)/'Всп лист'!$C$3*'Всп лист'!$B$3*'Всп лист'!$B$4,0)),"-" ) -> 5227 | AR11: =IFERROR(IF('Установка скидки'!$M$1=FALSE,Q11*(1-$AC$1)/'Всп лист'!$B$2,ROUNDUP(Q11*(1-$AC$1)/'Всп лист'!$C$3*'Всп лист'!$B$3*'Всп лист'!$B$4,0)),"-" ) -> 7262 | AV11: =IFERROR(IF('Установка скидки'!$M$1=FALSE,U11*(1-$AC$1)/'Всп лист'!$B$2,ROUNDUP(U11*(1-$AC$1)/'Всп лист'!$C$3*'Всп лист'!$B$3*'Всп лист'!$B$4,0)),"-" ) -> 7205 | AY11: =IFERROR(IF('Установка скидки'!$M$1=FALSE,X11*(1-$AC$1)/'Всп лист'!$B$2,ROUNDUP(X11*(1-$AC$1)/'Всп лист'!$C$3*'Всп лист'!$B$3*'Всп лист'!$B$4,0)),"-" ) -> - | AZ11: =IFERROR(IF('Установка скидки'!$M$1=FALSE,Y11*(1-$AC$1)/'Всп лист'!$B$2,ROUNDUP(Y11*(1-$AC$1)/'Всп лист'!$C$3*'Всп лист'!$B$3*'Всп лист'!$B$4,0)),"-" ) -> -
A12: Проход кровли универсальный 0-15 гр. | B12: - | G12: - | H12: - | L12: - | M12: 4656 | Q12: - | U12: 6482 | X12: - | Y12: - | AB12: =A12 -> Проход кровли универсальный 0-15 гр. | AC12: =IFERROR(IF('Установка скидки'!$M$1=FALSE,B12*(1-$AC$1)/'Всп лист'!$B$2,ROUNDUP(B12*(1-$AC$1)/'Всп лист'!$C$3*'Всп лист'!$B$3*'Всп лист'!$B$4,0)),"-" ) -> - | AH12: =IFERROR(IF('Установка скидки'!$M$1=FALSE,G12*(1-$AC$1)/'Всп лист'!$B$2,ROUNDUP(G12*(1-$AC$1)/'Всп лист'!$C$3*'Всп лист'!$B$3*'Всп лист'!$B$4,0)),"-" ) -> - | AI12: =IFERROR(IF('Установка скидки'!$M$1=FALSE,H12*(1-$AC$1)/'Всп лист'!$B$2,ROUNDUP(H12*(1-$AC$1)/'Всп лист'!$C$3*'Всп лист'!$B$3*'Всп лист'!$B$4,0)),"-" ) -> - | AM12: =IFERROR(IF('Установка скидки'!$M$1=FALSE,L12*(1-$AC$1)/'Всп лист'!$B$2,ROUNDUP(L12*(1-$AC$1)/'Всп лист'!$C$3*'Всп лист'!$B$3*'Всп лист'!$B$4,0)),"-" ) -> - | AN12: =IFERROR(IF('Установка скидки'!$M$1=FALSE,M12*(1-$AC$1)/'Всп лист'!$B$2,ROUNDUP(M12*(1-$AC$1)/'Всп лист'!$C$3*'Всп лист'!$B$3*'Всп лист'!$B$4,0)),"-" ) -> 4656 | AR12: =IFERROR(IF('Установка скидки'!$M$1=FALSE,Q12*(1-$AC$1)/'Всп лист'!$B$2,ROUNDUP(Q12*(1-$AC$1)/'Всп лист'!$C$3*'Всп лист'!$B$3*'Всп лист'!$B$4,0)),"-" ) -> - | AV12: =IFERROR(IF('Установка скидки'!$M$1=FALSE,U12*(1-$AC$1)/'Всп лист'!$B$2,ROUNDUP(U12*(1-$AC$1)/'Всп лист'!$C$3*'Всп лист'!$B$3*'Всп лист'!$B$4,0)),"-" ) -> 6482 | AY12: =IFERROR(IF('Установка скидки'!$M$1=FALSE,X12*(1-$AC$1)/'Всп лист'!$B$2,ROUNDUP(X12*(1-$AC$1)/'Всп лист'!$C$3*'Всп лист'!$B$3*'Всп лист'!$B$4,0)),"-" ) -> - | AZ12: =IFERROR(IF('Установка скидки'!$M$1=FALSE,Y12*(1-$AC$1)/'Всп лист'!$B$2,ROUNDUP(Y12*(1-$AC$1)/'Всп лист'!$C$3*'Всп лист'!$B$3*'Всп лист'!$B$4,0)),"-" ) -> -
A13: Опора монтажная универсальная | B13: 4331 | G13: - | H13: 4776 | L13: - | M13: 5511 | P13: - | Q13: - | R13: - | S13: - | T13: 6628 | X13: - | Y13: - | AB13: =A13 -> Опора монтажная универсальная | AC13: =IFERROR(IF('Установка скидки'!$M$1=FALSE,B13*(1-$AC$1)/'Всп лист'!$B$2,ROUNDUP(B13*(1-$AC$1)/'Всп лист'!$C$3*'Всп лист'!$B$3*'Всп лист'!$B$4,0)),"-" ) -> 4331 | AH13: =IFERROR(IF('Установка скидки'!$M$1=FALSE,G13*(1-$AC$1)/'Всп лист'!$B$2,ROUNDUP(G13*(1-$AC$1)/'Всп лист'!$C$3*'Всп лист'!$B$3*'Всп лист'!$B$4,0)),"-" ) -> - | AI13: =IFERROR(IF('Установка скидки'!$M$1=FALSE,H13*(1-$AC$1)/'Всп лист'!$B$2,ROUNDUP(H13*(1-$AC$1)/'Всп лист'!$C$3*'Всп лист'!$B$3*'Всп лист'!$B$4,0)),"-" ) -> 4776 | AM13: =IFERROR(IF('Установка скидки'!$M$1=FALSE,L13*(1-$AC$1)/'Всп лист'!$B$2,ROUNDUP(L13*(1-$AC$1)/'Всп лист'!$C$3*'Всп лист'!$B$3*'Всп лист'!$B$4,0)),"-" ) -> - | AN13: =IFERROR(IF('Установка скидки'!$M$1=FALSE,M13*(1-$AC$1)/'Всп лист'!$B$2,ROUNDUP(M13*(1-$AC$1)/'Всп лист'!$C$3*'Всп лист'!$B$3*'Всп лист'!$B$4,0)),"-" ) -> 5511 | AQ13: =IFERROR(IF('Установка скидки'!$M$1=FALSE,P13*(1-$AC$1)/'Всп лист'!$B$2,ROUNDUP(P13*(1-$AC$1)/'Всп лист'!$C$3*'Всп лист'!$B$3*'Всп лист'!$B$4,0)),"-" ) -> - | AR13: =IFERROR(IF('Установка скидки'!$M$1=FALSE,Q13*(1-$AC$1)/'Всп лист'!$B$2,ROUNDUP(Q13*(1-$AC$1)/'Всп лист'!$C$3*'Всп лист'!$B$3*'Всп лист'!$B$4,0)),"-" ) -> - | AS13: =IFERROR(IF('Установка скидки'!$M$1=FALSE,R13*(1-$AC$1)/'Всп лист'!$B$2,ROUNDUP(R13*(1-$AC$1)/'Всп лист'!$C$3*'Всп лист'!$B$3*'Всп лист'!$B$4,0)),"-" ) -> - | AT13: =IFERROR(IF('Установка скидки'!$M$1=FALSE,S13*(1-$AC$1)/'Всп лист'!$B$2,ROUNDUP(S13*(1-$AC$1)/'Всп лист'!$C$3*'Всп лист'!$B$3*'Всп лист'!$B$4,0)),"-" ) -> - | AU13: =IFERROR(IF('Установка скидки'!$M$1=FALSE,T13*(1-$AC$1)/'Всп лист'!$B$2,ROUNDUP(T13*(1-$AC$1)/'Всп лист'!$C$3*'Всп лист'!$B$3*'Всп лист'!$B$4,0)),"-" ) -> 6628 | AY13: =IFERROR(IF('Установка скидки'!$M$1=FALSE,X13*(1-$AC$1)/'Всп лист'!$B$2,ROUNDUP(X13*(1-$AC$1)/'Всп лист'!$C$3*'Всп лист'!$B$3*'Всп лист'!$B$4,0)),"-" ) -> - | AZ13: =IFERROR(IF('Установка скидки'!$M$1=FALSE,Y13*(1-$AC$1)/'Всп лист'!$B$2,ROUNDUP(Y13*(1-$AC$1)/'Всп лист'!$C$3*'Всп лист'!$B$3*'Всп лист'!$B$4,0)),"-" ) -> -
A14: Уплотнительное кольцо силиконовое | B14: 204 | C14: 239 | D14: 266 | E14: --- | F14: 289 | G14: --- | H14: 315 | I14: --- | J14: --- | K14: 611 | L14: --- | M14: 656 | N14: - | O14: 687 | P14: - | Q14: - | R14: - | S14: - | T14: 1220 | U14: - | V14: - | W14: - | X14: - | Y14: - | AB14: =A14 -> Уплотнительное кольцо силиконовое | AC14: =IFERROR(IF('Установка скидки'!$M$1=FALSE,B14*(1-$AC$1)/'Всп лист'!$B$2,ROUNDUP(B14*(1-$AC$1)/'Всп лист'!$C$3*'Всп лист'!$B$3*'Всп лист'!$B$4,0)),"-" ) -> 204 | AD14: =IFERROR(IF('Установка скидки'!$M$1=FALSE,C14*(1-$AC$1)/'Всп лист'!$B$2,ROUNDUP(C14*(1-$AC$1)/'Всп лист'!$C$3*'Всп лист'!$B$3*'Всп лист'!$B$4,0)),"-" ) -> 239 | AE14: =IFERROR(IF('Установка скидки'!$M$1=FALSE,D14*(1-$AC$1)/'Всп лист'!$B$2,ROUNDUP(D14*(1-$AC$1)/'Всп лист'!$C$3*'Всп лист'!$B$3*'Всп лист'!$B$4,0)),"-" ) -> 266 | AF14: =IFERROR(IF('Установка скидки'!$M$1=FALSE,E14*(1-$AC$1)/'Всп лист'!$B$2,ROUNDUP(E14*(1-$AC$1)/'Всп лист'!$C$3*'Всп лист'!$B$3*'Всп лист'!$B$4,0)),"-" ) -> - | AG14: =IFERROR(IF('Установка скидки'!$M$1=FALSE,F14*(1-$AC$1)/'Всп лист'!$B$2,ROUNDUP(F14*(1-$AC$1)/'Всп лист'!$C$3*'Всп лист'!$B$3*'Всп лист'!$B$4,0)),"-" ) -> 289 | AH14: =IFERROR(IF('Установка скидки'!$M$1=FALSE,G14*(1-$AC$1)/'Всп лист'!$B$2,ROUNDUP(G14*(1-$AC$1)/'Всп лист'!$C$3*'Всп лист'!$B$3*'Всп лист'!$B$4,0)),"-" ) -> - | AI14: =IFERROR(IF('Установка скидки'!$M$1=FALSE,H14*(1-$AC$1)/'Всп лист'!$B$2,ROUNDUP(H14*(1-$AC$1)/'Всп лист'!$C$3*'Всп лист'!$B$3*'Всп лист'!$B$4,0)),"-" ) -> 315 | AJ14: =IFERROR(IF('Установка скидки'!$M$1=FALSE,I14*(1-$AC$1)/'Всп лист'!$B$2,ROUNDUP(I14*(1-$AC$1)/'Всп лист'!$C$3*'Всп лист'!$B$3*'Всп лист'!$B$4,0)),"-" ) -> - | ... AZ14: =IFERROR(IF('Установка скидки'!$M$1=FALSE,Y14*(1-$AC$1)/'Всп лист'!$B$2,ROUNDUP(Y14*(1-$AC$1)/'Всп лист'!$C$3*'Всп лист'!$B$3*'Всп лист'!$B$4,0)),"-" ) -> -
A15: Хомут растяжки | B15: - | C15: - | D15: - | E15: - | F15: - | G15: - | H15: - | I15: - | J15: - | K15: - | L15: - | M15: - | N15: - | O15: - | P15: 303 | Q15: - | R15: - | S15: - | T15: 324 | U15: - | V15: 356 | W15: 370 | X15: - | Y15: - | AB15: =A15 -> Хомут растяжки | AC15: =IFERROR(IF('Установка скидки'!$M$1=FALSE,B15*(1-$AC$1)/'Всп лист'!$B$2,ROUNDUP(B15*(1-$AC$1)/'Всп лист'!$C$3*'Всп лист'!$B$3*'Всп лист'!$B$4,0)),"-" ) -> - | AD15: =IFERROR(IF('Установка скидки'!$M$1=FALSE,C15*(1-$AC$1)/'Всп лист'!$B$2,ROUNDUP(C15*(1-$AC$1)/'Всп лист'!$C$3*'Всп лист'!$B$3*'Всп лист'!$B$4,0)),"-" ) -> - | AE15: =IFERROR(IF('Установка скидки'!$M$1=FALSE,D15*(1-$AC$1)/'Всп лист'!$B$2,ROUNDUP(D15*(1-$AC$1)/'Всп лист'!$C$3*'Всп лист'!$B$3*'Всп лист'!$B$4,0)),"-" ) -> - | AF15: =IFERROR(IF('Установка скидки'!$M$1=FALSE,E15*(1-$AC$1)/'Всп лист'!$B$2,ROUNDUP(E15*(1-$AC$1)/'Всп лист'!$C$3*'Всп лист'!$B$3*'Всп лист'!$B$4,0)),"-" ) -> - | AG15: =IFERROR(IF('Установка скидки'!$M$1=FALSE,F15*(1-$AC$1)/'Всп лист'!$B$2,ROUNDUP(F15*(1-$AC$1)/'Всп лист'!$C$3*'Всп лист'!$B$3*'Всп лист'!$B$4,0)),"-" ) -> - | AH15: =IFERROR(IF('Установка скидки'!$M$1=FALSE,G15*(1-$AC$1)/'Всп лист'!$B$2,ROUNDUP(G15*(1-$AC$1)/'Всп лист'!$C$3*'Всп лист'!$B$3*'Всп лист'!$B$4,0)),"-" ) -> - | AI15: =IFERROR(IF('Установка скидки'!$M$1=FALSE,H15*(1-$AC$1)/'Всп лист'!$B$2,ROUNDUP(H15*(1-$AC$1)/'Всп лист'!$C$3*'Всп лист'!$B$3*'Всп лист'!$B$4,0)),"-" ) -> - | AJ15: =IFERROR(IF('Установка скидки'!$M$1=FALSE,I15*(1-$AC$1)/'Всп лист'!$B$2,ROUNDUP(I15*(1-$AC$1)/'Всп лист'!$C$3*'Всп лист'!$B$3*'Всп лист'!$B$4,0)),"-" ) -> - | ... AZ15: =IFERROR(IF('Установка скидки'!$M$1=FALSE,Y15*(1-$AC$1)/'Всп лист'!$B$2,ROUNDUP(Y15*(1-$AC$1)/'Всп лист'!$C$3*'Всп лист'!$B$3*'Всп лист'!$B$4,0)),"-" ) -> -
A16: Комплект уголков под растяжку | B16: 300 | AB16: Комплект уголков под растяжку | AC16: =IFERROR(IF('Установка скидки'!$M$1=FALSE,B16*(1-$AC$1)/'Всп лист'!$B$2,ROUNDUP(B16*(1-$AC$1)/'Всп лист'!$C$3*'Всп лист'!$B$3*'Всп лист'!$B$4,0)),"-" ) -> 300
A17: Крепление хомута к штанге регулируемой | B17: 255 | AB17: =A17 -> Крепление хомута к штанге регулируемой | AC17: =IFERROR(IF('Установка скидки'!$M$1=FALSE,B17*(1-$AC$1)/'Всп лист'!$B$2,ROUNDUP(B17*(1-$AC$1)/'Всп лист'!$C$3*'Всп лист'!$B$3*'Всп лист'!$B$4,0)),"-" ) -> 255
A18: Хомут трубный на болте (304) | B18: 403 | C18: 403 | D18: 403 | E18: 403 | F18: 403 | G18: - | H18: 403 | I18: - | J18: 403 | K18: 404 | L18: - | M18: 440 | N18: 444 | O18: 461 | P18: 461 | Q18: 481 | R18: 489 | S18: 493 | T18: 539 | U18: 553 | V18: 580 | W18: 607 | X18: 621 | Y18: 675 | AB18: =A18 -> Хомут трубный на болте (304) | AC18: =IFERROR(IF('Установка скидки'!$M$1=FALSE,B18*(1-$AC$1)/'Всп лист'!$B$2,ROUNDUP(B18*(1-$AC$1)/'Всп лист'!$C$3*'Всп лист'!$B$3*'Всп лист'!$B$4,0)),"-" ) -> 403 | AD18: =IFERROR(IF('Установка скидки'!$M$1=FALSE,C18*(1-$AC$1)/'Всп лист'!$B$2,ROUNDUP(C18*(1-$AC$1)/'Всп лист'!$C$3*'Всп лист'!$B$3*'Всп лист'!$B$4,0)),"-" ) -> 403 | AE18: =IFERROR(IF('Установка скидки'!$M$1=FALSE,D18*(1-$AC$1)/'Всп лист'!$B$2,ROUNDUP(D18*(1-$AC$1)/'Всп лист'!$C$3*'Всп лист'!$B$3*'Всп лист'!$B$4,0)),"-" ) -> 403 | AF18: =IFERROR(IF('Установка скидки'!$M$1=FALSE,E18*(1-$AC$1)/'Всп лист'!$B$2,ROUNDUP(E18*(1-$AC$1)/'Всп лист'!$C$3*'Всп лист'!$B$3*'Всп лист'!$B$4,0)),"-" ) -> 403 | AG18: =IFERROR(IF('Установка скидки'!$M$1=FALSE,F18*(1-$AC$1)/'Всп лист'!$B$2,ROUNDUP(F18*(1-$AC$1)/'Всп лист'!$C$3*'Всп лист'!$B$3*'Всп лист'!$B$4,0)),"-" ) -> 403 | AH18: =IFERROR(IF('Установка скидки'!$M$1=FALSE,G18*(1-$AC$1)/'Всп лист'!$B$2,ROUNDUP(G18*(1-$AC$1)/'Всп лист'!$C$3*'Всп лист'!$B$3*'Всп лист'!$B$4,0)),"-" ) -> - | AI18: =IFERROR(IF('Установка скидки'!$M$1=FALSE,H18*(1-$AC$1)/'Всп лист'!$B$2,ROUNDUP(H18*(1-$AC$1)/'Всп лист'!$C$3*'Всп лист'!$B$3*'Всп лист'!$B$4,0)),"-" ) -> 403 | AJ18: =IFERROR(IF('Установка скидки'!$M$1=FALSE,I18*(1-$AC$1)/'Всп лист'!$B$2,ROUNDUP(I18*(1-$AC$1)/'Всп лист'!$C$3*'Всп лист'!$B$3*'Всп лист'!$B$4,0)),"-" ) -> - | ... AZ18: =IFERROR(IF('Установка скидки'!$M$1=FALSE,Y18*(1-$AC$1)/'Всп лист'!$B$2,ROUNDUP(Y18*(1-$AC$1)/'Всп лист'!$C$3*'Всп лист'!$B$3*'Всп лист'!$B$4,0)),"-" ) -> 675
A19: Хомут трубный на болте-ФР (430) | B19: 194 | C19: 207 | D19: 213 | E19: 216 | F19: 220 | G19: 223 | H19: 226 | I19: 229 | J19: 232 | K19: 239 | L19: 245 | M19: 258 | N19: --- | O19: 268 | P19: 278 | Q19: - | R19: - | S19: 297 | T19: 299 | U19: 305 | V19: 317 | W19: - | X19: 336 | Y19: - | AB19: =A19 -> Хомут трубный на болте-ФР (430) | AC19: =IFERROR(IF('Установка скидки'!$M$1=FALSE,B19*(1-$AC$1)/'Всп лист'!$B$2,ROUNDUP(B19*(1-$AC$1)/'Всп лист'!$C$3*'Всп лист'!$B$3*'Всп лист'!$B$4,0)),"-" ) -> 194 | AD19: =IFERROR(IF('Установка скидки'!$M$1=FALSE,C19*(1-$AC$1)/'Всп лист'!$B$2,ROUNDUP(C19*(1-$AC$1)/'Всп лист'!$C$3*'Всп лист'!$B$3*'Всп лист'!$B$4,0)),"-" ) -> 207 | AE19: =IFERROR(IF('Установка скидки'!$M$1=FALSE,D19*(1-$AC$1)/'Всп лист'!$B$2,ROUNDUP(D19*(1-$AC$1)/'Всп лист'!$C$3*'Всп лист'!$B$3*'Всп лист'!$B$4,0)),"-" ) -> 213 | AF19: =IFERROR(IF('Установка скидки'!$M$1=FALSE,E19*(1-$AC$1)/'Всп лист'!$B$2,ROUNDUP(E19*(1-$AC$1)/'Всп лист'!$C$3*'Всп лист'!$B$3*'Всп лист'!$B$4,0)),"-" ) -> 216 | AG19: =IFERROR(IF('Установка скидки'!$M$1=FALSE,F19*(1-$AC$1)/'Всп лист'!$B$2,ROUNDUP(F19*(1-$AC$1)/'Всп лист'!$C$3*'Всп лист'!$B$3*'Всп лист'!$B$4,0)),"-" ) -> 220 | AH19: =IFERROR(IF('Установка скидки'!$M$1=FALSE,G19*(1-$AC$1)/'Всп лист'!$B$2,ROUNDUP(G19*(1-$AC$1)/'Всп лист'!$C$3*'Всп лист'!$B$3*'Всп лист'!$B$4,0)),"-" ) -> 223 | AI19: =IFERROR(IF('Установка скидки'!$M$1=FALSE,H19*(1-$AC$1)/'Всп лист'!$B$2,ROUNDUP(H19*(1-$AC$1)/'Всп лист'!$C$3*'Всп лист'!$B$3*'Всп лист'!$B$4,0)),"-" ) -> 226 | AJ19: =IFERROR(IF('Установка скидки'!$M$1=FALSE,I19*(1-$AC$1)/'Всп лист'!$B$2,ROUNDUP(I19*(1-$AC$1)/'Всп лист'!$C$3*'Всп лист'!$B$3*'Всп лист'!$B$4,0)),"-" ) -> 229 | ... AZ19: =IFERROR(IF('Установка скидки'!$M$1=FALSE,Y19*(1-$AC$1)/'Всп лист'!$B$2,ROUNDUP(Y19*(1-$AC$1)/'Всп лист'!$C$3*'Всп лист'!$B$3*'Всп лист'!$B$4,0)),"-" ) -> -
A20: Лист потолочный Угловой разборный ЛПУР 20"- 45" | B20: - | C20: - | D20: - | E20: - | F20: - | G20: - | H20: - | I20: - | J20: - | K20: - | L20: - | M20: 1650 | N20: - | O20: 1650 | P20: 1650 | Q20: 1650 | R20: 1650 | S20: 1650 | T20: 1650 | U20: 1650 | V20: 1650 | W20: - | X20: - | Y20: 2650 | AB20: =A20 -> Лист потолочный Угловой разборный ЛПУР 20"- 45" | AC20: =IFERROR(IF('Установка скидки'!$M$1=FALSE,B20*(1-$AC$1)/'Всп лист'!$B$2,ROUNDUP(B20*(1-$AC$1)/'Всп лист'!$C$3*'Всп лист'!$B$3*'Всп лист'!$B$4,0)),"-" ) -> - | AD20: =IFERROR(IF('Установка скидки'!$M$1=FALSE,C20*(1-$AC$1)/'Всп лист'!$B$2,ROUNDUP(C20*(1-$AC$1)/'Всп лист'!$C$3*'Всп лист'!$B$3*'Всп лист'!$B$4,0)),"-" ) -> - | AE20: =IFERROR(IF('Установка скидки'!$M$1=FALSE,D20*(1-$AC$1)/'Всп лист'!$B$2,ROUNDUP(D20*(1-$AC$1)/'Всп лист'!$C$3*'Всп лист'!$B$3*'Всп лист'!$B$4,0)),"-" ) -> - | AF20: =IFERROR(IF('Установка скидки'!$M$1=FALSE,E20*(1-$AC$1)/'Всп лист'!$B$2,ROUNDUP(E20*(1-$AC$1)/'Всп лист'!$C$3*'Всп лист'!$B$3*'Всп лист'!$B$4,0)),"-" ) -> - | AG20: =IFERROR(IF('Установка скидки'!$M$1=FALSE,F20*(1-$AC$1)/'Всп лист'!$B$2,ROUNDUP(F20*(1-$AC$1)/'Всп лист'!$C$3*'Всп лист'!$B$3*'Всп лист'!$B$4,0)),"-" ) -> - | AH20: =IFERROR(IF('Установка скидки'!$M$1=FALSE,G20*(1-$AC$1)/'Всп лист'!$B$2,ROUNDUP(G20*(1-$AC$1)/'Всп лист'!$C$3*'Всп лист'!$B$3*'Всп лист'!$B$4,0)),"-" ) -> - | AI20: =IFERROR(IF('Установка скидки'!$M$1=FALSE,H20*(1-$AC$1)/'Всп лист'!$B$2,ROUNDUP(H20*(1-$AC$1)/'Всп лист'!$C$3*'Всп лист'!$B$3*'Всп лист'!$B$4,0)),"-" ) -> - | AJ20: =IFERROR(IF('Установка скидки'!$M$1=FALSE,I20*(1-$AC$1)/'Всп лист'!$B$2,ROUNDUP(I20*(1-$AC$1)/'Всп лист'!$C$3*'Всп лист'!$B$3*'Всп лист'!$B$4,0)),"-" ) -> - | ... AZ20: =IFERROR(IF('Установка скидки'!$M$1=FALSE,Y20*(1-$AC$1)/'Всп лист'!$B$2,ROUNDUP(Y20*(1-$AC$1)/'Всп лист'!$C$3*'Всп лист'!$B$3*'Всп лист'!$B$4,0)),"-" ) -> 2650
A21: Лист потолочный универсальный ЛПУ - Р 480*480 мм | B21: 1250 | G21: - | H21: 1250 | L21: - | M21: 1250 | Q21: 1250 | V21: 1250 | Y21: - | AB21: =A21 -> Лист потолочный универсальный ЛПУ - Р 480*480 мм | AC21: =IFERROR(IF('Установка скидки'!$M$1=FALSE,B21*(1-$AC$1)/'Всп лист'!$B$2,ROUNDUP(B21*(1-$AC$1)/'Всп лист'!$C$3*'Всп лист'!$B$3*'Всп лист'!$B$4,0)),"-" ) -> 1250 | AH21: =IFERROR(IF('Установка скидки'!$M$1=FALSE,G21*(1-$AC$1)/'Всп лист'!$B$2,ROUNDUP(G21*(1-$AC$1)/'Всп лист'!$C$3*'Всп лист'!$B$3*'Всп лист'!$B$4,0)),"-" ) -> - | AI21: =IFERROR(IF('Установка скидки'!$M$1=FALSE,H21*(1-$AC$1)/'Всп лист'!$B$2,ROUNDUP(H21*(1-$AC$1)/'Всп лист'!$C$3*'Всп лист'!$B$3*'Всп лист'!$B$4,0)),"-" ) -> 1250 | AM21: =IFERROR(IF('Установка скидки'!$M$1=FALSE,L21*(1-$AC$1)/'Всп лист'!$B$2,ROUNDUP(L21*(1-$AC$1)/'Всп лист'!$C$3*'Всп лист'!$B$3*'Всп лист'!$B$4,0)),"-" ) -> - | AN21: =IFERROR(IF('Установка скидки'!$M$1=FALSE,M21*(1-$AC$1)/'Всп лист'!$B$2,ROUNDUP(M21*(1-$AC$1)/'Всп лист'!$C$3*'Всп лист'!$B$3*'Всп лист'!$B$4,0)),"-" ) -> 1250 | AR21: =IFERROR(IF('Установка скидки'!$M$1=FALSE,Q21*(1-$AC$1)/'Всп лист'!$B$2,ROUNDUP(Q21*(1-$AC$1)/'Всп лист'!$C$3*'Всп лист'!$B$3*'Всп лист'!$B$4,0)),"-" ) -> 1250 | AW21: =IFERROR(IF('Установка скидки'!$M$1=FALSE,V21*(1-$AC$1)/'Всп лист'!$B$2,ROUNDUP(V21*(1-$AC$1)/'Всп лист'!$C$3*'Всп лист'!$B$3*'Всп лист'!$B$4,0)),"-" ) -> 1250 | AZ21: =IFERROR(IF('Установка скидки'!$M$1=FALSE,Y21*(1-$AC$1)/'Всп лист'!$B$2,ROUNDUP(Y21*(1-$AC$1)/'Всп лист'!$C$3*'Всп лист'!$B$3*'Всп лист'!$B$4,0)),"-" ) -> -
A22: Лист потолочный универсальный ЛПУ - Р 480*480 мм | B22: - | C22: - | D22: - | E22: - | F22: - | G22: - | H22: - | I22: - | J22: - | K22: 1250 | N22: - | O22: - | P22: - | Q22: --- | R22: --- | S22: --- | T22: --- | U22: --- | V22: --- | W22: --- | X22: - | Y22: - | AB22: =A22 -> Лист потолочный универсальный ЛПУ - Р 480*480 мм | AC22: =IFERROR(IF('Установка скидки'!$M$1=FALSE,B22*(1-$AC$1)/'Всп лист'!$B$2,ROUNDUP(B22*(1-$AC$1)/'Всп лист'!$C$3*'Всп лист'!$B$3*'Всп лист'!$B$4,0)),"-" ) -> - | AD22: =IFERROR(IF('Установка скидки'!$M$1=FALSE,C22*(1-$AC$1)/'Всп лист'!$B$2,ROUNDUP(C22*(1-$AC$1)/'Всп лист'!$C$3*'Всп лист'!$B$3*'Всп лист'!$B$4,0)),"-" ) -> - | AE22: =IFERROR(IF('Установка скидки'!$M$1=FALSE,D22*(1-$AC$1)/'Всп лист'!$B$2,ROUNDUP(D22*(1-$AC$1)/'Всп лист'!$C$3*'Всп лист'!$B$3*'Всп лист'!$B$4,0)),"-" ) -> - | AF22: =IFERROR(IF('Установка скидки'!$M$1=FALSE,E22*(1-$AC$1)/'Всп лист'!$B$2,ROUNDUP(E22*(1-$AC$1)/'Всп лист'!$C$3*'Всп лист'!$B$3*'Всп лист'!$B$4,0)),"-" ) -> - | AG22: =IFERROR(IF('Установка скидки'!$M$1=FALSE,F22*(1-$AC$1)/'Всп лист'!$B$2,ROUNDUP(F22*(1-$AC$1)/'Всп лист'!$C$3*'Всп лист'!$B$3*'Всп лист'!$B$4,0)),"-" ) -> - | AH22: =IFERROR(IF('Установка скидки'!$M$1=FALSE,G22*(1-$AC$1)/'Всп лист'!$B$2,ROUNDUP(G22*(1-$AC$1)/'Всп лист'!$C$3*'Всп лист'!$B$3*'Всп лист'!$B$4,0)),"-" ) -> - | AI22: =IFERROR(IF('Установка скидки'!$M$1=FALSE,H22*(1-$AC$1)/'Всп лист'!$B$2,ROUNDUP(H22*(1-$AC$1)/'Всп лист'!$C$3*'Всп лист'!$B$3*'Всп лист'!$B$4,0)),"-" ) -> - | AJ22: =IFERROR(IF('Установка скидки'!$M$1=FALSE,I22*(1-$AC$1)/'Всп лист'!$B$2,ROUNDUP(I22*(1-$AC$1)/'Всп лист'!$C$3*'Всп лист'!$B$3*'Всп лист'!$B$4,0)),"-" ) -> - | ... AL22: =IFERROR(IF('Установка скидки'!$M$1=FALSE,K22*(1-$AC$1)/'Всп лист'!$B$2,ROUNDUP(K22*(1-$AC$1)/'Всп лист'!$C$3*'Всп лист'!$B$3*'Всп лист'!$B$4,0)),"-" ) -> 1250 | AO22: =IFERROR(IF('Установка скидки'!$M$1=FALSE,N22*(1-$AC$1)/'Всп лист'!$B$2,ROUNDUP(N22*(1-$AC$1)/'Всп лист'!$C$3*'Всп лист'!$B$3*'Всп лист'!$B$4,0)),"-" ) -> - | AP22: =IFERROR(IF('Установка скидки'!$M$1=FALSE,O22*(1-$AC$1)/'Всп лист'!$B$2,ROUNDUP(O22*(1-$AC$1)/'Всп лист'!$C$3*'Всп лист'!$B$3*'Всп лист'!$B$4,0)),"-" ) -> - | AQ22: =IFERROR(IF('Установка скидки'!$M$1=FALSE,P22*(1-$AC$1)/'Всп лист'!$B$2,ROUNDUP(P22*(1-$AC$1)/'Всп лист'!$C$3*'Всп лист'!$B$3*'Всп лист'!$B$4,0)),"-" ) -> - | AR22: =IFERROR(IF('Установка скидки'!$M$1=FALSE,Q22*(1-$AC$1)/'Всп лист'!$B$2,ROUNDUP(Q22*(1-$AC$1)/'Всп лист'!$C$3*'Всп лист'!$B$3*'Всп лист'!$B$4,0)),"-" ) -> - | AS22: =IFERROR(IF('Установка скидки'!$M$1=FALSE,R22*(1-$AC$1)/'Всп лист'!$B$2,ROUNDUP(R22*(1-$AC$1)/'Всп лист'!$C$3*'Всп лист'!$B$3*'Всп лист'!$B$4,0)),"-" ) -> - | AT22: =IFERROR(IF('Установка скидки'!$M$1=FALSE,S22*(1-$AC$1)/'Всп лист'!$B$2,ROUNDUP(S22*(1-$AC$1)/'Всп лист'!$C$3*'Всп лист'!$B$3*'Всп лист'!$B$4,0)),"-" ) -> - | AU22: =IFERROR(IF('Установка скидки'!$M$1=FALSE,T22*(1-$AC$1)/'Всп лист'!$B$2,ROUNDUP(T22*(1-$AC$1)/'Всп лист'!$C$3*'Всп лист'!$B$3*'Всп лист'!$B$4,0)),"-" ) -> - | AV22: =IFERROR(IF('Установка скидки'!$M$1=FALSE,U22*(1-$AC$1)/'Всп лист'!$B$2,ROUNDUP(U22*(1-$AC$1)/'Всп лист'!$C$3*'Всп лист'!$B$3*'Всп лист'!$B$4,0)),"-" ) -> - | ... AZ22: =IFERROR(IF('Установка скидки'!$M$1=FALSE,Y22*(1-$AC$1)/'Всп лист'!$B$2,ROUNDUP(Y22*(1-$AC$1)/'Всп лист'!$C$3*'Всп лист'!$B$3*'Всп лист'!$B$4,0)),"-" ) -> -
A23: Лист предтопочный 965*480 мм | B23: 2314 | AB23: =A23 -> Лист предтопочный 965*480 мм | AC23: =IFERROR(IF('Установка скидки'!$M$1=FALSE,B23*(1-$AC$1)/'Всп лист'!$B$2,ROUNDUP(B23*(1-$AC$1)/'Всп лист'!$C$3*'Всп лист'!$B$3*'Всп лист'!$B$4,0)),"-" ) -> 2314
A24: Лист предтопочный 580*475 мм | B24: 1194 | AB24: =A24 -> Лист предтопочный 580*475 мм | AC24: =IFERROR(IF('Установка скидки'!$M$1=FALSE,B24*(1-$AC$1)/'Всп лист'!$B$2,ROUNDUP(B24*(1-$AC$1)/'Всп лист'!$C$3*'Всп лист'!$B$3*'Всп лист'!$B$4,0)),"-" ) -> 1194
A25: Фартук | B25: 366 | C25: 407 | D25: 448 | E25: 468 | F25: 489 | G25: 509 | H25: 530 | I25: 550 | J25: 618 | K25: 612 | L25: 527 | M25: 736 | N25: 778 | O25: 819 | P25: 929 | Q25: 1102 | R25: 1150 | S25: 1197 | T25: 1195 | U25: 1239 | V25: 2016 | W25: 2036 | X25: 2041 | Y25: 2205 | AB25: =A25 -> Фартук | AC25: =IFERROR(IF('Установка скидки'!$M$1=FALSE,B25*(1-$AC$1)/'Всп лист'!$B$2,ROUNDUP(B25*(1-$AC$1)/'Всп лист'!$C$3*'Всп лист'!$B$3*'Всп лист'!$B$4,0)),"-" ) -> 366 | AD25: =IFERROR(IF('Установка скидки'!$M$1=FALSE,C25*(1-$AC$1)/'Всп лист'!$B$2,ROUNDUP(C25*(1-$AC$1)/'Всп лист'!$C$3*'Всп лист'!$B$3*'Всп лист'!$B$4,0)),"-" ) -> 407 | AE25: =IFERROR(IF('Установка скидки'!$M$1=FALSE,D25*(1-$AC$1)/'Всп лист'!$B$2,ROUNDUP(D25*(1-$AC$1)/'Всп лист'!$C$3*'Всп лист'!$B$3*'Всп лист'!$B$4,0)),"-" ) -> 448 | AF25: =IFERROR(IF('Установка скидки'!$M$1=FALSE,E25*(1-$AC$1)/'Всп лист'!$B$2,ROUNDUP(E25*(1-$AC$1)/'Всп лист'!$C$3*'Всп лист'!$B$3*'Всп лист'!$B$4,0)),"-" ) -> 468 | AG25: =IFERROR(IF('Установка скидки'!$M$1=FALSE,F25*(1-$AC$1)/'Всп лист'!$B$2,ROUNDUP(F25*(1-$AC$1)/'Всп лист'!$C$3*'Всп лист'!$B$3*'Всп лист'!$B$4,0)),"-" ) -> 489 | AH25: =IFERROR(IF('Установка скидки'!$M$1=FALSE,G25*(1-$AC$1)/'Всп лист'!$B$2,ROUNDUP(G25*(1-$AC$1)/'Всп лист'!$C$3*'Всп лист'!$B$3*'Всп лист'!$B$4,0)),"-" ) -> 509 | AI25: =IFERROR(IF('Установка скидки'!$M$1=FALSE,H25*(1-$AC$1)/'Всп лист'!$B$2,ROUNDUP(H25*(1-$AC$1)/'Всп лист'!$C$3*'Всп лист'!$B$3*'Всп лист'!$B$4,0)),"-" ) -> 530 | AJ25: =IFERROR(IF('Установка скидки'!$M$1=FALSE,I25*(1-$AC$1)/'Всп лист'!$B$2,ROUNDUP(I25*(1-$AC$1)/'Всп лист'!$C$3*'Всп лист'!$B$3*'Всп лист'!$B$4,0)),"-" ) -> 550 | ... AZ25: =IFERROR(IF('Установка скидки'!$M$1=FALSE,Y25*(1-$AC$1)/'Всп лист'!$B$2,ROUNDUP(Y25*(1-$AC$1)/'Всп лист'!$C$3*'Всп лист'!$B$3*'Всп лист'!$B$4,0)),"-" ) -> 2205
A26: Штанга хомута растяжки L-1000 мм | B26: 2280 | AB26: =A26 -> Штанга хомута растяжки L-1000 мм | AC26: =IFERROR(IF('Установка скидки'!$M$1=FALSE,B26*(1-$AC$1)/'Всп лист'!$B$2,ROUNDUP(B26*(1-$AC$1)/'Всп лист'!$C$3*'Всп лист'!$B$3*'Всп лист'!$B$4,0)),"-" ) -> 2280
A27: Экран защитный 800*960 мм | B27: 3534 | AB27: =A27 -> Экран защитный 800*960 мм | AC27: =IFERROR(IF('Установка скидки'!$M$1=FALSE,B27*(1-$AC$1)/'Всп лист'!$B$2,ROUNDUP(B27*(1-$AC$1)/'Всп лист'!$C$3*'Всп лист'!$B$3*'Всп лист'!$B$4,0)),"-" ) -> 3534
A28: Экран защитный 480*480 мм | B28: 1206 | AB28: =A28 -> Экран защитный 480*480 мм | AC28: =IFERROR(IF('Установка скидки'!$M$1=FALSE,B28*(1-$AC$1)/'Всп лист'!$B$2,ROUNDUP(B28*(1-$AC$1)/'Всп лист'!$C$3*'Всп лист'!$B$3*'Всп лист'!$B$4,0)),"-" ) -> 1206
AE31: Изделия входят в складскую программу (срок отгрузки до 7 дней)
AE32: Выделенные цветом изделия являются распродажными(выбирать только при наличии на складе)
AB34: Производство изделий не входящих в складскую программу требует дополнительного согласования
AB35: Ваши предложения и нарекания на качество продукции и обслуживания просьба отправлять на эл почту pk@teplov.ru
AB36: Производитель гарантирует качественную работу дымохода при правильно выбранной покупателем марке стали, иных параметров изделий, соблюдении требований, правил монтажа и экслуатации дымохода и тепловой установки.
AB37: См. инструкция по монтажу и эксплуатации дымоходов "Теплов и Сухов" WWW.TEPLOV.RU

Sheet Стеновые крепления
AB1: Размер скидки | AC1: ='Установка скидки'!$G$11 -> 0 | AU1: =IF('Установка скидки'!$M$1=FALSE,'Всп лист'!$A$7,'Всп лист'!$A$8) -> Цены указаны в руб. с НДС
A5: Наименование / Диаметр | B5: 80 | C5: 100 | D5: 110 | E5: 115 | F5: 120 | G5: 125 | H5: 130 | I5: 135 | J5: 140 | K5: 150 | L5: 160 | M5: 180 | N5: 190 | O5: 200 | P5: 210 | Q5: 220 | R5: 230 | S5: 240 | T5: 250 | U5: 260 | V5: 280 | W5: 300 | X5: 310 | Y5: 350 | AB5: Наименование / Диаметр | AC5: 80 | AD5: 100 | AE5: 110 | AF5: 115 | AG5: 120 | AH5: 125 | AI5: 130 | AJ5: 135 | AK5: 140 | AL5: 150 | AM5: 160 | AN5: 180 | AO5: 190 | AP5: 200 | AQ5: 210 | AR5: 220 | AS5: 230 | AT5: 240 | AU5: 250 | AV5: 260 | AW5: 280 | AX5: 300 | AY5: 310 | AZ5: 350
A6: Крепление основное ККО 300 | B6: 1588 | AB6: Крепление основное ККО 300 | AC6: =IFERROR(IF('Установка скидки'!$M$1=FALSE,B6*(1-$AC$1)/'Всп лист'!$B$2,ROUNDUP(B6*(1-$AC$1)/'Всп лист'!$C$3*'Всп лист'!$B$3*'Всп лист'!$B$4,0)),"-" ) -> 1588
A7: Крепление основное ККО 350 | B7: 2773 | AB7: Крепление основное ККО 350 | AC7: =IFERROR(IF('Установка скидки'!$M$1=FALSE,B7*(1-$AC$1)/'Всп лист'!$B$2,ROUNDUP(B7*(1-$AC$1)/'Всп лист'!$C$3*'Всп лист'!$B$3*'Всп лист'!$B$4,0)),"-" ) -> 2773
A8: Крепление основное ККО 500 | B8: 4931 | AB8: Крепление основное ККО 500 | AC8: =IFERROR(IF('Установка скидки'!$M$1=FALSE,B8*(1-$AC$1)/'Всп лист'!$B$2,ROUNDUP(B8*(1-$AC$1)/'Всп лист'!$C$3*'Всп лист'!$B$3*'Всп лист'!$B$4,0)),"-" ) -> 4931
A9: Крепление основное ККО 650 | B9: 6233 | AB9: Крепление основное ККО 650 | AC9: =IFERROR(IF('Установка скидки'!$M$1=FALSE,B9*(1-$AC$1)/'Всп лист'!$B$2,ROUNDUP(B9*(1-$AC$1)/'Всп лист'!$C$3*'Всп лист'!$B$3*'Всп лист'!$B$4,0)),"-" ) -> 6233
A10: Крепление регулируемое 700 (весовая нагрузка 50 кг.) | B10: 4685 | AB10: Крепление регулируемое 700 (весовая нагрузка 50 кг.) | AC10: =IFERROR(IF('Установка скидки'!$M$1=FALSE,B10*(1-$AC$1)/'Всп лист'!$B$2,ROUNDUP(B10*(1-$AC$1)/'Всп лист'!$C$3*'Всп лист'!$B$3*'Всп лист'!$B$4,0)),"-" ) -> 4685
A11: Крепление регулируемое КР 700 | B11: 5119 | AB11: Крепление регулируемое КР 700 | AC11: =IFERROR(IF('Установка скидки'!$M$1=FALSE,B11*(1-$AC$1)/'Всп лист'!$B$2,ROUNDUP(B11*(1-$AC$1)/'Всп лист'!$C$3*'Всп лист'!$B$3*'Всп лист'!$B$4,0)),"-" ) -> 5119
A12: Крепление регулируемое КР 1000 | B12: 6676 | AB12: Крепление регулируемое КР 1000 | AC12: =IFERROR(IF('Установка скидки'!$M$1=FALSE,B12*(1-$AC$1)/'Всп лист'!$B$2,ROUNDUP(B12*(1-$AC$1)/'Всп лист'!$C$3*'Всп лист'!$B$3*'Всп лист'!$B$4,0)),"-" ) -> 6676
A13: Крепление регулируемое КР 1200 | B13: 7793 | AB13: Крепление регулируемое КР 1200 | AC13: =IFERROR(IF('Установка скидки'!$M$1=FALSE,B13*(1-$AC$1)/'Всп лист'!$B$2,ROUNDUP(B13*(1-$AC$1)/'Всп лист'!$C$3*'Всп лист'!$B$3*'Всп лист'!$B$4,0)),"-" ) -> 7793
A14: Крепление универсальное КУ | B14: 642 | C14: 722 | D14: 775 | F14: 792 | H14: 828 | J14: 825 | K14: 853 | M14: 934 | O14: 1006 | Q14: 1183 | S14: 1103 | T14: 1178 | V14: 1259 | W14: 1356 | Y14: 1596 | AB14: Крепление универсальное КУ | AC14: =IFERROR(IF('Установка скидки'!$M$1=FALSE,B14*(1-$AC$1)/'Всп лист'!$B$2,ROUNDUP(B14*(1-$AC$1)/'Всп лист'!$C$3*'Всп лист'!$B$3*'Всп лист'!$B$4,0)),"-" ) -> 642 | AD14: =IFERROR(IF('Установка скидки'!$M$1=FALSE,C14*(1-$AC$1)/'Всп лист'!$B$2,ROUNDUP(C14*(1-$AC$1)/'Всп лист'!$C$3*'Всп лист'!$B$3*'Всп лист'!$B$4,0)),"-" ) -> 722 | AE14: =IFERROR(IF('Установка скидки'!$M$1=FALSE,D14*(1-$AC$1)/'Всп лист'!$B$2,ROUNDUP(D14*(1-$AC$1)/'Всп лист'!$C$3*'Всп лист'!$B$3*'Всп лист'!$B$4,0)),"-" ) -> 775 | AF14: =IFERROR(IF('Установка скидки'!$M$1=FALSE,E14*(1-$AC$1)/'Всп лист'!$B$2,ROUNDUP(E14*(1-$AC$1)/'Всп лист'!$C$3*'Всп лист'!$B$3*'Всп лист'!$B$4,0)),"-" ) -> 0 | AG14: =IFERROR(IF('Установка скидки'!$M$1=FALSE,F14*(1-$AC$1)/'Всп лист'!$B$2,ROUNDUP(F14*(1-$AC$1)/'Всп лист'!$C$3*'Всп лист'!$B$3*'Всп лист'!$B$4,0)),"-" ) -> 792 | AH14: =IFERROR(IF('Установка скидки'!$M$1=FALSE,G14*(1-$AC$1)/'Всп лист'!$B$2,ROUNDUP(G14*(1-$AC$1)/'Всп лист'!$C$3*'Всп лист'!$B$3*'Всп лист'!$B$4,0)),"-" ) -> 0 | AI14: =IFERROR(IF('Установка скидки'!$M$1=FALSE,H14*(1-$AC$1)/'Всп лист'!$B$2,ROUNDUP(H14*(1-$AC$1)/'Всп лист'!$C$3*'Всп лист'!$B$3*'Всп лист'!$B$4,0)),"-" ) -> 828 | AJ14: =IFERROR(IF('Установка скидки'!$M$1=FALSE,I14*(1-$AC$1)/'Всп лист'!$B$2,ROUNDUP(I14*(1-$AC$1)/'Всп лист'!$C$3*'Всп лист'!$B$3*'Всп лист'!$B$4,0)),"-" ) -> 0 | ... AZ14: =IFERROR(IF('Установка скидки'!$M$1=FALSE,Y14*(1-$AC$1)/'Всп лист'!$B$2,ROUNDUP(Y14*(1-$AC$1)/'Всп лист'!$C$3*'Всп лист'!$B$3*'Всп лист'!$B$4,0)),"-" ) -> 1596
A15: Крепление подвес 350 | B15: 997 | AB15: Крепление подвес 350 | AC15: =IFERROR(IF('Установка скидки'!$M$1=FALSE,B15*(1-$AC$1)/'Всп лист'!$B$2,ROUNDUP(B15*(1-$AC$1)/'Всп лист'!$C$3*'Всп лист'!$B$3*'Всп лист'!$B$4,0)),"-" ) -> 997
A16: Крепление подвес 700 | B16: 1635 | AB16: Крепление подвес 700 | AC16: =IFERROR(IF('Установка скидки'!$M$1=FALSE,B16*(1-$AC$1)/'Всп лист'!$B$2,ROUNDUP(B16*(1-$AC$1)/'Всп лист'!$C$3*'Всп лист'!$B$3*'Всп лист'!$B$4,0)),"-" ) -> 1635
A17: Хомут штанги регулируемой ХШР 430 0,8 | B17: - | C17: - | D17: - | E17: - | F17: - | G17: - | H17: - | I17: - | J17: - | K17: - | L17: 277 | M17: 278 | N17: 298 | O17: 304 | P17: 315 | Q17: 340 | R17: 359 | S17: 368 | T17: 379 | U17: 388 | V17: 432 | W17: 459 | X17: 470 | Y17: 608 | AB17: Хомут штанги регулируемой ХШР 430 0,8 | AC17: =IFERROR(IF('Установка скидки'!$M$1=FALSE,B17*(1-$AC$1)/'Всп лист'!$B$2,ROUNDUP(B17*(1-$AC$1)/'Всп лист'!$C$3*'Всп лист'!$B$3*'Всп лист'!$B$4,0)),"-" ) -> - | AD17: =IFERROR(IF('Установка скидки'!$M$1=FALSE,C17*(1-$AC$1)/'Всп лист'!$B$2,ROUNDUP(C17*(1-$AC$1)/'Всп лист'!$C$3*'Всп лист'!$B$3*'Всп лист'!$B$4,0)),"-" ) -> - | AE17: =IFERROR(IF('Установка скидки'!$M$1=FALSE,D17*(1-$AC$1)/'Всп лист'!$B$2,ROUNDUP(D17*(1-$AC$1)/'Всп лист'!$C$3*'Всп лист'!$B$3*'Всп лист'!$B$4,0)),"-" ) -> - | AF17: =IFERROR(IF('Установка скидки'!$M$1=FALSE,E17*(1-$AC$1)/'Всп лист'!$B$2,ROUNDUP(E17*(1-$AC$1)/'Всп лист'!$C$3*'Всп лист'!$B$3*'Всп лист'!$B$4,0)),"-" ) -> - | AG17: =IFERROR(IF('Установка скидки'!$M$1=FALSE,F17*(1-$AC$1)/'Всп лист'!$B$2,ROUNDUP(F17*(1-$AC$1)/'Всп лист'!$C$3*'Всп лист'!$B$3*'Всп лист'!$B$4,0)),"-" ) -> - | AH17: =IFERROR(IF('Установка скидки'!$M$1=FALSE,G17*(1-$AC$1)/'Всп лист'!$B$2,ROUNDUP(G17*(1-$AC$1)/'Всп лист'!$C$3*'Всп лист'!$B$3*'Всп лист'!$B$4,0)),"-" ) -> - | AI17: =IFERROR(IF('Установка скидки'!$M$1=FALSE,H17*(1-$AC$1)/'Всп лист'!$B$2,ROUNDUP(H17*(1-$AC$1)/'Всп лист'!$C$3*'Всп лист'!$B$3*'Всп лист'!$B$4,0)),"-" ) -> - | AJ17: =IFERROR(IF('Установка скидки'!$M$1=FALSE,I17*(1-$AC$1)/'Всп лист'!$B$2,ROUNDUP(I17*(1-$AC$1)/'Всп лист'!$C$3*'Всп лист'!$B$3*'Всп лист'!$B$4,0)),"-" ) -> - | ... AZ17: =IFERROR(IF('Установка скидки'!$M$1=FALSE,Y17*(1-$AC$1)/'Всп лист'!$B$2,ROUNDUP(Y17*(1-$AC$1)/'Всп лист'!$C$3*'Всп лист'!$B$3*'Всп лист'!$B$4,0)),"-" ) -> 608
A18: Штанга регулируемая 380-700 мм | B18: 1104 | AB18: Штанга регулируемая 380-700 мм | AC18: =IFERROR(IF('Установка скидки'!$M$1=FALSE,B18*(1-$AC$1)/'Всп лист'!$B$2,ROUNDUP(B18*(1-$AC$1)/'Всп лист'!$C$3*'Всп лист'!$B$3*'Всп лист'!$B$4,0)),"-" ) -> 1104
A19: Штанга регулируемая 150-300 мм | B19: 720 | AB19: Штанга регулируемая 150-300 мм | AC19: =IFERROR(IF('Установка скидки'!$M$1=FALSE,B19*(1-$AC$1)/'Всп лист'!$B$2,ROUNDUP(B19*(1-$AC$1)/'Всп лист'!$C$3*'Всп лист'!$B$3*'Всп лист'!$B$4,0)),"-" ) -> 720
AE21: Изделия входят в складскую программу (срок отгрузки до 7 дней)
AE22: Выделенные цветом изделия являются распродажными(выбирать только при наличии на складе)
AB24: Производство изделий не входящих в складскую программу требует дополнительного согласования
AB25: Ваши предложения и нарекания на качество продукции и обслуживания просьба отправлять на эл почту pk@teplov.ru
AB26: Производитель гарантирует качественную работу дымохода при правильно выбранной покупателем марке стали, иных параметров изделий, соблюдении требований, правил монтажа и экслуатации дымохода и тепловой установки.
AB27: См. инструкция по монтажу и эксплуатации дымоходов "Теплов и Сухов" WWW.TEPLOV.RU

Sheet Феррит Моно (430)
S1: Размер скидки | T1: ='Установка скидки'!$G$11 -> 0 | AD1: =IF('Установка скидки'!$M$1=FALSE,'Всп лист'!$A$7,'Всп лист'!$A$8) -> Цены указаны в руб. с НДС
A7: Наименование / Диаметр | B7: 80 | C7: 100 | D7: 110 | E7: 115 | F7: 120 | G7: 125 | H7: 130 | I7: 135 | J7: 140 | K7: 150 | L7: 160 | M7: 180 | N7: 200 | O7: 250 | S7: Наименование/Диаметр | T7: 80 | U7: 100 | V7: 110 | W7: 115 | X7: 120 | Y7: 125 | Z7: 130 | AA7: 135 | AB7: 140 | AC7: 150 | AD7: 160 | AE7: 180 | AF7: 200 | AG7: 250
A8: Дефлектор ДМ-Р (430-0,5) | B8: 1067 | C8: 1173 | D8: 1244 | E8: 1251 | F8: 1304 | G8: - | H8: 1349 | I8: - | J8: 1422 | K8: 1474 | L8: 1596 | M8: 2004 | N8: 2157 | O8: 3009 | S8: Дефлектор ДМ-Р (430-0,5) | T8: =IFERROR(IF('Установка скидки'!$M$1=FALSE,B8*(1-$T$1)/'Всп лист'!$B$2,ROUNDUP(B8*(1-$T$1)/'Всп лист'!$C$3*'Всп лист'!$B$3*'Всп лист'!$B$4,0)),"-" ) -> 1067 | U8: =IFERROR(IF('Установка скидки'!$M$1=FALSE,C8*(1-$T$1)/'Всп лист'!$B$2,ROUNDUP(C8*(1-$T$1)/'Всп лист'!$C$3*'Всп лист'!$B$3*'Всп лист'!$B$4,0)),"-" ) -> 1173 | V8: =IFERROR(IF('Установка скидки'!$M$1=FALSE,D8*(1-$T$1)/'Всп лист'!$B$2,ROUNDUP(D8*(1-$T$1)/'Всп лист'!$C$3*'Всп лист'!$B$3*'Всп лист'!$B$4,0)),"-" ) -> 1244 | W8: =IFERROR(IF('Установка скидки'!$M$1=FALSE,E8*(1-$T$1)/'Всп лист'!$B$2,ROUNDUP(E8*(1-$T$1)/'Всп лист'!$C$3*'Всп лист'!$B$3*'Всп лист'!$B$4,0)),"-" ) -> 1251 | X8: =IFERROR(IF('Установка скидки'!$M$1=FALSE,F8*(1-$T$1)/'Всп лист'!$B$2,ROUNDUP(F8*(1-$T$1)/'Всп лист'!$C$3*'Всп лист'!$B$3*'Всп лист'!$B$4,0)),"-" ) -> 1304 | Y8: =IFERROR(IF('Установка скидки'!$M$1=FALSE,G8*(1-$T$1)/'Всп лист'!$B$2,ROUNDUP(G8*(1-$T$1)/'Всп лист'!$C$3*'Всп лист'!$B$3*'Всп лист'!$B$4,0)),"-" ) -> - | Z8: =IFERROR(IF('Установка скидки'!$M$1=FALSE,H8*(1-$T$1)/'Всп лист'!$B$2,ROUNDUP(H8*(1-$T$1)/'Всп лист'!$C$3*'Всп лист'!$B$3*'Всп лист'!$B$4,0)),"-" ) -> 1349 | AA8: =IFERROR(IF('Установка скидки'!$M$1=FALSE,I8*(1-$T$1)/'Всп лист'!$B$2,ROUNDUP(I8*(1-$T$1)/'Всп лист'!$C$3*'Всп лист'!$B$3*'Всп лист'!$B$4,0)),"-" ) -> - | ... AG8: =IFERROR(IF('Установка скидки'!$M$1=FALSE,O8*(1-$T$1)/'Всп лист'!$B$2,ROUNDUP(O8*(1-$T$1)/'Всп лист'!$C$3*'Всп лист'!$B$3*'Всп лист'!$B$4,0)),"-" ) -> 3009
A9: Дефлектор ДМ-Р (по дыму) (430-0,5) | B9: - | C9: 1208 | D9: - | E9: - | F9: - | G9: - | H9: 1389 | I9: - | J9: - | K9: 1519 | L9: - | M9: - | N9: - | O9: - | S9: Дефлектор ДМ-Р (по дыму) (430-0,5) | T9: =IFERROR(IF('Установка скидки'!$M$1=FALSE,B9*(1-$T$1)/'Всп лист'!$B$2,ROUNDUP(B9*(1-$T$1)/'Всп лист'!$C$3*'Всп лист'!$B$3*'Всп лист'!$B$4,0)),"-" ) -> - | U9: =IFERROR(IF('Установка скидки'!$M$1=FALSE,C9*(1-$T$1)/'Всп лист'!$B$2,ROUNDUP(C9*(1-$T$1)/'Всп лист'!$C$3*'Всп лист'!$B$3*'Всп лист'!$B$4,0)),"-" ) -> 1208 | V9: =IFERROR(IF('Установка скидки'!$M$1=FALSE,D9*(1-$T$1)/'Всп лист'!$B$2,ROUNDUP(D9*(1-$T$1)/'Всп лист'!$C$3*'Всп лист'!$B$3*'Всп лист'!$B$4,0)),"-" ) -> - | W9: =IFERROR(IF('Установка скидки'!$M$1=FALSE,E9*(1-$T$1)/'Всп лист'!$B$2,ROUNDUP(E9*(1-$T$1)/'Всп лист'!$C$3*'Всп лист'!$B$3*'Всп лист'!$B$4,0)),"-" ) -> - | X9: =IFERROR(IF('Установка скидки'!$M$1=FALSE,F9*(1-$T$1)/'Всп лист'!$B$2,ROUNDUP(F9*(1-$T$1)/'Всп лист'!$C$3*'Всп лист'!$B$3*'Всп лист'!$B$4,0)),"-" ) -> - | Y9: =IFERROR(IF('Установка скидки'!$M$1=FALSE,G9*(1-$T$1)/'Всп лист'!$B$2,ROUNDUP(G9*(1-$T$1)/'Всп лист'!$C$3*'Всп лист'!$B$3*'Всп лист'!$B$4,0)),"-" ) -> - | Z9: =IFERROR(IF('Установка скидки'!$M$1=FALSE,H9*(1-$T$1)/'Всп лист'!$B$2,ROUNDUP(H9*(1-$T$1)/'Всп лист'!$C$3*'Всп лист'!$B$3*'Всп лист'!$B$4,0)),"-" ) -> 1389 | AA9: =IFERROR(IF('Установка скидки'!$M$1=FALSE,I9*(1-$T$1)/'Всп лист'!$B$2,ROUNDUP(I9*(1-$T$1)/'Всп лист'!$C$3*'Всп лист'!$B$3*'Всп лист'!$B$4,0)),"-" ) -> - | ... AG9: =IFERROR(IF('Установка скидки'!$M$1=FALSE,O9*(1-$T$1)/'Всп лист'!$B$2,ROUNDUP(O9*(1-$T$1)/'Всп лист'!$C$3*'Всп лист'!$B$3*'Всп лист'!$B$4,0)),"-" ) -> -
A10: Зонт ЗМ-Р (430-0,5) | B10: 456 | C10: 522 | D10: 569 | E10: 572 | F10: 596 | G10: - | H10: 644 | I10: - | J10: - | K10: 732 | L10: 792 | M10: 958 | N10: 1057 | O10: 1479 | S10: Зонт ЗМ-Р (430-0,5) | T10: =IFERROR(IF('Установка скидки'!$M$1=FALSE,B10*(1-$T$1)/'Всп лист'!$B$2,ROUNDUP(B10*(1-$T$1)/'Всп лист'!$C$3*'Всп лист'!$B$3*'Всп лист'!$B$4,0)),"-" ) -> 456 | U10: =IFERROR(IF('Установка скидки'!$M$1=FALSE,C10*(1-$T$1)/'Всп лист'!$B$2,ROUNDUP(C10*(1-$T$1)/'Всп лист'!$C$3*'Всп лист'!$B$3*'Всп лист'!$B$4,0)),"-" ) -> 522 | V10: =IFERROR(IF('Установка скидки'!$M$1=FALSE,D10*(1-$T$1)/'Всп лист'!$B$2,ROUNDUP(D10*(1-$T$1)/'Всп лист'!$C$3*'Всп лист'!$B$3*'Всп лист'!$B$4,0)),"-" ) -> 569 | W10: =IFERROR(IF('Установка скидки'!$M$1=FALSE,E10*(1-$T$1)/'Всп лист'!$B$2,ROUNDUP(E10*(1-$T$1)/'Всп лист'!$C$3*'Всп лист'!$B$3*'Всп лист'!$B$4,0)),"-" ) -> 572 | X10: =IFERROR(IF('Установка скидки'!$M$1=FALSE,F10*(1-$T$1)/'Всп лист'!$B$2,ROUNDUP(F10*(1-$T$1)/'Всп лист'!$C$3*'Всп лист'!$B$3*'Всп лист'!$B$4,0)),"-" ) -> 596 | Y10: =IFERROR(IF('Установка скидки'!$M$1=FALSE,G10*(1-$T$1)/'Всп лист'!$B$2,ROUNDUP(G10*(1-$T$1)/'Всп лист'!$C$3*'Всп лист'!$B$3*'Всп лист'!$B$4,0)),"-" ) -> - | Z10: =IFERROR(IF('Установка скидки'!$M$1=FALSE,H10*(1-$T$1)/'Всп лист'!$B$2,ROUNDUP(H10*(1-$T$1)/'Всп лист'!$C$3*'Всп лист'!$B$3*'Всп лист'!$B$4,0)),"-" ) -> 644 | AA10: =IFERROR(IF('Установка скидки'!$M$1=FALSE,I10*(1-$T$1)/'Всп лист'!$B$2,ROUNDUP(I10*(1-$T$1)/'Всп лист'!$C$3*'Всп лист'!$B$3*'Всп лист'!$B$4,0)),"-" ) -> - | ... AG10: =IFERROR(IF('Установка скидки'!$M$1=FALSE,O10*(1-$T$1)/'Всп лист'!$B$2,ROUNDUP(O10*(1-$T$1)/'Всп лист'!$C$3*'Всп лист'!$B$3*'Всп лист'!$B$4,0)),"-" ) -> 1479
A11: Зонт ЗМ-Р (по дыму) (430-0,5) | B11: - | C11: 530 | D11: 578 | E11: 581 | F11: 606 | G11: - | H11: 654 | I11: 679 | J11: - | K11: 732 | L11: 792 | M11: - | N11: 1057 | O11: - | S11: Зонт ЗМ-Р (по дыму) (430-0,5) | T11: =IFERROR(IF('Установка скидки'!$M$1=FALSE,B11*(1-$T$1)/'Всп лист'!$B$2,ROUNDUP(B11*(1-$T$1)/'Всп лист'!$C$3*'Всп лист'!$B$3*'Всп лист'!$B$4,0)),"-" ) -> - | U11: =IFERROR(IF('Установка скидки'!$M$1=FALSE,C11*(1-$T$1)/'Всп лист'!$B$2,ROUNDUP(C11*(1-$T$1)/'Всп лист'!$C$3*'Всп лист'!$B$3*'Всп лист'!$B$4,0)),"-" ) -> 530 | V11: =IFERROR(IF('Установка скидки'!$M$1=FALSE,D11*(1-$T$1)/'Всп лист'!$B$2,ROUNDUP(D11*(1-$T$1)/'Всп лист'!$C$3*'Всп лист'!$B$3*'Всп лист'!$B$4,0)),"-" ) -> 578 | W11: =IFERROR(IF('Установка скидки'!$M$1=FALSE,E11*(1-$T$1)/'Всп лист'!$B$2,ROUNDUP(E11*(1-$T$1)/'Всп лист'!$C$3*'Всп лист'!$B$3*'Всп лист'!$B$4,0)),"-" ) -> 581 | X11: =IFERROR(IF('Установка скидки'!$M$1=FALSE,F11*(1-$T$1)/'Всп лист'!$B$2,ROUNDUP(F11*(1-$T$1)/'Всп лист'!$C$3*'Всп лист'!$B$3*'Всп лист'!$B$4,0)),"-" ) -> 606 | Y11: =IFERROR(IF('Установка скидки'!$M$1=FALSE,G11*(1-$T$1)/'Всп лист'!$B$2,ROUNDUP(G11*(1-$T$1)/'Всп лист'!$C$3*'Всп лист'!$B$3*'Всп лист'!$B$4,0)),"-" ) -> - | Z11: =IFERROR(IF('Установка скидки'!$M$1=FALSE,H11*(1-$T$1)/'Всп лист'!$B$2,ROUNDUP(H11*(1-$T$1)/'Всп лист'!$C$3*'Всп лист'!$B$3*'Всп лист'!$B$4,0)),"-" ) -> 654 | AA11: =IFERROR(IF('Установка скидки'!$M$1=FALSE,I11*(1-$T$1)/'Всп лист'!$B$2,ROUNDUP(I11*(1-$T$1)/'Всп лист'!$C$3*'Всп лист'!$B$3*'Всп лист'!$B$4,0)),"-" ) -> 679 | ... AG11: =IFERROR(IF('Установка скидки'!$M$1=FALSE,O11*(1-$T$1)/'Всп лист'!$B$2,ROUNDUP(O11*(1-$T$1)/'Всп лист'!$C$3*'Всп лист'!$B$3*'Всп лист'!$B$4,0)),"-" ) -> -
A12: Конвектор трубный 1000 мм (430-0,8) | B12: - | C12: - | D12: - | E12: - | F12: 4666 | G12: - | H12: - | I12: - | J12: - | K12: 5520 | L12: - | M12: - | N12: - | O12: - | S12: Конвектор трубный 1000 мм (430-0,8) | T12: =IFERROR(IF('Установка скидки'!$M$1=FALSE,B12*(1-$T$1)/'Всп лист'!$B$2,ROUNDUP(B12*(1-$T$1)/'Всп лист'!$C$3*'Всп лист'!$B$3*'Всп лист'!$B$4,0)),"-" ) -> - | U12: =IFERROR(IF('Установка скидки'!$M$1=FALSE,C12*(1-$T$1)/'Всп лист'!$B$2,ROUNDUP(C12*(1-$T$1)/'Всп лист'!$C$3*'Всп лист'!$B$3*'Всп лист'!$B$4,0)),"-" ) -> - | V12: =IFERROR(IF('Установка скидки'!$M$1=FALSE,D12*(1-$T$1)/'Всп лист'!$B$2,ROUNDUP(D12*(1-$T$1)/'Всп лист'!$C$3*'Всп лист'!$B$3*'Всп лист'!$B$4,0)),"-" ) -> - | W12: =IFERROR(IF('Установка скидки'!$M$1=FALSE,E12*(1-$T$1)/'Всп лист'!$B$2,ROUNDUP(E12*(1-$T$1)/'Всп лист'!$C$3*'Всп лист'!$B$3*'Всп лист'!$B$4,0)),"-" ) -> - | X12: =IFERROR(IF('Установка скидки'!$M$1=FALSE,F12*(1-$T$1)/'Всп лист'!$B$2,ROUNDUP(F12*(1-$T$1)/'Всп лист'!$C$3*'Всп лист'!$B$3*'Всп лист'!$B$4,0)),"-" ) -> 4666 | Y12: =IFERROR(IF('Установка скидки'!$M$1=FALSE,G12*(1-$T$1)/'Всп лист'!$B$2,ROUNDUP(G12*(1-$T$1)/'Всп лист'!$C$3*'Всп лист'!$B$3*'Всп лист'!$B$4,0)),"-" ) -> - | Z12: =IFERROR(IF('Установка скидки'!$M$1=FALSE,H12*(1-$T$1)/'Всп лист'!$B$2,ROUNDUP(H12*(1-$T$1)/'Всп лист'!$C$3*'Всп лист'!$B$3*'Всп лист'!$B$4,0)),"-" ) -> - | AA12: =IFERROR(IF('Установка скидки'!$M$1=FALSE,I12*(1-$T$1)/'Всп лист'!$B$2,ROUNDUP(I12*(1-$T$1)/'Всп лист'!$C$3*'Всп лист'!$B$3*'Всп лист'!$B$4,0)),"-" ) -> - | ... AG12: =IFERROR(IF('Установка скидки'!$M$1=FALSE,O12*(1-$T$1)/'Всп лист'!$B$2,ROUNDUP(O12*(1-$T$1)/'Всп лист'!$C$3*'Всп лист'!$B$3*'Всп лист'!$B$4,0)),"-" ) -> -
A13: Отвод 45 OM-Р (430-0,5) | B13: 380 | C13: 440 | D13: 480 | E13: 486 | F13: 503 | G13: 548 | H13: 544 | I13: 658 | J13: 683 | K13: 711 | L13: 739 | M13: 826 | N13: 910 | O13: 1121 | S13: Отвод 45 OM-Р (430-0,5) | T13: =IFERROR(IF('Установка скидки'!$M$1=FALSE,B13*(1-$T$1)/'Всп лист'!$B$2,ROUNDUP(B13*(1-$T$1)/'Всп лист'!$C$3*'Всп лист'!$B$3*'Всп лист'!$B$4,0)),"-" ) -> 380 | U13: =IFERROR(IF('Установка скидки'!$M$1=FALSE,C13*(1-$T$1)/'Всп лист'!$B$2,ROUNDUP(C13*(1-$T$1)/'Всп лист'!$C$3*'Всп лист'!$B$3*'Всп лист'!$B$4,0)),"-" ) -> 440 | V13: =IFERROR(IF('Установка скидки'!$M$1=FALSE,D13*(1-$T$1)/'Всп лист'!$B$2,ROUNDUP(D13*(1-$T$1)/'Всп лист'!$C$3*'Всп лист'!$B$3*'Всп лист'!$B$4,0)),"-" ) -> 480 | W13: =IFERROR(IF('Установка скидки'!$M$1=FALSE,E13*(1-$T$1)/'Всп лист'!$B$2,ROUNDUP(E13*(1-$T$1)/'Всп лист'!$C$3*'Всп лист'!$B$3*'Всп лист'!$B$4,0)),"-" ) -> 486 | X13: =IFERROR(IF('Установка скидки'!$M$1=FALSE,F13*(1-$T$1)/'Всп лист'!$B$2,ROUNDUP(F13*(1-$T$1)/'Всп лист'!$C$3*'Всп лист'!$B$3*'Всп лист'!$B$4,0)),"-" ) -> 503 | Y13: =IFERROR(IF('Установка скидки'!$M$1=FALSE,G13*(1-$T$1)/'Всп лист'!$B$2,ROUNDUP(G13*(1-$T$1)/'Всп лист'!$C$3*'Всп лист'!$B$3*'Всп лист'!$B$4,0)),"-" ) -> 548 | Z13: =IFERROR(IF('Установка скидки'!$M$1=FALSE,H13*(1-$T$1)/'Всп лист'!$B$2,ROUNDUP(H13*(1-$T$1)/'Всп лист'!$C$3*'Всп лист'!$B$3*'Всп лист'!$B$4,0)),"-" ) -> 544 | AA13: =IFERROR(IF('Установка скидки'!$M$1=FALSE,I13*(1-$T$1)/'Всп лист'!$B$2,ROUNDUP(I13*(1-$T$1)/'Всп лист'!$C$3*'Всп лист'!$B$3*'Всп лист'!$B$4,0)),"-" ) -> 658 | ... AG13: =IFERROR(IF('Установка скидки'!$M$1=FALSE,O13*(1-$T$1)/'Всп лист'!$B$2,ROUNDUP(O13*(1-$T$1)/'Всп лист'!$C$3*'Всп лист'!$B$3*'Всп лист'!$B$4,0)),"-" ) -> 1121
A14: Отвод 45 OM-Р (430-0,8) | B14: - | C14: - | D14: - | E14: 698 | F14: 727 | G14: - | H14: 786 | I14: - | J14: - | K14: 1061 | L14: - | M14: 1243 | N14: 1370 | O14: 1655 | S14: Отвод 45 OM-Р (430-0,8) | T14: =IFERROR(IF('Установка скидки'!$M$1=FALSE,B14*(1-$T$1)/'Всп лист'!$B$2,ROUNDUP(B14*(1-$T$1)/'Всп лист'!$C$3*'Всп лист'!$B$3*'Всп лист'!$B$4,0)),"-" ) -> - | U14: =IFERROR(IF('Установка скидки'!$M$1=FALSE,C14*(1-$T$1)/'Всп лист'!$B$2,ROUNDUP(C14*(1-$T$1)/'Всп лист'!$C$3*'Всп лист'!$B$3*'Всп лист'!$B$4,0)),"-" ) -> - | V14: =IFERROR(IF('Установка скидки'!$M$1=FALSE,D14*(1-$T$1)/'Всп лист'!$B$2,ROUNDUP(D14*(1-$T$1)/'Всп лист'!$C$3*'Всп лист'!$B$3*'Всп лист'!$B$4,0)),"-" ) -> - | W14: =IFERROR(IF('Установка скидки'!$M$1=FALSE,E14*(1-$T$1)/'Всп лист'!$B$2,ROUNDUP(E14*(1-$T$1)/'Всп лист'!$C$3*'Всп лист'!$B$3*'Всп лист'!$B$4,0)),"-" ) -> 698 | X14: =IFERROR(IF('Установка скидки'!$M$1=FALSE,F14*(1-$T$1)/'Всп лист'!$B$2,ROUNDUP(F14*(1-$T$1)/'Всп лист'!$C$3*'Всп лист'!$B$3*'Всп лист'!$B$4,0)),"-" ) -> 727 | Y14: =IFERROR(IF('Установка скидки'!$M$1=FALSE,G14*(1-$T$1)/'Всп лист'!$B$2,ROUNDUP(G14*(1-$T$1)/'Всп лист'!$C$3*'Всп лист'!$B$3*'Всп лист'!$B$4,0)),"-" ) -> - | Z14: =IFERROR(IF('Установка скидки'!$M$1=FALSE,H14*(1-$T$1)/'Всп лист'!$B$2,ROUNDUP(H14*(1-$T$1)/'Всп лист'!$C$3*'Всп лист'!$B$3*'Всп лист'!$B$4,0)),"-" ) -> 786 | AA14: =IFERROR(IF('Установка скидки'!$M$1=FALSE,I14*(1-$T$1)/'Всп лист'!$B$2,ROUNDUP(I14*(1-$T$1)/'Всп лист'!$C$3*'Всп лист'!$B$3*'Всп лист'!$B$4,0)),"-" ) -> - | ... AG14: =IFERROR(IF('Установка скидки'!$M$1=FALSE,O14*(1-$T$1)/'Всп лист'!$B$2,ROUNDUP(O14*(1-$T$1)/'Всп лист'!$C$3*'Всп лист'!$B$3*'Всп лист'!$B$4,0)),"-" ) -> 1655
A15: Отвод 87 OM-Р (430-0,5) | B15: 578 | C15: 557 | D15: 601 | E15: 580 | F15: 587 | G15: 639 | H15: 634 | I15: 844 | J15: 876 | K15: 908 | L15: 963 | M15: 1076 | N15: 1177 | O15: 1432 | S15: Отвод 87 OM-Р (430-0,5) | T15: =IFERROR(IF('Установка скидки'!$M$1=FALSE,B15*(1-$T$1)/'Всп лист'!$B$2,ROUNDUP(B15*(1-$T$1)/'Всп лист'!$C$3*'Всп лист'!$B$3*'Всп лист'!$B$4,0)),"-" ) -> 578 | U15: =IFERROR(IF('Установка скидки'!$M$1=FALSE,C15*(1-$T$1)/'Всп лист'!$B$2,ROUNDUP(C15*(1-$T$1)/'Всп лист'!$C$3*'Всп лист'!$B$3*'Всп лист'!$B$4,0)),"-" ) -> 557 | V15: =IFERROR(IF('Установка скидки'!$M$1=FALSE,D15*(1-$T$1)/'Всп лист'!$B$2,ROUNDUP(D15*(1-$T$1)/'Всп лист'!$C$3*'Всп лист'!$B$3*'Всп лист'!$B$4,0)),"-" ) -> 601 | W15: =IFERROR(IF('Установка скидки'!$M$1=FALSE,E15*(1-$T$1)/'Всп лист'!$B$2,ROUNDUP(E15*(1-$T$1)/'Всп лист'!$C$3*'Всп лист'!$B$3*'Всп лист'!$B$4,0)),"-" ) -> 580 | X15: =IFERROR(IF('Установка скидки'!$M$1=FALSE,F15*(1-$T$1)/'Всп лист'!$B$2,ROUNDUP(F15*(1-$T$1)/'Всп лист'!$C$3*'Всп лист'!$B$3*'Всп лист'!$B$4,0)),"-" ) -> 587 | Y15: =IFERROR(IF('Установка скидки'!$M$1=FALSE,G15*(1-$T$1)/'Всп лист'!$B$2,ROUNDUP(G15*(1-$T$1)/'Всп лист'!$C$3*'Всп лист'!$B$3*'Всп лист'!$B$4,0)),"-" ) -> 639 | Z15: =IFERROR(IF('Установка скидки'!$M$1=FALSE,H15*(1-$T$1)/'Всп лист'!$B$2,ROUNDUP(H15*(1-$T$1)/'Всп лист'!$C$3*'Всп лист'!$B$3*'Всп лист'!$B$4,0)),"-" ) -> 634 | AA15: =IFERROR(IF('Установка скидки'!$M$1=FALSE,I15*(1-$T$1)/'Всп лист'!$B$2,ROUNDUP(I15*(1-$T$1)/'Всп лист'!$C$3*'Всп лист'!$B$3*'Всп лист'!$B$4,0)),"-" ) -> 844 | ... AG15: =IFERROR(IF('Установка скидки'!$M$1=FALSE,O15*(1-$T$1)/'Всп лист'!$B$2,ROUNDUP(O15*(1-$T$1)/'Всп лист'!$C$3*'Всп лист'!$B$3*'Всп лист'!$B$4,0)),"-" ) -> 1432
A16: Отвод 87 OM-Р (430-0,8) | B16: - | C16: - | D16: - | E16: 844 | F16: 870 | G16: - | H16: 940 | I16: - | J16: - | K16: 1375 | L16: - | M16: 1648 | N16: 1785 | O16: 2253 | S16: Отвод 87 OM-Р (430-0,8) | T16: =IFERROR(IF('Установка скидки'!$M$1=FALSE,B16*(1-$T$1)/'Всп лист'!$B$2,ROUNDUP(B16*(1-$T$1)/'Всп лист'!$C$3*'Всп лист'!$B$3*'Всп лист'!$B$4,0)),"-" ) -> - | U16: =IFERROR(IF('Установка скидки'!$M$1=FALSE,C16*(1-$T$1)/'Всп лист'!$B$2,ROUNDUP(C16*(1-$T$1)/'Всп лист'!$C$3*'Всп лист'!$B$3*'Всп лист'!$B$4,0)),"-" ) -> - | V16: =IFERROR(IF('Установка скидки'!$M$1=FALSE,D16*(1-$T$1)/'Всп лист'!$B$2,ROUNDUP(D16*(1-$T$1)/'Всп лист'!$C$3*'Всп лист'!$B$3*'Всп лист'!$B$4,0)),"-" ) -> - | W16: =IFERROR(IF('Установка скидки'!$M$1=FALSE,E16*(1-$T$1)/'Всп лист'!$B$2,ROUNDUP(E16*(1-$T$1)/'Всп лист'!$C$3*'Всп лист'!$B$3*'Всп лист'!$B$4,0)),"-" ) -> 844 | X16: =IFERROR(IF('Установка скидки'!$M$1=FALSE,F16*(1-$T$1)/'Всп лист'!$B$2,ROUNDUP(F16*(1-$T$1)/'Всп лист'!$C$3*'Всп лист'!$B$3*'Всп лист'!$B$4,0)),"-" ) -> 870 | Y16: =IFERROR(IF('Установка скидки'!$M$1=FALSE,G16*(1-$T$1)/'Всп лист'!$B$2,ROUNDUP(G16*(1-$T$1)/'Всп лист'!$C$3*'Всп лист'!$B$3*'Всп лист'!$B$4,0)),"-" ) -> - | Z16: =IFERROR(IF('Установка скидки'!$M$1=FALSE,H16*(1-$T$1)/'Всп лист'!$B$2,ROUNDUP(H16*(1-$T$1)/'Всп лист'!$C$3*'Всп лист'!$B$3*'Всп лист'!$B$4,0)),"-" ) -> 940 | AA16: =IFERROR(IF('Установка скидки'!$M$1=FALSE,I16*(1-$T$1)/'Всп лист'!$B$2,ROUNDUP(I16*(1-$T$1)/'Всп лист'!$C$3*'Всп лист'!$B$3*'Всп лист'!$B$4,0)),"-" ) -> - | ... AG16: =IFERROR(IF('Установка скидки'!$M$1=FALSE,O16*(1-$T$1)/'Всп лист'!$B$2,ROUNDUP(O16*(1-$T$1)/'Всп лист'!$C$3*'Всп лист'!$B$3*'Всп лист'!$B$4,0)),"-" ) -> 2253
A17: Площадка монтажная Моно ПММ-Р (430-0,5) | B17: 862 | C17: 1059 | D17: 1155 | E17: - | F17: - | G17: - | H17: - | I17: - | J17: - | K17: - | L17: - | M17: - | N17: - | O17: - | S17: Площадка монтажная Моно ПММ-Р (430-0,5) | T17: =IFERROR(IF('Установка скидки'!$M$1=FALSE,B17*(1-$T$1)/'Всп лист'!$B$2,ROUNDUP(B17*(1-$T$1)/'Всп лист'!$C$3*'Всп лист'!$B$3*'Всп лист'!$B$4,0)),"-" ) -> 862 | U17: =IFERROR(IF('Установка скидки'!$M$1=FALSE,C17*(1-$T$1)/'Всп лист'!$B$2,ROUNDUP(C17*(1-$T$1)/'Всп лист'!$C$3*'Всп лист'!$B$3*'Всп лист'!$B$4,0)),"-" ) -> 1059 | V17: =IFERROR(IF('Установка скидки'!$M$1=FALSE,D17*(1-$T$1)/'Всп лист'!$B$2,ROUNDUP(D17*(1-$T$1)/'Всп лист'!$C$3*'Всп лист'!$B$3*'Всп лист'!$B$4,0)),"-" ) -> 1155 | W17: =IFERROR(IF('Установка скидки'!$M$1=FALSE,E17*(1-$T$1)/'Всп лист'!$B$2,ROUNDUP(E17*(1-$T$1)/'Всп лист'!$C$3*'Всп лист'!$B$3*'Всп лист'!$B$4,0)),"-" ) -> - | X17: =IFERROR(IF('Установка скидки'!$M$1=FALSE,F17*(1-$T$1)/'Всп лист'!$B$2,ROUNDUP(F17*(1-$T$1)/'Всп лист'!$C$3*'Всп лист'!$B$3*'Всп лист'!$B$4,0)),"-" ) -> - | Y17: =IFERROR(IF('Установка скидки'!$M$1=FALSE,G17*(1-$T$1)/'Всп лист'!$B$2,ROUNDUP(G17*(1-$T$1)/'Всп лист'!$C$3*'Всп лист'!$B$3*'Всп лист'!$B$4,0)),"-" ) -> - | Z17: =IFERROR(IF('Установка скидки'!$M$1=FALSE,H17*(1-$T$1)/'Всп лист'!$B$2,ROUNDUP(H17*(1-$T$1)/'Всп лист'!$C$3*'Всп лист'!$B$3*'Всп лист'!$B$4,0)),"-" ) -> - | AA17: =IFERROR(IF('Установка скидки'!$M$1=FALSE,I17*(1-$T$1)/'Всп лист'!$B$2,ROUNDUP(I17*(1-$T$1)/'Всп лист'!$C$3*'Всп лист'!$B$3*'Всп лист'!$B$4,0)),"-" ) -> - | ... AG17: =IFERROR(IF('Установка скидки'!$M$1=FALSE,O17*(1-$T$1)/'Всп лист'!$B$2,ROUNDUP(O17*(1-$T$1)/'Всп лист'!$C$3*'Всп лист'!$B$3*'Всп лист'!$B$4,0)),"-" ) -> -
A18: Площадка монтажная Моно ПММ-Р (430-0,8) | B18: - | C18: - | D18: - | E18: 1306 | F18: 1356 | G18: 1404 | H18: 1467 | I18: 1501 | J18: 1588 | K18: 1684 | L18: 1798 | M18: 2073 | N18: 2297 | O18: 2922 | S18: Площадка монтажная Моно ПММ-Р (430-0,8) | T18: =IFERROR(IF('Установка скидки'!$M$1=FALSE,B18*(1-$T$1)/'Всп лист'!$B$2,ROUNDUP(B18*(1-$T$1)/'Всп лист'!$C$3*'Всп лист'!$B$3*'Всп лист'!$B$4,0)),"-" ) -> - | U18: =IFERROR(IF('Установка скидки'!$M$1=FALSE,C18*(1-$T$1)/'Всп лист'!$B$2,ROUNDUP(C18*(1-$T$1)/'Всп лист'!$C$3*'Всп лист'!$B$3*'Всп лист'!$B$4,0)),"-" ) -> - | V18: =IFERROR(IF('Установка скидки'!$M$1=FALSE,D18*(1-$T$1)/'Всп лист'!$B$2,ROUNDUP(D18*(1-$T$1)/'Всп лист'!$C$3*'Всп лист'!$B$3*'Всп лист'!$B$4,0)),"-" ) -> - | W18: =IFERROR(IF('Установка скидки'!$M$1=FALSE,E18*(1-$T$1)/'Всп лист'!$B$2,ROUNDUP(E18*(1-$T$1)/'Всп лист'!$C$3*'Всп лист'!$B$3*'Всп лист'!$B$4,0)),"-" ) -> 1306 | X18: =IFERROR(IF('Установка скидки'!$M$1=FALSE,F18*(1-$T$1)/'Всп лист'!$B$2,ROUNDUP(F18*(1-$T$1)/'Всп лист'!$C$3*'Всп лист'!$B$3*'Всп лист'!$B$4,0)),"-" ) -> 1356 | Y18: =IFERROR(IF('Установка скидки'!$M$1=FALSE,G18*(1-$T$1)/'Всп лист'!$B$2,ROUNDUP(G18*(1-$T$1)/'Всп лист'!$C$3*'Всп лист'!$B$3*'Всп лист'!$B$4,0)),"-" ) -> 1404 | Z18: =IFERROR(IF('Установка скидки'!$M$1=FALSE,H18*(1-$T$1)/'Всп лист'!$B$2,ROUNDUP(H18*(1-$T$1)/'Всп лист'!$C$3*'Всп лист'!$B$3*'Всп лист'!$B$4,0)),"-" ) -> 1467 | AA18: =IFERROR(IF('Установка скидки'!$M$1=FALSE,I18*(1-$T$1)/'Всп лист'!$B$2,ROUNDUP(I18*(1-$T$1)/'Всп лист'!$C$3*'Всп лист'!$B$3*'Всп лист'!$B$4,0)),"-" ) -> 1501 | ... AG18: =IFERROR(IF('Установка скидки'!$M$1=FALSE,O18*(1-$T$1)/'Всп лист'!$B$2,ROUNDUP(O18*(1-$T$1)/'Всп лист'!$C$3*'Всп лист'!$B$3*'Всп лист'!$B$4,0)),"-" ) -> 2922
A19: ППШ Паро-перегреватель трубный L495мм (430-0,8) | B19: - | C19: - | D19: - | E19: - | F19: - | G19: - | H19: - | I19: - | J19: - | K19: - | L19: - | M19: - | N19: - | O19: - | S19: ППШ Паро-перегреватель трубный L495мм (430-0,8) | T19: =IFERROR(IF('Установка скидки'!$M$1=FALSE,B19*(1-$T$1)/'Всп лист'!$B$2,ROUNDUP(B19*(1-$T$1)/'Всп лист'!$C$3*'Всп лист'!$B$3*'Всп лист'!$B$4,0)),"-" ) -> - | U19: =IFERROR(IF('Установка скидки'!$M$1=FALSE,C19*(1-$T$1)/'Всп лист'!$B$2,ROUNDUP(C19*(1-$T$1)/'Всп лист'!$C$3*'Всп лист'!$B$3*'Всп лист'!$B$4,0)),"-" ) -> - | V19: =IFERROR(IF('Установка скидки'!$M$1=FALSE,D19*(1-$T$1)/'Всп лист'!$B$2,ROUNDUP(D19*(1-$T$1)/'Всп лист'!$C$3*'Всп лист'!$B$3*'Всп лист'!$B$4,0)),"-" ) -> - | W19: =IFERROR(IF('Установка скидки'!$M$1=FALSE,E19*(1-$T$1)/'Всп лист'!$B$2,ROUNDUP(E19*(1-$T$1)/'Всп лист'!$C$3*'Всп лист'!$B$3*'Всп лист'!$B$4,0)),"-" ) -> - | X19: =IFERROR(IF('Установка скидки'!$M$1=FALSE,F19*(1-$T$1)/'Всп лист'!$B$2,ROUNDUP(F19*(1-$T$1)/'Всп лист'!$C$3*'Всп лист'!$B$3*'Всп лист'!$B$4,0)),"-" ) -> - | Y19: =IFERROR(IF('Установка скидки'!$M$1=FALSE,G19*(1-$T$1)/'Всп лист'!$B$2,ROUNDUP(G19*(1-$T$1)/'Всп лист'!$C$3*'Всп лист'!$B$3*'Всп лист'!$B$4,0)),"-" ) -> - | Z19: =IFERROR(IF('Установка скидки'!$M$1=FALSE,H19*(1-$T$1)/'Всп лист'!$B$2,ROUNDUP(H19*(1-$T$1)/'Всп лист'!$C$3*'Всп лист'!$B$3*'Всп лист'!$B$4,0)),"-" ) -> - | AA19: =IFERROR(IF('Установка скидки'!$M$1=FALSE,I19*(1-$T$1)/'Всп лист'!$B$2,ROUNDUP(I19*(1-$T$1)/'Всп лист'!$C$3*'Всп лист'!$B$3*'Всп лист'!$B$4,0)),"-" ) -> - | ... AG19: =IFERROR(IF('Установка скидки'!$M$1=FALSE,O19*(1-$T$1)/'Всп лист'!$B$2,ROUNDUP(O19*(1-$T$1)/'Всп лист'!$C$3*'Всп лист'!$B$3*'Всп лист'!$B$4,0)),"-" ) -> -
A20: Тройник 45 ТРМ(М)-Р (430-0,5) | B20: 1463 | C20: - | D20: - | E20: - | F20: - | G20: - | H20: - | I20: - | J20: - | K20: - | L20: - | M20: - | N20: - | O20: - | S20: Тройник 45 ТРМ(М)-Р (430-0,5) | T20: =IFERROR(IF('Установка скидки'!$M$1=FALSE,B20*(1-$T$1)/'Всп лист'!$B$2,ROUNDUP(B20*(1-$T$1)/'Всп лист'!$C$3*'Всп лист'!$B$3*'Всп лист'!$B$4,0)),"-" ) -> 1463 | U20: =IFERROR(IF('Установка скидки'!$M$1=FALSE,C20*(1-$T$1)/'Всп лист'!$B$2,ROUNDUP(C20*(1-$T$1)/'Всп лист'!$C$3*'Всп лист'!$B$3*'Всп лист'!$B$4,0)),"-" ) -> - | V20: =IFERROR(IF('Установка скидки'!$M$1=FALSE,D20*(1-$T$1)/'Всп лист'!$B$2,ROUNDUP(D20*(1-$T$1)/'Всп лист'!$C$3*'Всп лист'!$B$3*'Всп лист'!$B$4,0)),"-" ) -> - | W20: =IFERROR(IF('Установка скидки'!$M$1=FALSE,E20*(1-$T$1)/'Всп лист'!$B$2,ROUNDUP(E20*(1-$T$1)/'Всп лист'!$C$3*'Всп лист'!$B$3*'Всп лист'!$B$4,0)),"-" ) -> - | X20: =IFERROR(IF('Установка скидки'!$M$1=FALSE,F20*(1-$T$1)/'Всп лист'!$B$2,ROUNDUP(F20*(1-$T$1)/'Всп лист'!$C$3*'Всп лист'!$B$3*'Всп лист'!$B$4,0)),"-" ) -> - | Y20: =IFERROR(IF('Установка скидки'!$M$1=FALSE,G20*(1-$T$1)/'Всп лист'!$B$2,ROUNDUP(G20*(1-$T$1)/'Всп лист'!$C$3*'Всп лист'!$B$3*'Всп лист'!$B$4,0)),"-" ) -> - | Z20: =IFERROR(IF('Установка скидки'!$M$1=FALSE,H20*(1-$T$1)/'Всп лист'!$B$2,ROUNDUP(H20*(1-$T$1)/'Всп лист'!$C$3*'Всп лист'!$B$3*'Всп лист'!$B$4,0)),"-" ) -> - | AA20: =IFERROR(IF('Установка скидки'!$M$1=FALSE,I20*(1-$T$1)/'Всп лист'!$B$2,ROUNDUP(I20*(1-$T$1)/'Всп лист'!$C$3*'Всп лист'!$B$3*'Всп лист'!$B$4,0)),"-" ) -> - | ... AG20: =IFERROR(IF('Установка скидки'!$M$1=FALSE,O20*(1-$T$1)/'Всп лист'!$B$2,ROUNDUP(O20*(1-$T$1)/'Всп лист'!$C$3*'Всп лист'!$B$3*'Всп лист'!$B$4,0)),"-" ) -> -
A21: Тройник 45 ТРМ(М)-Р (430-0,8) | B21: - | C21: - | D21: - | E21: 2177 | F21: 2310 | G21: - | H21: 2584 | I21: - | J21: - | K21: 3238 | L21: - | M21: 4400 | N21: 5240 | O21: 7453 | S21: Тройник 45 ТРМ(М)-Р (430-0,8) | T21: =IFERROR(IF('Установка скидки'!$M$1=FALSE,B21*(1-$T$1)/'Всп лист'!$B$2,ROUNDUP(B21*(1-$T$1)/'Всп лист'!$C$3*'Всп лист'!$B$3*'Всп лист'!$B$4,0)),"-" ) -> - | U21: =IFERROR(IF('Установка скидки'!$M$1=FALSE,C21*(1-$T$1)/'Всп лист'!$B$2,ROUNDUP(C21*(1-$T$1)/'Всп лист'!$C$3*'Всп лист'!$B$3*'Всп лист'!$B$4,0)),"-" ) -> - | V21: =IFERROR(IF('Установка скидки'!$M$1=FALSE,D21*(1-$T$1)/'Всп лист'!$B$2,ROUNDUP(D21*(1-$T$1)/'Всп лист'!$C$3*'Всп лист'!$B$3*'Всп лист'!$B$4,0)),"-" ) -> - | W21: =IFERROR(IF('Установка скидки'!$M$1=FALSE,E21*(1-$T$1)/'Всп лист'!$B$2,ROUNDUP(E21*(1-$T$1)/'Всп лист'!$C$3*'Всп лист'!$B$3*'Всп лист'!$B$4,0)),"-" ) -> 2177 | X21: =IFERROR(IF('Установка скидки'!$M$1=FALSE,F21*(1-$T$1)/'Всп лист'!$B$2,ROUNDUP(F21*(1-$T$1)/'Всп лист'!$C$3*'Всп лист'!$B$3*'Всп лист'!$B$4,0)),"-" ) -> 2310 | Y21: =IFERROR(IF('Установка скидки'!$M$1=FALSE,G21*(1-$T$1)/'Всп лист'!$B$2,ROUNDUP(G21*(1-$T$1)/'Всп лист'!$C$3*'Всп лист'!$B$3*'Всп лист'!$B$4,0)),"-" ) -> - | Z21: =IFERROR(IF('Установка скидки'!$M$1=FALSE,H21*(1-$T$1)/'Всп лист'!$B$2,ROUNDUP(H21*(1-$T$1)/'Всп лист'!$C$3*'Всп лист'!$B$3*'Всп лист'!$B$4,0)),"-" ) -> 2584 | AA21: =IFERROR(IF('Установка скидки'!$M$1=FALSE,I21*(1-$T$1)/'Всп лист'!$B$2,ROUNDUP(I21*(1-$T$1)/'Всп лист'!$C$3*'Всп лист'!$B$3*'Всп лист'!$B$4,0)),"-" ) -> - | ... AG21: =IFERROR(IF('Установка скидки'!$M$1=FALSE,O21*(1-$T$1)/'Всп лист'!$B$2,ROUNDUP(O21*(1-$T$1)/'Всп лист'!$C$3*'Всп лист'!$B$3*'Всп лист'!$B$4,0)),"-" ) -> 7453
A22: Тройник 45 ТРМ(М)-Р (по дыму) (430-0,5) | B22: --- | C22: --- | D22: - | E22: - | F22: - | G22: - | H22: - | I22: - | J22: - | K22: - | L22: - | M22: - | N22: - | O22: - | S22: Тройник 45 ТРМ(М)-Р (по дыму) (430-0,5) | T22: =IFERROR(IF('Установка скидки'!$M$1=FALSE,B22*(1-$T$1)/'Всп лист'!$B$2,ROUNDUP(B22*(1-$T$1)/'Всп лист'!$C$3*'Всп лист'!$B$3*'Всп лист'!$B$4,0)),"-" ) -> - | U22: =IFERROR(IF('Установка скидки'!$M$1=FALSE,C22*(1-$T$1)/'Всп лист'!$B$2,ROUNDUP(C22*(1-$T$1)/'Всп лист'!$C$3*'Всп лист'!$B$3*'Всп лист'!$B$4,0)),"-" ) -> - | V22: =IFERROR(IF('Установка скидки'!$M$1=FALSE,D22*(1-$T$1)/'Всп лист'!$B$2,ROUNDUP(D22*(1-$T$1)/'Всп лист'!$C$3*'Всп лист'!$B$3*'Всп лист'!$B$4,0)),"-" ) -> - | W22: =IFERROR(IF('Установка скидки'!$M$1=FALSE,E22*(1-$T$1)/'Всп лист'!$B$2,ROUNDUP(E22*(1-$T$1)/'Всп лист'!$C$3*'Всп лист'!$B$3*'Всп лист'!$B$4,0)),"-" ) -> - | X22: =IFERROR(IF('Установка скидки'!$M$1=FALSE,F22*(1-$T$1)/'Всп лист'!$B$2,ROUNDUP(F22*(1-$T$1)/'Всп лист'!$C$3*'Всп лист'!$B$3*'Всп лист'!$B$4,0)),"-" ) -> - | Y22: =IFERROR(IF('Установка скидки'!$M$1=FALSE,G22*(1-$T$1)/'Всп лист'!$B$2,ROUNDUP(G22*(1-$T$1)/'Всп лист'!$C$3*'Всп лист'!$B$3*'Всп лист'!$B$4,0)),"-" ) -> - | Z22: =IFERROR(IF('Установка скидки'!$M$1=FALSE,H22*(1-$T$1)/'Всп лист'!$B$2,ROUNDUP(H22*(1-$T$1)/'Всп лист'!$C$3*'Всп лист'!$B$3*'Всп лист'!$B$4,0)),"-" ) -> - | AA22: =IFERROR(IF('Установка скидки'!$M$1=FALSE,I22*(1-$T$1)/'Всп лист'!$B$2,ROUNDUP(I22*(1-$T$1)/'Всп лист'!$C$3*'Всп лист'!$B$3*'Всп лист'!$B$4,0)),"-" ) -> - | ... AG22: =IFERROR(IF('Установка скидки'!$M$1=FALSE,O22*(1-$T$1)/'Всп лист'!$B$2,ROUNDUP(O22*(1-$T$1)/'Всп лист'!$C$3*'Всп лист'!$B$3*'Всп лист'!$B$4,0)),"-" ) -> -
A23: Тройник 87 ТРМ(М)-Р (430-0,5) | B23: 704 | C23: 911 | D23: 969 | E23: 911 | F23: 950 | G23: - | H23: 1006 | I23: - | J23: - | K23: 1262 | L23: 1345 | M23: 1474 | N23: 1600 | O23: 2123 | S23: Тройник 87 ТРМ(М)-Р (430-0,5) | T23: =IFERROR(IF('Установка скидки'!$M$1=FALSE,B23*(1-$T$1)/'Всп лист'!$B$2,ROUNDUP(B23*(1-$T$1)/'Всп лист'!$C$3*'Всп лист'!$B$3*'Всп лист'!$B$4,0)),"-" ) -> 704 | U23: =IFERROR(IF('Установка скидки'!$M$1=FALSE,C23*(1-$T$1)/'Всп лист'!$B$2,ROUNDUP(C23*(1-$T$1)/'Всп лист'!$C$3*'Всп лист'!$B$3*'Всп лист'!$B$4,0)),"-" ) -> 911 | V23: =IFERROR(IF('Установка скидки'!$M$1=FALSE,D23*(1-$T$1)/'Всп лист'!$B$2,ROUNDUP(D23*(1-$T$1)/'Всп лист'!$C$3*'Всп лист'!$B$3*'Всп лист'!$B$4,0)),"-" ) -> 969 | W23: =IFERROR(IF('Установка скидки'!$M$1=FALSE,E23*(1-$T$1)/'Всп лист'!$B$2,ROUNDUP(E23*(1-$T$1)/'Всп лист'!$C$3*'Всп лист'!$B$3*'Всп лист'!$B$4,0)),"-" ) -> 911 | X23: =IFERROR(IF('Установка скидки'!$M$1=FALSE,F23*(1-$T$1)/'Всп лист'!$B$2,ROUNDUP(F23*(1-$T$1)/'Всп лист'!$C$3*'Всп лист'!$B$3*'Всп лист'!$B$4,0)),"-" ) -> 950 | Y23: =IFERROR(IF('Установка скидки'!$M$1=FALSE,G23*(1-$T$1)/'Всп лист'!$B$2,ROUNDUP(G23*(1-$T$1)/'Всп лист'!$C$3*'Всп лист'!$B$3*'Всп лист'!$B$4,0)),"-" ) -> - | Z23: =IFERROR(IF('Установка скидки'!$M$1=FALSE,H23*(1-$T$1)/'Всп лист'!$B$2,ROUNDUP(H23*(1-$T$1)/'Всп лист'!$C$3*'Всп лист'!$B$3*'Всп лист'!$B$4,0)),"-" ) -> 1006 | AA23: =IFERROR(IF('Установка скидки'!$M$1=FALSE,I23*(1-$T$1)/'Всп лист'!$B$2,ROUNDUP(I23*(1-$T$1)/'Всп лист'!$C$3*'Всп лист'!$B$3*'Всп лист'!$B$4,0)),"-" ) -> - | ... AG23: =IFERROR(IF('Установка скидки'!$M$1=FALSE,O23*(1-$T$1)/'Всп лист'!$B$2,ROUNDUP(O23*(1-$T$1)/'Всп лист'!$C$3*'Всп лист'!$B$3*'Всп лист'!$B$4,0)),"-" ) -> 2123
A24: Тройник 87 ТРМ(М)-Р (430-0,8) | B24: - | C24: - | D24: - | E24: 1532 | F24: 1597 | G24: - | H24: 1725 | I24: - | J24: - | K24: 2159 | L24: - | M24: 2500 | N24: 2768 | O24: 3555 | S24: Тройник 87 ТРМ(М)-Р (430-0,8) | T24: =IFERROR(IF('Установка скидки'!$M$1=FALSE,B24*(1-$T$1)/'Всп лист'!$B$2,ROUNDUP(B24*(1-$T$1)/'Всп лист'!$C$3*'Всп лист'!$B$3*'Всп лист'!$B$4,0)),"-" ) -> - | U24: =IFERROR(IF('Установка скидки'!$M$1=FALSE,C24*(1-$T$1)/'Всп лист'!$B$2,ROUNDUP(C24*(1-$T$1)/'Всп лист'!$C$3*'Всп лист'!$B$3*'Всп лист'!$B$4,0)),"-" ) -> - | V24: =IFERROR(IF('Установка скидки'!$M$1=FALSE,D24*(1-$T$1)/'Всп лист'!$B$2,ROUNDUP(D24*(1-$T$1)/'Всп лист'!$C$3*'Всп лист'!$B$3*'Всп лист'!$B$4,0)),"-" ) -> - | W24: =IFERROR(IF('Установка скидки'!$M$1=FALSE,E24*(1-$T$1)/'Всп лист'!$B$2,ROUNDUP(E24*(1-$T$1)/'Всп лист'!$C$3*'Всп лист'!$B$3*'Всп лист'!$B$4,0)),"-" ) -> 1532 | X24: =IFERROR(IF('Установка скидки'!$M$1=FALSE,F24*(1-$T$1)/'Всп лист'!$B$2,ROUNDUP(F24*(1-$T$1)/'Всп лист'!$C$3*'Всп лист'!$B$3*'Всп лист'!$B$4,0)),"-" ) -> 1597 | Y24: =IFERROR(IF('Установка скидки'!$M$1=FALSE,G24*(1-$T$1)/'Всп лист'!$B$2,ROUNDUP(G24*(1-$T$1)/'Всп лист'!$C$3*'Всп лист'!$B$3*'Всп лист'!$B$4,0)),"-" ) -> - | Z24: =IFERROR(IF('Установка скидки'!$M$1=FALSE,H24*(1-$T$1)/'Всп лист'!$B$2,ROUNDUP(H24*(1-$T$1)/'Всп лист'!$C$3*'Всп лист'!$B$3*'Всп лист'!$B$4,0)),"-" ) -> 1725 | AA24: =IFERROR(IF('Установка скидки'!$M$1=FALSE,I24*(1-$T$1)/'Всп лист'!$B$2,ROUNDUP(I24*(1-$T$1)/'Всп лист'!$C$3*'Всп лист'!$B$3*'Всп лист'!$B$4,0)),"-" ) -> - | ... AG24: =IFERROR(IF('Установка скидки'!$M$1=FALSE,O24*(1-$T$1)/'Всп лист'!$B$2,ROUNDUP(O24*(1-$T$1)/'Всп лист'!$C$3*'Всп лист'!$B$3*'Всп лист'!$B$4,0)),"-" ) -> 3555
A25: Тройник 87 ТРМ(М)-Р (по дыму) (430-0,5) | B25: - | C25: 815 | D25: 889 | E25: 929 | F25: 968 | G25: --- | H25: 1077 | I25: 1205 | J25: - | K25: 1406 | L25: 1451 | M25: - | N25: 1650 | O25: - | S25: Тройник 87 ТРМ(М)-Р (по дыму) (430-0,5) | T25: =IFERROR(IF('Установка скидки'!$M$1=FALSE,B25*(1-$T$1)/'Всп лист'!$B$2,ROUNDUP(B25*(1-$T$1)/'Всп лист'!$C$3*'Всп лист'!$B$3*'Всп лист'!$B$4,0)),"-" ) -> - | U25: =IFERROR(IF('Установка скидки'!$M$1=FALSE,C25*(1-$T$1)/'Всп лист'!$B$2,ROUNDUP(C25*(1-$T$1)/'Всп лист'!$C$3*'Всп лист'!$B$3*'Всп лист'!$B$4,0)),"-" ) -> 815 | V25: =IFERROR(IF('Установка скидки'!$M$1=FALSE,D25*(1-$T$1)/'Всп лист'!$B$2,ROUNDUP(D25*(1-$T$1)/'Всп лист'!$C$3*'Всп лист'!$B$3*'Всп лист'!$B$4,0)),"-" ) -> 889 | W25: =IFERROR(IF('Установка скидки'!$M$1=FALSE,E25*(1-$T$1)/'Всп лист'!$B$2,ROUNDUP(E25*(1-$T$1)/'Всп лист'!$C$3*'Всп лист'!$B$3*'Всп лист'!$B$4,0)),"-" ) -> 929 | X25: =IFERROR(IF('Установка скидки'!$M$1=FALSE,F25*(1-$T$1)/'Всп лист'!$B$2,ROUNDUP(F25*(1-$T$1)/'Всп лист'!$C$3*'Всп лист'!$B$3*'Всп лист'!$B$4,0)),"-" ) -> 968 | Y25: =IFERROR(IF('Установка скидки'!$M$1=FALSE,G25*(1-$T$1)/'Всп лист'!$B$2,ROUNDUP(G25*(1-$T$1)/'Всп лист'!$C$3*'Всп лист'!$B$3*'Всп лист'!$B$4,0)),"-" ) -> - | Z25: =IFERROR(IF('Установка скидки'!$M$1=FALSE,H25*(1-$T$1)/'Всп лист'!$B$2,ROUNDUP(H25*(1-$T$1)/'Всп лист'!$C$3*'Всп лист'!$B$3*'Всп лист'!$B$4,0)),"-" ) -> 1077 | AA25: =IFERROR(IF('Установка скидки'!$M$1=FALSE,I25*(1-$T$1)/'Всп лист'!$B$2,ROUNDUP(I25*(1-$T$1)/'Всп лист'!$C$3*'Всп лист'!$B$3*'Всп лист'!$B$4,0)),"-" ) -> 1205 | ... AG25: =IFERROR(IF('Установка скидки'!$M$1=FALSE,O25*(1-$T$1)/'Всп лист'!$B$2,ROUNDUP(O25*(1-$T$1)/'Всп лист'!$C$3*'Всп лист'!$B$3*'Всп лист'!$B$4,0)),"-" ) -> -
A26: Тройник 87 ТРМ(М)-Р (по дыму) (430-0,8) | B26: - | C26: - | D26: - | E26: 1669 | F26: 1739 | G26: - | H26: 1879 | I26: - | J26: - | K26: 2201 | L26: - | M26: - | N26: 3044 | O26: - | S26: Тройник 87 ТРМ(М)-Р (по дыму) (430-0,8) | T26: =IFERROR(IF('Установка скидки'!$M$1=FALSE,B26*(1-$T$1)/'Всп лист'!$B$2,ROUNDUP(B26*(1-$T$1)/'Всп лист'!$C$3*'Всп лист'!$B$3*'Всп лист'!$B$4,0)),"-" ) -> - | U26: =IFERROR(IF('Установка скидки'!$M$1=FALSE,C26*(1-$T$1)/'Всп лист'!$B$2,ROUNDUP(C26*(1-$T$1)/'Всп лист'!$C$3*'Всп лист'!$B$3*'Всп лист'!$B$4,0)),"-" ) -> - | V26: =IFERROR(IF('Установка скидки'!$M$1=FALSE,D26*(1-$T$1)/'Всп лист'!$B$2,ROUNDUP(D26*(1-$T$1)/'Всп лист'!$C$3*'Всп лист'!$B$3*'Всп лист'!$B$4,0)),"-" ) -> - | W26: =IFERROR(IF('Установка скидки'!$M$1=FALSE,E26*(1-$T$1)/'Всп лист'!$B$2,ROUNDUP(E26*(1-$T$1)/'Всп лист'!$C$3*'Всп лист'!$B$3*'Всп лист'!$B$4,0)),"-" ) -> 1669 | X26: =IFERROR(IF('Установка скидки'!$M$1=FALSE,F26*(1-$T$1)/'Всп лист'!$B$2,ROUNDUP(F26*(1-$T$1)/'Всп лист'!$C$3*'Всп лист'!$B$3*'Всп лист'!$B$4,0)),"-" ) -> 1739 | Y26: =IFERROR(IF('Установка скидки'!$M$1=FALSE,G26*(1-$T$1)/'Всп лист'!$B$2,ROUNDUP(G26*(1-$T$1)/'Всп лист'!$C$3*'Всп лист'!$B$3*'Всп лист'!$B$4,0)),"-" ) -> - | Z26: =IFERROR(IF('Установка скидки'!$M$1=FALSE,H26*(1-$T$1)/'Всп лист'!$B$2,ROUNDUP(H26*(1-$T$1)/'Всп лист'!$C$3*'Всп лист'!$B$3*'Всп лист'!$B$4,0)),"-" ) -> 1879 | AA26: =IFERROR(IF('Установка скидки'!$M$1=FALSE,I26*(1-$T$1)/'Всп лист'!$B$2,ROUNDUP(I26*(1-$T$1)/'Всп лист'!$C$3*'Всп лист'!$B$3*'Всп лист'!$B$4,0)),"-" ) -> - | ... AG26: =IFERROR(IF('Установка скидки'!$M$1=FALSE,O26*(1-$T$1)/'Всп лист'!$B$2,ROUNDUP(O26*(1-$T$1)/'Всп лист'!$C$3*'Всп лист'!$B$3*'Всп лист'!$B$4,0)),"-" ) -> -
A27: Труба L1000 ТМ-Р (430-0,5) | B27: 663 | C27: 815 | D27: 889 | E27: 894 | F27: 931 | G27: 1014 | H27: 1006 | I27: 1096 | J27: 1138 | K27: 1180 | L27: 1319 | M27: 1474 | N27: 1634 | O27: 2075 | S27: Труба L1000 ТМ-Р (430-0,5) | T27: =IFERROR(IF('Установка скидки'!$M$1=FALSE,B27*(1-$T$1)/'Всп лист'!$B$2,ROUNDUP(B27*(1-$T$1)/'Всп лист'!$C$3*'Всп лист'!$B$3*'Всп лист'!$B$4,0)),"-" ) -> 663 | U27: =IFERROR(IF('Установка скидки'!$M$1=FALSE,C27*(1-$T$1)/'Всп лист'!$B$2,ROUNDUP(C27*(1-$T$1)/'Всп лист'!$C$3*'Всп лист'!$B$3*'Всп лист'!$B$4,0)),"-" ) -> 815 | V27: =IFERROR(IF('Установка скидки'!$M$1=FALSE,D27*(1-$T$1)/'Всп лист'!$B$2,ROUNDUP(D27*(1-$T$1)/'Всп лист'!$C$3*'Всп лист'!$B$3*'Всп лист'!$B$4,0)),"-" ) -> 889 | W27: =IFERROR(IF('Установка скидки'!$M$1=FALSE,E27*(1-$T$1)/'Всп лист'!$B$2,ROUNDUP(E27*(1-$T$1)/'Всп лист'!$C$3*'Всп лист'!$B$3*'Всп лист'!$B$4,0)),"-" ) -> 894 | X27: =IFERROR(IF('Установка скидки'!$M$1=FALSE,F27*(1-$T$1)/'Всп лист'!$B$2,ROUNDUP(F27*(1-$T$1)/'Всп лист'!$C$3*'Всп лист'!$B$3*'Всп лист'!$B$4,0)),"-" ) -> 931 | Y27: =IFERROR(IF('Установка скидки'!$M$1=FALSE,G27*(1-$T$1)/'Всп лист'!$B$2,ROUNDUP(G27*(1-$T$1)/'Всп лист'!$C$3*'Всп лист'!$B$3*'Всп лист'!$B$4,0)),"-" ) -> 1014 | Z27: =IFERROR(IF('Установка скидки'!$M$1=FALSE,H27*(1-$T$1)/'Всп лист'!$B$2,ROUNDUP(H27*(1-$T$1)/'Всп лист'!$C$3*'Всп лист'!$B$3*'Всп лист'!$B$4,0)),"-" ) -> 1006 | AA27: =IFERROR(IF('Установка скидки'!$M$1=FALSE,I27*(1-$T$1)/'Всп лист'!$B$2,ROUNDUP(I27*(1-$T$1)/'Всп лист'!$C$3*'Всп лист'!$B$3*'Всп лист'!$B$4,0)),"-" ) -> 1096 | ... AG27: =IFERROR(IF('Установка скидки'!$M$1=FALSE,O27*(1-$T$1)/'Всп лист'!$B$2,ROUNDUP(O27*(1-$T$1)/'Всп лист'!$C$3*'Всп лист'!$B$3*'Всп лист'!$B$4,0)),"-" ) -> 2075
A28: Труба L1000 ТМ-Р (430-0,8) | B28: - | C28: - | D28: - | E28: 1517 | F28: 1581 | G28: - | H28: 1708 | I28: - | J28: - | K28: 2001 | L28: - | M28: 2497 | N28: 2768 | O28: 3520 | S28: Труба L1000 ТМ-Р (430-0,8) | T28: =IFERROR(IF('Установка скидки'!$M$1=FALSE,B28*(1-$T$1)/'Всп лист'!$B$2,ROUNDUP(B28*(1-$T$1)/'Всп лист'!$C$3*'Всп лист'!$B$3*'Всп лист'!$B$4,0)),"-" ) -> - | U28: =IFERROR(IF('Установка скидки'!$M$1=FALSE,C28*(1-$T$1)/'Всп лист'!$B$2,ROUNDUP(C28*(1-$T$1)/'Всп лист'!$C$3*'Всп лист'!$B$3*'Всп лист'!$B$4,0)),"-" ) -> - | V28: =IFERROR(IF('Установка скидки'!$M$1=FALSE,D28*(1-$T$1)/'Всп лист'!$B$2,ROUNDUP(D28*(1-$T$1)/'Всп лист'!$C$3*'Всп лист'!$B$3*'Всп лист'!$B$4,0)),"-" ) -> - | W28: =IFERROR(IF('Установка скидки'!$M$1=FALSE,E28*(1-$T$1)/'Всп лист'!$B$2,ROUNDUP(E28*(1-$T$1)/'Всп лист'!$C$3*'Всп лист'!$B$3*'Всп лист'!$B$4,0)),"-" ) -> 1517 | X28: =IFERROR(IF('Установка скидки'!$M$1=FALSE,F28*(1-$T$1)/'Всп лист'!$B$2,ROUNDUP(F28*(1-$T$1)/'Всп лист'!$C$3*'Всп лист'!$B$3*'Всп лист'!$B$4,0)),"-" ) -> 1581 | Y28: =IFERROR(IF('Установка скидки'!$M$1=FALSE,G28*(1-$T$1)/'Всп лист'!$B$2,ROUNDUP(G28*(1-$T$1)/'Всп лист'!$C$3*'Всп лист'!$B$3*'Всп лист'!$B$4,0)),"-" ) -> - | Z28: =IFERROR(IF('Установка скидки'!$M$1=FALSE,H28*(1-$T$1)/'Всп лист'!$B$2,ROUNDUP(H28*(1-$T$1)/'Всп лист'!$C$3*'Всп лист'!$B$3*'Всп лист'!$B$4,0)),"-" ) -> 1708 | AA28: =IFERROR(IF('Установка скидки'!$M$1=FALSE,I28*(1-$T$1)/'Всп лист'!$B$2,ROUNDUP(I28*(1-$T$1)/'Всп лист'!$C$3*'Всп лист'!$B$3*'Всп лист'!$B$4,0)),"-" ) -> - | ... AG28: =IFERROR(IF('Установка скидки'!$M$1=FALSE,O28*(1-$T$1)/'Всп лист'!$B$2,ROUNDUP(O28*(1-$T$1)/'Всп лист'!$C$3*'Всп лист'!$B$3*'Всп лист'!$B$4,0)),"-" ) -> 3520
A29: Труба L250 ТМ-Р (430-0,5) | B29: 277 | C29: 328 | D29: 353 | E29: 355 | F29: 370 | G29: 385 | H29: 393 | I29: 406 | J29: 421 | K29: 449 | L29: 502 | M29: - | N29: - | O29: 727 | S29: Труба L250 ТМ-Р (430-0,5) | T29: =IFERROR(IF('Установка скидки'!$M$1=FALSE,B29*(1-$T$1)/'Всп лист'!$B$2,ROUNDUP(B29*(1-$T$1)/'Всп лист'!$C$3*'Всп лист'!$B$3*'Всп лист'!$B$4,0)),"-" ) -> 277 | U29: =IFERROR(IF('Установка скидки'!$M$1=FALSE,C29*(1-$T$1)/'Всп лист'!$B$2,ROUNDUP(C29*(1-$T$1)/'Всп лист'!$C$3*'Всп лист'!$B$3*'Всп лист'!$B$4,0)),"-" ) -> 328 | V29: =IFERROR(IF('Установка скидки'!$M$1=FALSE,D29*(1-$T$1)/'Всп лист'!$B$2,ROUNDUP(D29*(1-$T$1)/'Всп лист'!$C$3*'Всп лист'!$B$3*'Всп лист'!$B$4,0)),"-" ) -> 353 | W29: =IFERROR(IF('Установка скидки'!$M$1=FALSE,E29*(1-$T$1)/'Всп лист'!$B$2,ROUNDUP(E29*(1-$T$1)/'Всп лист'!$C$3*'Всп лист'!$B$3*'Всп лист'!$B$4,0)),"-" ) -> 355 | X29: =IFERROR(IF('Установка скидки'!$M$1=FALSE,F29*(1-$T$1)/'Всп лист'!$B$2,ROUNDUP(F29*(1-$T$1)/'Всп лист'!$C$3*'Всп лист'!$B$3*'Всп лист'!$B$4,0)),"-" ) -> 370 | Y29: =IFERROR(IF('Установка скидки'!$M$1=FALSE,G29*(1-$T$1)/'Всп лист'!$B$2,ROUNDUP(G29*(1-$T$1)/'Всп лист'!$C$3*'Всп лист'!$B$3*'Всп лист'!$B$4,0)),"-" ) -> 385 | Z29: =IFERROR(IF('Установка скидки'!$M$1=FALSE,H29*(1-$T$1)/'Всп лист'!$B$2,ROUNDUP(H29*(1-$T$1)/'Всп лист'!$C$3*'Всп лист'!$B$3*'Всп лист'!$B$4,0)),"-" ) -> 393 | AA29: =IFERROR(IF('Установка скидки'!$M$1=FALSE,I29*(1-$T$1)/'Всп лист'!$B$2,ROUNDUP(I29*(1-$T$1)/'Всп лист'!$C$3*'Всп лист'!$B$3*'Всп лист'!$B$4,0)),"-" ) -> 406 | ... AG29: =IFERROR(IF('Установка скидки'!$M$1=FALSE,O29*(1-$T$1)/'Всп лист'!$B$2,ROUNDUP(O29*(1-$T$1)/'Всп лист'!$C$3*'Всп лист'!$B$3*'Всп лист'!$B$4,0)),"-" ) -> 727
A30: Труба L250 ТМ-Р (430-0,8) | B30: - | C30: - | D30: - | E30: 545 | F30: 566 | G30: - | H30: 607 | I30: - | J30: - | K30: 701 | L30: - | M30: 820 | N30: 902 | O30: 1162 | S30: Труба L250 ТМ-Р (430-0,8) | T30: =IFERROR(IF('Установка скидки'!$M$1=FALSE,B30*(1-$T$1)/'Всп лист'!$B$2,ROUNDUP(B30*(1-$T$1)/'Всп лист'!$C$3*'Всп лист'!$B$3*'Всп лист'!$B$4,0)),"-" ) -> - | U30: =IFERROR(IF('Установка скидки'!$M$1=FALSE,C30*(1-$T$1)/'Всп лист'!$B$2,ROUNDUP(C30*(1-$T$1)/'Всп лист'!$C$3*'Всп лист'!$B$3*'Всп лист'!$B$4,0)),"-" ) -> - | V30: =IFERROR(IF('Установка скидки'!$M$1=FALSE,D30*(1-$T$1)/'Всп лист'!$B$2,ROUNDUP(D30*(1-$T$1)/'Всп лист'!$C$3*'Всп лист'!$B$3*'Всп лист'!$B$4,0)),"-" ) -> - | W30: =IFERROR(IF('Установка скидки'!$M$1=FALSE,E30*(1-$T$1)/'Всп лист'!$B$2,ROUNDUP(E30*(1-$T$1)/'Всп лист'!$C$3*'Всп лист'!$B$3*'Всп лист'!$B$4,0)),"-" ) -> 545 | X30: =IFERROR(IF('Установка скидки'!$M$1=FALSE,F30*(1-$T$1)/'Всп лист'!$B$2,ROUNDUP(F30*(1-$T$1)/'Всп лист'!$C$3*'Всп лист'!$B$3*'Всп лист'!$B$4,0)),"-" ) -> 566 | Y30: =IFERROR(IF('Установка скидки'!$M$1=FALSE,G30*(1-$T$1)/'Всп лист'!$B$2,ROUNDUP(G30*(1-$T$1)/'Всп лист'!$C$3*'Всп лист'!$B$3*'Всп лист'!$B$4,0)),"-" ) -> - | Z30: =IFERROR(IF('Установка скидки'!$M$1=FALSE,H30*(1-$T$1)/'Всп лист'!$B$2,ROUNDUP(H30*(1-$T$1)/'Всп лист'!$C$3*'Всп лист'!$B$3*'Всп лист'!$B$4,0)),"-" ) -> 607 | AA30: =IFERROR(IF('Установка скидки'!$M$1=FALSE,I30*(1-$T$1)/'Всп лист'!$B$2,ROUNDUP(I30*(1-$T$1)/'Всп лист'!$C$3*'Всп лист'!$B$3*'Всп лист'!$B$4,0)),"-" ) -> - | ... AG30: =IFERROR(IF('Установка скидки'!$M$1=FALSE,O30*(1-$T$1)/'Всп лист'!$B$2,ROUNDUP(O30*(1-$T$1)/'Всп лист'!$C$3*'Всп лист'!$B$3*'Всп лист'!$B$4,0)),"-" ) -> 1162
A31: Труба L500 ТМ-Р (430-0,5) | B31: 486 | C31: 530 | D31: 578 | E31: 590 | F31: 615 | G31: 669 | H31: 664 | I31: 690 | J31: 717 | K31: 767 | L31: 858 | M31: 914 | N31: 1013 | O31: 1245 | S31: Труба L500 ТМ-Р (430-0,5) | T31: =IFERROR(IF('Установка скидки'!$M$1=FALSE,B31*(1-$T$1)/'Всп лист'!$B$2,ROUNDUP(B31*(1-$T$1)/'Всп лист'!$C$3*'Всп лист'!$B$3*'Всп лист'!$B$4,0)),"-" ) -> 486 | U31: =IFERROR(IF('Установка скидки'!$M$1=FALSE,C31*(1-$T$1)/'Всп лист'!$B$2,ROUNDUP(C31*(1-$T$1)/'Всп лист'!$C$3*'Всп лист'!$B$3*'Всп лист'!$B$4,0)),"-" ) -> 530 | V31: =IFERROR(IF('Установка скидки'!$M$1=FALSE,D31*(1-$T$1)/'Всп лист'!$B$2,ROUNDUP(D31*(1-$T$1)/'Всп лист'!$C$3*'Всп лист'!$B$3*'Всп лист'!$B$4,0)),"-" ) -> 578 | W31: =IFERROR(IF('Установка скидки'!$M$1=FALSE,E31*(1-$T$1)/'Всп лист'!$B$2,ROUNDUP(E31*(1-$T$1)/'Всп лист'!$C$3*'Всп лист'!$B$3*'Всп лист'!$B$4,0)),"-" ) -> 590 | X31: =IFERROR(IF('Установка скидки'!$M$1=FALSE,F31*(1-$T$1)/'Всп лист'!$B$2,ROUNDUP(F31*(1-$T$1)/'Всп лист'!$C$3*'Всп лист'!$B$3*'Всп лист'!$B$4,0)),"-" ) -> 615 | Y31: =IFERROR(IF('Установка скидки'!$M$1=FALSE,G31*(1-$T$1)/'Всп лист'!$B$2,ROUNDUP(G31*(1-$T$1)/'Всп лист'!$C$3*'Всп лист'!$B$3*'Всп лист'!$B$4,0)),"-" ) -> 669 | Z31: =IFERROR(IF('Установка скидки'!$M$1=FALSE,H31*(1-$T$1)/'Всп лист'!$B$2,ROUNDUP(H31*(1-$T$1)/'Всп лист'!$C$3*'Всп лист'!$B$3*'Всп лист'!$B$4,0)),"-" ) -> 664 | AA31: =IFERROR(IF('Установка скидки'!$M$1=FALSE,I31*(1-$T$1)/'Всп лист'!$B$2,ROUNDUP(I31*(1-$T$1)/'Всп лист'!$C$3*'Всп лист'!$B$3*'Всп лист'!$B$4,0)),"-" ) -> 690 | ... AG31: =IFERROR(IF('Установка скидки'!$M$1=FALSE,O31*(1-$T$1)/'Всп лист'!$B$2,ROUNDUP(O31*(1-$T$1)/'Всп лист'!$C$3*'Всп лист'!$B$3*'Всп лист'!$B$4,0)),"-" ) -> 1245
A32: Труба L500 ТМ-Р (430-0,8) | B32: - | C32: - | D32: - | E32: 1061 | F32: 1059 | G32: - | H32: 1144 | I32: - | J32: - | K32: 1321 | L32: - | M32: 1573 | N32: 1716 | O32: 2183 | S32: Труба L500 ТМ-Р (430-0,8) | T32: =IFERROR(IF('Установка скидки'!$M$1=FALSE,B32*(1-$T$1)/'Всп лист'!$B$2,ROUNDUP(B32*(1-$T$1)/'Всп лист'!$C$3*'Всп лист'!$B$3*'Всп лист'!$B$4,0)),"-" ) -> - | U32: =IFERROR(IF('Установка скидки'!$M$1=FALSE,C32*(1-$T$1)/'Всп лист'!$B$2,ROUNDUP(C32*(1-$T$1)/'Всп лист'!$C$3*'Всп лист'!$B$3*'Всп лист'!$B$4,0)),"-" ) -> - | V32: =IFERROR(IF('Установка скидки'!$M$1=FALSE,D32*(1-$T$1)/'Всп лист'!$B$2,ROUNDUP(D32*(1-$T$1)/'Всп лист'!$C$3*'Всп лист'!$B$3*'Всп лист'!$B$4,0)),"-" ) -> - | W32: =IFERROR(IF('Установка скидки'!$M$1=FALSE,E32*(1-$T$1)/'Всп лист'!$B$2,ROUNDUP(E32*(1-$T$1)/'Всп лист'!$C$3*'Всп лист'!$B$3*'Всп лист'!$B$4,0)),"-" ) -> 1061 | X32: =IFERROR(IF('Установка скидки'!$M$1=FALSE,F32*(1-$T$1)/'Всп лист'!$B$2,ROUNDUP(F32*(1-$T$1)/'Всп лист'!$C$3*'Всп лист'!$B$3*'Всп лист'!$B$4,0)),"-" ) -> 1059 | Y32: =IFERROR(IF('Установка скидки'!$M$1=FALSE,G32*(1-$T$1)/'Всп лист'!$B$2,ROUNDUP(G32*(1-$T$1)/'Всп лист'!$C$3*'Всп лист'!$B$3*'Всп лист'!$B$4,0)),"-" ) -> - | Z32: =IFERROR(IF('Установка скидки'!$M$1=FALSE,H32*(1-$T$1)/'Всп лист'!$B$2,ROUNDUP(H32*(1-$T$1)/'Всп лист'!$C$3*'Всп лист'!$B$3*'Всп лист'!$B$4,0)),"-" ) -> 1144 | AA32: =IFERROR(IF('Установка скидки'!$M$1=FALSE,I32*(1-$T$1)/'Всп лист'!$B$2,ROUNDUP(I32*(1-$T$1)/'Всп лист'!$C$3*'Всп лист'!$B$3*'Всп лист'!$B$4,0)),"-" ) -> - | ... AG32: =IFERROR(IF('Установка скидки'!$M$1=FALSE,O32*(1-$T$1)/'Всп лист'!$B$2,ROUNDUP(O32*(1-$T$1)/'Всп лист'!$C$3*'Всп лист'!$B$3*'Всп лист'!$B$4,0)),"-" ) -> 2183
A33: Шибер ШМ(М)-Р (430-0,5) | B33: 727 | C33: 839 | D33: - | E33: - | F33: - | G33: 1014 | H33: - | I33: 1096 | J33: 1138 | K33: - | L33: 1253 | M33: - | N33: - | O33: - | S33: Шибер ШМ(М)-Р (430-0,5) | T33: =IFERROR(IF('Установка скидки'!$M$1=FALSE,B33*(1-$T$1)/'Всп лист'!$B$2,ROUNDUP(B33*(1-$T$1)/'Всп лист'!$C$3*'Всп лист'!$B$3*'Всп лист'!$B$4,0)),"-" ) -> 727 | U33: =IFERROR(IF('Установка скидки'!$M$1=FALSE,C33*(1-$T$1)/'Всп лист'!$B$2,ROUNDUP(C33*(1-$T$1)/'Всп лист'!$C$3*'Всп лист'!$B$3*'Всп лист'!$B$4,0)),"-" ) -> 839 | V33: =IFERROR(IF('Установка скидки'!$M$1=FALSE,D33*(1-$T$1)/'Всп лист'!$B$2,ROUNDUP(D33*(1-$T$1)/'Всп лист'!$C$3*'Всп лист'!$B$3*'Всп лист'!$B$4,0)),"-" ) -> - | W33: =IFERROR(IF('Установка скидки'!$M$1=FALSE,E33*(1-$T$1)/'Всп лист'!$B$2,ROUNDUP(E33*(1-$T$1)/'Всп лист'!$C$3*'Всп лист'!$B$3*'Всп лист'!$B$4,0)),"-" ) -> - | X33: =IFERROR(IF('Установка скидки'!$M$1=FALSE,F33*(1-$T$1)/'Всп лист'!$B$2,ROUNDUP(F33*(1-$T$1)/'Всп лист'!$C$3*'Всп лист'!$B$3*'Всп лист'!$B$4,0)),"-" ) -> - | Y33: =IFERROR(IF('Установка скидки'!$M$1=FALSE,G33*(1-$T$1)/'Всп лист'!$B$2,ROUNDUP(G33*(1-$T$1)/'Всп лист'!$C$3*'Всп лист'!$B$3*'Всп лист'!$B$4,0)),"-" ) -> 1014 | Z33: =IFERROR(IF('Установка скидки'!$M$1=FALSE,H33*(1-$T$1)/'Всп лист'!$B$2,ROUNDUP(H33*(1-$T$1)/'Всп лист'!$C$3*'Всп лист'!$B$3*'Всп лист'!$B$4,0)),"-" ) -> - | AA33: =IFERROR(IF('Установка скидки'!$M$1=FALSE,I33*(1-$T$1)/'Всп лист'!$B$2,ROUNDUP(I33*(1-$T$1)/'Всп лист'!$C$3*'Всп лист'!$B$3*'Всп лист'!$B$4,0)),"-" ) -> 1096 | ... AG33: =IFERROR(IF('Установка скидки'!$M$1=FALSE,O33*(1-$T$1)/'Всп лист'!$B$2,ROUNDUP(O33*(1-$T$1)/'Всп лист'!$C$3*'Всп лист'!$B$3*'Всп лист'!$B$4,0)),"-" ) -> -
A34: Шибер ШМ(М)-Р (430-0,8) | B34: - | C34: - | D34: 1141 | E34: 1168 | F34: 1221 | G34: - | H34: 1315 | I34: - | J34: - | K34: 1473 | L34: - | M34: 1748 | N34: 2105 | O34: 2808 | S34: Шибер ШМ(М)-Р (430-0,8) | T34: =IFERROR(IF('Установка скидки'!$M$1=FALSE,B34*(1-$T$1)/'Всп лист'!$B$2,ROUNDUP(B34*(1-$T$1)/'Всп лист'!$C$3*'Всп лист'!$B$3*'Всп лист'!$B$4,0)),"-" ) -> - | U34: =IFERROR(IF('Установка скидки'!$M$1=FALSE,C34*(1-$T$1)/'Всп лист'!$B$2,ROUNDUP(C34*(1-$T$1)/'Всп лист'!$C$3*'Всп лист'!$B$3*'Всп лист'!$B$4,0)),"-" ) -> - | V34: =IFERROR(IF('Установка скидки'!$M$1=FALSE,D34*(1-$T$1)/'Всп лист'!$B$2,ROUNDUP(D34*(1-$T$1)/'Всп лист'!$C$3*'Всп лист'!$B$3*'Всп лист'!$B$4,0)),"-" ) -> 1141 | W34: =IFERROR(IF('Установка скидки'!$M$1=FALSE,E34*(1-$T$1)/'Всп лист'!$B$2,ROUNDUP(E34*(1-$T$1)/'Всп лист'!$C$3*'Всп лист'!$B$3*'Всп лист'!$B$4,0)),"-" ) -> 1168 | X34: =IFERROR(IF('Установка скидки'!$M$1=FALSE,F34*(1-$T$1)/'Всп лист'!$B$2,ROUNDUP(F34*(1-$T$1)/'Всп лист'!$C$3*'Всп лист'!$B$3*'Всп лист'!$B$4,0)),"-" ) -> 1221 | Y34: =IFERROR(IF('Установка скидки'!$M$1=FALSE,G34*(1-$T$1)/'Всп лист'!$B$2,ROUNDUP(G34*(1-$T$1)/'Всп лист'!$C$3*'Всп лист'!$B$3*'Всп лист'!$B$4,0)),"-" ) -> - | Z34: =IFERROR(IF('Установка скидки'!$M$1=FALSE,H34*(1-$T$1)/'Всп лист'!$B$2,ROUNDUP(H34*(1-$T$1)/'Всп лист'!$C$3*'Всп лист'!$B$3*'Всп лист'!$B$4,0)),"-" ) -> 1315 | AA34: =IFERROR(IF('Установка скидки'!$M$1=FALSE,I34*(1-$T$1)/'Всп лист'!$B$2,ROUNDUP(I34*(1-$T$1)/'Всп лист'!$C$3*'Всп лист'!$B$3*'Всп лист'!$B$4,0)),"-" ) -> - | ... AG34: =IFERROR(IF('Установка скидки'!$M$1=FALSE,O34*(1-$T$1)/'Всп лист'!$B$2,ROUNDUP(O34*(1-$T$1)/'Всп лист'!$C$3*'Всп лист'!$B$3*'Всп лист'!$B$4,0)),"-" ) -> 2808
A35: Шибер-задвижка (430-0,8) | B35: - | C35: - | D35: - | E35: 2029 | F35: 2062 | G35: - | H35: - | I35: - | J35: - | K35: - | L35: - | M35: - | N35: - | O35: - | S35: Шибер-задвижка (430-0,8) | T35: =IFERROR(IF('Установка скидки'!$M$1=FALSE,B35*(1-$T$1)/'Всп лист'!$B$2,ROUNDUP(B35*(1-$T$1)/'Всп лист'!$C$3*'Всп лист'!$B$3*'Всп лист'!$B$4,0)),"-" ) -> - | U35: =IFERROR(IF('Установка скидки'!$M$1=FALSE,C35*(1-$T$1)/'Всп лист'!$B$2,ROUNDUP(C35*(1-$T$1)/'Всп лист'!$C$3*'Всп лист'!$B$3*'Всп лист'!$B$4,0)),"-" ) -> - | V35: =IFERROR(IF('Установка скидки'!$M$1=FALSE,D35*(1-$T$1)/'Всп лист'!$B$2,ROUNDUP(D35*(1-$T$1)/'Всп лист'!$C$3*'Всп лист'!$B$3*'Всп лист'!$B$4,0)),"-" ) -> - | W35: =IFERROR(IF('Установка скидки'!$M$1=FALSE,E35*(1-$T$1)/'Всп лист'!$B$2,ROUNDUP(E35*(1-$T$1)/'Всп лист'!$C$3*'Всп лист'!$B$3*'Всп лист'!$B$4,0)),"-" ) -> 2029 | X35: =IFERROR(IF('Установка скидки'!$M$1=FALSE,F35*(1-$T$1)/'Всп лист'!$B$2,ROUNDUP(F35*(1-$T$1)/'Всп лист'!$C$3*'Всп лист'!$B$3*'Всп лист'!$B$4,0)),"-" ) -> 2062 | Y35: =IFERROR(IF('Установка скидки'!$M$1=FALSE,G35*(1-$T$1)/'Всп лист'!$B$2,ROUNDUP(G35*(1-$T$1)/'Всп лист'!$C$3*'Всп лист'!$B$3*'Всп лист'!$B$4,0)),"-" ) -> - | Z35: =IFERROR(IF('Установка скидки'!$M$1=FALSE,H35*(1-$T$1)/'Всп лист'!$B$2,ROUNDUP(H35*(1-$T$1)/'Всп лист'!$C$3*'Всп лист'!$B$3*'Всп лист'!$B$4,0)),"-" ) -> - | AA35: =IFERROR(IF('Установка скидки'!$M$1=FALSE,I35*(1-$T$1)/'Всп лист'!$B$2,ROUNDUP(I35*(1-$T$1)/'Всп лист'!$C$3*'Всп лист'!$B$3*'Всп лист'!$B$4,0)),"-" ) -> - | ... AG35: =IFERROR(IF('Установка скидки'!$M$1=FALSE,O35*(1-$T$1)/'Всп лист'!$B$2,ROUNDUP(O35*(1-$T$1)/'Всп лист'!$C$3*'Всп лист'!$B$3*'Всп лист'!$B$4,0)),"-" ) -> -
A36: Заглушка ревизии Моно (430-0,5) | B36: 248 | C36: 275 | D36: 294 | E36: 295 | F36: 308 | G36: - | H36: 332 | I36: - | J36: - | K36: 378 | L36: 422 | M36: 472 | N36: 523 | O36: 664 | S36: Заглушка ревизии Моно (430-0,5) | T36: =IFERROR(IF('Установка скидки'!$M$1=FALSE,B36*(1-$T$1)/'Всп лист'!$B$2,ROUNDUP(B36*(1-$T$1)/'Всп лист'!$C$3*'Всп лист'!$B$3*'Всп лист'!$B$4,0)),"-" ) -> 248 | U36: =IFERROR(IF('Установка скидки'!$M$1=FALSE,C36*(1-$T$1)/'Всп лист'!$B$2,ROUNDUP(C36*(1-$T$1)/'Всп лист'!$C$3*'Всп лист'!$B$3*'Всп лист'!$B$4,0)),"-" ) -> 275 | V36: =IFERROR(IF('Установка скидки'!$M$1=FALSE,D36*(1-$T$1)/'Всп лист'!$B$2,ROUNDUP(D36*(1-$T$1)/'Всп лист'!$C$3*'Всп лист'!$B$3*'Всп лист'!$B$4,0)),"-" ) -> 294 | W36: =IFERROR(IF('Установка скидки'!$M$1=FALSE,E36*(1-$T$1)/'Всп лист'!$B$2,ROUNDUP(E36*(1-$T$1)/'Всп лист'!$C$3*'Всп лист'!$B$3*'Всп лист'!$B$4,0)),"-" ) -> 295 | X36: =IFERROR(IF('Установка скидки'!$M$1=FALSE,F36*(1-$T$1)/'Всп лист'!$B$2,ROUNDUP(F36*(1-$T$1)/'Всп лист'!$C$3*'Всп лист'!$B$3*'Всп лист'!$B$4,0)),"-" ) -> 308 | Y36: =IFERROR(IF('Установка скидки'!$M$1=FALSE,G36*(1-$T$1)/'Всп лист'!$B$2,ROUNDUP(G36*(1-$T$1)/'Всп лист'!$C$3*'Всп лист'!$B$3*'Всп лист'!$B$4,0)),"-" ) -> - | Z36: =IFERROR(IF('Установка скидки'!$M$1=FALSE,H36*(1-$T$1)/'Всп лист'!$B$2,ROUNDUP(H36*(1-$T$1)/'Всп лист'!$C$3*'Всп лист'!$B$3*'Всп лист'!$B$4,0)),"-" ) -> 332 | AA36: =IFERROR(IF('Установка скидки'!$M$1=FALSE,I36*(1-$T$1)/'Всп лист'!$B$2,ROUNDUP(I36*(1-$T$1)/'Всп лист'!$C$3*'Всп лист'!$B$3*'Всп лист'!$B$4,0)),"-" ) -> - | ... AG36: =IFERROR(IF('Установка скидки'!$M$1=FALSE,O36*(1-$T$1)/'Всп лист'!$B$2,ROUNDUP(O36*(1-$T$1)/'Всп лист'!$C$3*'Всп лист'!$B$3*'Всп лист'!$B$4,0)),"-" ) -> 664
A37: Заглушка ревизии Моно (по дыму) (430-0,5) | B37: --- | C37: 302 | D37: 330 | E37: 332 | F37: 346 | G37: - | H37: 374 | I37: 384 | J37: - | K37: 390 | L37: 436 | M37: - | N37: 540 | O37: - | S37: Заглушка ревизии Моно (по дыму) (430-0,5) | T37: =IFERROR(IF('Установка скидки'!$M$1=FALSE,B37*(1-$T$1)/'Всп лист'!$B$2,ROUNDUP(B37*(1-$T$1)/'Всп лист'!$C$3*'Всп лист'!$B$3*'Всп лист'!$B$4,0)),"-" ) -> - | U37: =IFERROR(IF('Установка скидки'!$M$1=FALSE,C37*(1-$T$1)/'Всп лист'!$B$2,ROUNDUP(C37*(1-$T$1)/'Всп лист'!$C$3*'Всп лист'!$B$3*'Всп лист'!$B$4,0)),"-" ) -> 302 | V37: =IFERROR(IF('Установка скидки'!$M$1=FALSE,D37*(1-$T$1)/'Всп лист'!$B$2,ROUNDUP(D37*(1-$T$1)/'Всп лист'!$C$3*'Всп лист'!$B$3*'Всп лист'!$B$4,0)),"-" ) -> 330 | W37: =IFERROR(IF('Установка скидки'!$M$1=FALSE,E37*(1-$T$1)/'Всп лист'!$B$2,ROUNDUP(E37*(1-$T$1)/'Всп лист'!$C$3*'Всп лист'!$B$3*'Всп лист'!$B$4,0)),"-" ) -> 332 | X37: =IFERROR(IF('Установка скидки'!$M$1=FALSE,F37*(1-$T$1)/'Всп лист'!$B$2,ROUNDUP(F37*(1-$T$1)/'Всп лист'!$C$3*'Всп лист'!$B$3*'Всп лист'!$B$4,0)),"-" ) -> 346 | Y37: =IFERROR(IF('Установка скидки'!$M$1=FALSE,G37*(1-$T$1)/'Всп лист'!$B$2,ROUNDUP(G37*(1-$T$1)/'Всп лист'!$C$3*'Всп лист'!$B$3*'Всп лист'!$B$4,0)),"-" ) -> - | Z37: =IFERROR(IF('Установка скидки'!$M$1=FALSE,H37*(1-$T$1)/'Всп лист'!$B$2,ROUNDUP(H37*(1-$T$1)/'Всп лист'!$C$3*'Всп лист'!$B$3*'Всп лист'!$B$4,0)),"-" ) -> 374 | AA37: =IFERROR(IF('Установка скидки'!$M$1=FALSE,I37*(1-$T$1)/'Всп лист'!$B$2,ROUNDUP(I37*(1-$T$1)/'Всп лист'!$C$3*'Всп лист'!$B$3*'Всп лист'!$B$4,0)),"-" ) -> 384 | ... AG37: =IFERROR(IF('Установка скидки'!$M$1=FALSE,O37*(1-$T$1)/'Всп лист'!$B$2,ROUNDUP(O37*(1-$T$1)/'Всп лист'!$C$3*'Всп лист'!$B$3*'Всп лист'!$B$4,0)),"-" ) -> -
A38: Конденсатоотвод Моно (430-0,5) | B38: 403 | C38: 408 | D38: 445 | E38: 447 | F38: 466 | G38: - | H38: 473 | I38: 495 | J38: 512 | K38: 531 | L38: 541 | M38: 605 | N38: 670 | O38: 851 | S38: Конденсатоотвод Моно (430-0,5) | T38: =IFERROR(IF('Установка скидки'!$M$1=FALSE,B38*(1-$T$1)/'Всп лист'!$B$2,ROUNDUP(B38*(1-$T$1)/'Всп лист'!$C$3*'Всп лист'!$B$3*'Всп лист'!$B$4,0)),"-" ) -> 403 | U38: =IFERROR(IF('Установка скидки'!$M$1=FALSE,C38*(1-$T$1)/'Всп лист'!$B$2,ROUNDUP(C38*(1-$T$1)/'Всп лист'!$C$3*'Всп лист'!$B$3*'Всп лист'!$B$4,0)),"-" ) -> 408 | V38: =IFERROR(IF('Установка скидки'!$M$1=FALSE,D38*(1-$T$1)/'Всп лист'!$B$2,ROUNDUP(D38*(1-$T$1)/'Всп лист'!$C$3*'Всп лист'!$B$3*'Всп лист'!$B$4,0)),"-" ) -> 445 | W38: =IFERROR(IF('Установка скидки'!$M$1=FALSE,E38*(1-$T$1)/'Всп лист'!$B$2,ROUNDUP(E38*(1-$T$1)/'Всп лист'!$C$3*'Всп лист'!$B$3*'Всп лист'!$B$4,0)),"-" ) -> 447 | X38: =IFERROR(IF('Установка скидки'!$M$1=FALSE,F38*(1-$T$1)/'Всп лист'!$B$2,ROUNDUP(F38*(1-$T$1)/'Всп лист'!$C$3*'Всп лист'!$B$3*'Всп лист'!$B$4,0)),"-" ) -> 466 | Y38: =IFERROR(IF('Установка скидки'!$M$1=FALSE,G38*(1-$T$1)/'Всп лист'!$B$2,ROUNDUP(G38*(1-$T$1)/'Всп лист'!$C$3*'Всп лист'!$B$3*'Всп лист'!$B$4,0)),"-" ) -> - | Z38: =IFERROR(IF('Установка скидки'!$M$1=FALSE,H38*(1-$T$1)/'Всп лист'!$B$2,ROUNDUP(H38*(1-$T$1)/'Всп лист'!$C$3*'Всп лист'!$B$3*'Всп лист'!$B$4,0)),"-" ) -> 473 | AA38: =IFERROR(IF('Установка скидки'!$M$1=FALSE,I38*(1-$T$1)/'Всп лист'!$B$2,ROUNDUP(I38*(1-$T$1)/'Всп лист'!$C$3*'Всп лист'!$B$3*'Всп лист'!$B$4,0)),"-" ) -> 495 | ... AG38: =IFERROR(IF('Установка скидки'!$M$1=FALSE,O38*(1-$T$1)/'Всп лист'!$B$2,ROUNDUP(O38*(1-$T$1)/'Всп лист'!$C$3*'Всп лист'!$B$3*'Всп лист'!$B$4,0)),"-" ) -> 851
A40: Изделия входят в складскую программу (срок отгрузки до 7 дней) | S40: Изделия входят в складскую программу (срок отгрузки до 7 дней)
A41: Выделенные цветом изделия являются распродажными(выбирать только при наличии на складе) | S41: Выделенным цветом изделия являются распродажными (выбирать только при наличии на складе)
S43: Производство изделий не входящих в складскую программу требует дополнительного согласования
A44: Продукция сертифицирована: Пож.серт. (обязательная сертификация) № С-.RU.ПБ 37.В.00073; Гост Р № РОСС RU.АЮ 31.НО 976; ТУ № 9695- 001-80115295 - 2008
S45: Продукция сертифицирована
A46: Ваши предложения и нарекания на качество продукции и обслуживания просьба отправлять на эл почту pk@teplov.ru. Производитель гарантирует качественную работу дымохода при правильно выбранной покупателем марке стали, иных параметров изделий, соблюдении требований, правил монтажа и эксплуатации дымохода и тепловой установки. | S46: Пож.серт. (обязательная сертификация) № С-.RU.ПБ 37.В.00073
S47: Гост Р № РОСС RU.АЮ 31.НО 9761
S48: ТУ № 5263-001-80115295-2011
A49: См. инструкция по монтажу и эксплуатации дымоходов "Теплов и Сухов" WWW.TEPLOV.RU | S49: Ваши предложения и нарекания на качество продукции и обслуживания просьба отправлять на эл почту pk@teplov.ru
S50: Производитель гарантирует качественную работу дымохода при правильно выбранной покупателем марке стали, иных параметров изделий, соблюдении требований, правил монтажа и экслуатации дымохода и тепловой установки. См. инструкция по монтажу и эксплуатации дымоходов "Теплов и Сухов" WWW.TEPLOV.RU

Sheet Феррит Термо (430)
R1: Размер скидки | S1: ='Установка скидки'!$G$11 -> 0 | AC1: =IF('Установка скидки'!$M$1=FALSE,'Всп лист'!$A$7,'Всп лист'!$A$8) -> Цены указаны в руб. с НДС
A5: Система Термо
A6: Наименование / Диаметр | B6: 80/140 | C6: 100/160 | D6: 110/180 | E6: 115/180 | F6: 115/200 | G6: 120/180 | H6: 120/200 | I6: 130/190 | J6: 130/200 | K6: 150/210 | L6: 180/240 | M6: 200/260 | N6: 200/280 | O6: 250/310 | R6: Наименование / Диаметр | S6: 80/140 | T6: 100/160 | U6: 110/180 | V6: 115/180 | W6: 115/200 | X6: 120/180 | Y6: 120/200 | Z6: 130/190 | AA6: 130/200 | AB6: 150/210 | AC6: 180/240 | AD6: 200/260 | AE6: 200/280 | AF6: 250/310
A7: Зонт-Конус Термо (430-0,5/430) | B7: - | C7: 1405 | D7: 1456 | E7: 1487 | F7: 1510 | G7: 1490 | H7: 1519 | I7: - | J7: 1524 | K7: 1595 | L7: 2094 | M7: 2121 | N7: 2246 | O7: 2887 | R7: Зонт-Конус Термо (430-0,5/430) | S7: =IFERROR(IF('Установка скидки'!$M$1=FALSE,B7*(1-$S$1)/'Всп лист'!$B$2,ROUNDUP(B7*(1-$S$1)/'Всп лист'!$C$3*'Всп лист'!$B$3*'Всп лист'!$B$4,0)),"-" ) -> - | T7: =IFERROR(IF('Установка скидки'!$M$1=FALSE,C7*(1-$S$1)/'Всп лист'!$B$2,ROUNDUP(C7*(1-$S$1)/'Всп лист'!$C$3*'Всп лист'!$B$3*'Всп лист'!$B$4,0)),"-" ) -> 1405 | U7: =IFERROR(IF('Установка скидки'!$M$1=FALSE,D7*(1-$S$1)/'Всп лист'!$B$2,ROUNDUP(D7*(1-$S$1)/'Всп лист'!$C$3*'Всп лист'!$B$3*'Всп лист'!$B$4,0)),"-" ) -> 1456 | V7: =IFERROR(IF('Установка скидки'!$M$1=FALSE,E7*(1-$S$1)/'Всп лист'!$B$2,ROUNDUP(E7*(1-$S$1)/'Всп лист'!$C$3*'Всп лист'!$B$3*'Всп лист'!$B$4,0)),"-" ) -> 1487 | W7: =IFERROR(IF('Установка скидки'!$M$1=FALSE,F7*(1-$S$1)/'Всп лист'!$B$2,ROUNDUP(F7*(1-$S$1)/'Всп лист'!$C$3*'Всп лист'!$B$3*'Всп лист'!$B$4,0)),"-" ) -> 1510 | X7: =IFERROR(IF('Установка скидки'!$M$1=FALSE,G7*(1-$S$1)/'Всп лист'!$B$2,ROUNDUP(G7*(1-$S$1)/'Всп лист'!$C$3*'Всп лист'!$B$3*'Всп лист'!$B$4,0)),"-" ) -> 1490 | Y7: =IFERROR(IF('Установка скидки'!$M$1=FALSE,H7*(1-$S$1)/'Всп лист'!$B$2,ROUNDUP(H7*(1-$S$1)/'Всп лист'!$C$3*'Всп лист'!$B$3*'Всп лист'!$B$4,0)),"-" ) -> 1519 | Z7: =IFERROR(IF('Установка скидки'!$M$1=FALSE,I7*(1-$S$1)/'Всп лист'!$B$2,ROUNDUP(I7*(1-$S$1)/'Всп лист'!$C$3*'Всп лист'!$B$3*'Всп лист'!$B$4,0)),"-" ) -> - | ... AF7: =IFERROR(IF('Установка скидки'!$M$1=FALSE,O7*(1-$S$1)/'Всп лист'!$B$2,ROUNDUP(O7*(1-$S$1)/'Всп лист'!$C$3*'Всп лист'!$B$3*'Всп лист'!$B$4,0)),"-" ) -> 2887
A8: Конус Термо КТ-Р (430-0,5/430) | B8: 983 | C8: 1147 | D8: 1290 | E8: 1301 | F8: 1380 | G8: 1337 | H8: 1400 | I8: - | J8: 1420 | K8: 1548 | L8: 1665 | M8: 1786 | N8: 2100 | O8: 2905 | R8: Конус Термо КТ-Р (430-0,5/430) | S8: =IFERROR(IF('Установка скидки'!$M$1=FALSE,B8*(1-$S$1)/'Всп лист'!$B$2,ROUNDUP(B8*(1-$S$1)/'Всп лист'!$C$3*'Всп лист'!$B$3*'Всп лист'!$B$4,0)),"-" ) -> 983 | T8: =IFERROR(IF('Установка скидки'!$M$1=FALSE,C8*(1-$S$1)/'Всп лист'!$B$2,ROUNDUP(C8*(1-$S$1)/'Всп лист'!$C$3*'Всп лист'!$B$3*'Всп лист'!$B$4,0)),"-" ) -> 1147 | U8: =IFERROR(IF('Установка скидки'!$M$1=FALSE,D8*(1-$S$1)/'Всп лист'!$B$2,ROUNDUP(D8*(1-$S$1)/'Всп лист'!$C$3*'Всп лист'!$B$3*'Всп лист'!$B$4,0)),"-" ) -> 1290 | V8: =IFERROR(IF('Установка скидки'!$M$1=FALSE,E8*(1-$S$1)/'Всп лист'!$B$2,ROUNDUP(E8*(1-$S$1)/'Всп лист'!$C$3*'Всп лист'!$B$3*'Всп лист'!$B$4,0)),"-" ) -> 1301 | W8: =IFERROR(IF('Установка скидки'!$M$1=FALSE,F8*(1-$S$1)/'Всп лист'!$B$2,ROUNDUP(F8*(1-$S$1)/'Всп лист'!$C$3*'Всп лист'!$B$3*'Всп лист'!$B$4,0)),"-" ) -> 1380 | X8: =IFERROR(IF('Установка скидки'!$M$1=FALSE,G8*(1-$S$1)/'Всп лист'!$B$2,ROUNDUP(G8*(1-$S$1)/'Всп лист'!$C$3*'Всп лист'!$B$3*'Всп лист'!$B$4,0)),"-" ) -> 1337 | Y8: =IFERROR(IF('Установка скидки'!$M$1=FALSE,H8*(1-$S$1)/'Всп лист'!$B$2,ROUNDUP(H8*(1-$S$1)/'Всп лист'!$C$3*'Всп лист'!$B$3*'Всп лист'!$B$4,0)),"-" ) -> 1400 | Z8: =IFERROR(IF('Установка скидки'!$M$1=FALSE,I8*(1-$S$1)/'Всп лист'!$B$2,ROUNDUP(I8*(1-$S$1)/'Всп лист'!$C$3*'Всп лист'!$B$3*'Всп лист'!$B$4,0)),"-" ) -> - | ... AF8: =IFERROR(IF('Установка скидки'!$M$1=FALSE,O8*(1-$S$1)/'Всп лист'!$B$2,ROUNDUP(O8*(1-$S$1)/'Всп лист'!$C$3*'Всп лист'!$B$3*'Всп лист'!$B$4,0)),"-" ) -> 2905
A9: Отвод Термо 45* ОТ-Р (430-0,5/оц.) | B9: - | C9: 1964 | D9: 2021 | E9: 2014 | F9: 2024 | G9: 2025 | H9: 2063 | I9: - | J9: 2145 | K9: 2177 | L9: 2658 | M9: 2618 | N9: - | O9: - | R9: Отвод Термо 45* ОТ-Р (430-0,5/оц.) | S9: =IFERROR(IF('Установка скидки'!$M$1=FALSE,B9*(1-$S$1)/'Всп лист'!$B$2,ROUNDUP(B9*(1-$S$1)/'Всп лист'!$C$3*'Всп лист'!$B$3*'Всп лист'!$B$4,0)),"-" ) -> - | T9: =IFERROR(IF('Установка скидки'!$M$1=FALSE,C9*(1-$S$1)/'Всп лист'!$B$2,ROUNDUP(C9*(1-$S$1)/'Всп лист'!$C$3*'Всп лист'!$B$3*'Всп лист'!$B$4,0)),"-" ) -> 1964 | U9: =IFERROR(IF('Установка скидки'!$M$1=FALSE,D9*(1-$S$1)/'Всп лист'!$B$2,ROUNDUP(D9*(1-$S$1)/'Всп лист'!$C$3*'Всп лист'!$B$3*'Всп лист'!$B$4,0)),"-" ) -> 2021 | V9: =IFERROR(IF('Установка скидки'!$M$1=FALSE,E9*(1-$S$1)/'Всп лист'!$B$2,ROUNDUP(E9*(1-$S$1)/'Всп лист'!$C$3*'Всп лист'!$B$3*'Всп лист'!$B$4,0)),"-" ) -> 2014 | W9: =IFERROR(IF('Установка скидки'!$M$1=FALSE,F9*(1-$S$1)/'Всп лист'!$B$2,ROUNDUP(F9*(1-$S$1)/'Всп лист'!$C$3*'Всп лист'!$B$3*'Всп лист'!$B$4,0)),"-" ) -> 2024 | X9: =IFERROR(IF('Установка скидки'!$M$1=FALSE,G9*(1-$S$1)/'Всп лист'!$B$2,ROUNDUP(G9*(1-$S$1)/'Всп лист'!$C$3*'Всп лист'!$B$3*'Всп лист'!$B$4,0)),"-" ) -> 2025 | Y9: =IFERROR(IF('Установка скидки'!$M$1=FALSE,H9*(1-$S$1)/'Всп лист'!$B$2,ROUNDUP(H9*(1-$S$1)/'Всп лист'!$C$3*'Всп лист'!$B$3*'Всп лист'!$B$4,0)),"-" ) -> 2063 | Z9: =IFERROR(IF('Установка скидки'!$M$1=FALSE,I9*(1-$S$1)/'Всп лист'!$B$2,ROUNDUP(I9*(1-$S$1)/'Всп лист'!$C$3*'Всп лист'!$B$3*'Всп лист'!$B$4,0)),"-" ) -> - | ... AF9: =IFERROR(IF('Установка скидки'!$M$1=FALSE,O9*(1-$S$1)/'Всп лист'!$B$2,ROUNDUP(O9*(1-$S$1)/'Всп лист'!$C$3*'Всп лист'!$B$3*'Всп лист'!$B$4,0)),"-" ) -> -
